BEGIN:VCALENDAR
VERSION:2.0
PRODID:-//MI WIC Events - ECPv6.15.15//NONSGML v1.0//EN
CALSCALE:GREGORIAN
METHOD:PUBLISH
X-ORIGINAL-URL:https://miwicevents.com
X-WR-CALDESC:Events for MI WIC Events
REFRESH-INTERVAL;VALUE=DURATION:PT1H
X-Robots-Tag:noindex
X-PUBLISHED-TTL:PT1H
BEGIN:VTIMEZONE
TZID:America/Detroit
BEGIN:DAYLIGHT
TZOFFSETFROM:-0500
TZOFFSETTO:-0400
TZNAME:EDT
DTSTART:20250309T070000
END:DAYLIGHT
BEGIN:STANDARD
TZOFFSETFROM:-0400
TZOFFSETTO:-0500
TZNAME:EST
DTSTART:20251102T060000
END:STANDARD
BEGIN:DAYLIGHT
TZOFFSETFROM:-0500
TZOFFSETTO:-0400
TZNAME:EDT
DTSTART:20260308T070000
END:DAYLIGHT
BEGIN:STANDARD
TZOFFSETFROM:-0400
TZOFFSETTO:-0500
TZNAME:EST
DTSTART:20261101T060000
END:STANDARD
BEGIN:DAYLIGHT
TZOFFSETFROM:-0500
TZOFFSETTO:-0400
TZNAME:EDT
DTSTART:20270314T070000
END:DAYLIGHT
BEGIN:STANDARD
TZOFFSETFROM:-0400
TZOFFSETTO:-0500
TZNAME:EST
DTSTART:20271107T060000
END:STANDARD
END:VTIMEZONE
BEGIN:VEVENT
DTSTART;TZID=America/Detroit:20260910T100000
DTEND;TZID=America/Detroit:20260910T120000
DTSTAMP:20260419T223318
CREATED:20250723T125107Z
LAST-MODIFIED:20250723T125107Z
UID:6488-1789034400-1789041600@miwicevents.com
SUMMARY:Nutrition Education Workgroup – September 10\, 2026
DESCRIPTION:
URL:https://miwicevents.com/event/nutrition-education-workgroup-september-10-2026/
LOCATION:Virtual
END:VEVENT
BEGIN:VEVENT
DTSTART;TZID=America/Detroit:20260911T090000
DTEND;TZID=America/Detroit:20260911T120000
DTSTAMP:20260419T223318
CREATED:20250723T130952Z
LAST-MODIFIED:20250723T130952Z
UID:6505-1789117200-1789128000@miwicevents.com
SUMMARY:Promotion and Retention Workgroup – September 11\, 2026
DESCRIPTION:
URL:https://miwicevents.com/event/promotion-and-retention-workgroup-september-11-2026/
LOCATION:Virtual
END:VEVENT
BEGIN:VEVENT
DTSTART;TZID=America/Detroit:20260915T083000
DTEND;TZID=America/Detroit:20260916T123000
DTSTAMP:20260419T223318
CREATED:20250722T191138Z
LAST-MODIFIED:20250722T191138Z
UID:6429-1789461000-1789561800@miwicevents.com
SUMMARY:Breastfeeding Basics for Clerical and Tech Staff – September 15-16\, 2026
DESCRIPTION:
URL:https://miwicevents.com/event/breastfeeding-basics-for-clerical-and-tech-staff-september-15-16-2026/
LOCATION:In-Person – TBD
END:VEVENT
BEGIN:VEVENT
DTSTART;TZID=America/Detroit:20260915T083000
DTEND;TZID=America/Detroit:20260917T123000
DTSTAMP:20260419T223318
CREATED:20250722T191308Z
LAST-MODIFIED:20250722T191308Z
UID:6430-1789461000-1789648200@miwicevents.com
SUMMARY:Breastfeeding Basics for PC/CPA/Other – September 15-17\, 2026
DESCRIPTION:
URL:https://miwicevents.com/event/breastfeeding-basics-for-pc-cpa-other-september-15-17-2026/
LOCATION:In-Person – TBD
END:VEVENT
BEGIN:VEVENT
DTSTART;TZID=America/Detroit:20260923T080000
DTEND;TZID=America/Detroit:20260924T160000
DTSTAMP:20260419T223318
CREATED:20250722T195157Z
LAST-MODIFIED:20250722T195323Z
UID:6465-1790150400-1790265600@miwicevents.com
SUMMARY:CPA Training – September 23-24\, 2026
DESCRIPTION:
URL:https://miwicevents.com/event/cpa-training-september-23-24-2026/
LOCATION:Lansing\, MI
END:VEVENT
END:VCALENDAR