BEGIN:VCALENDAR
VERSION:2.0
PRODID:-//MI WIC Events - ECPv6.15.15//NONSGML v1.0//EN
CALSCALE:GREGORIAN
METHOD:PUBLISH
X-WR-CALNAME:MI WIC Events
X-ORIGINAL-URL:https://miwicevents.com
X-WR-CALDESC:Events for MI WIC Events
REFRESH-INTERVAL;VALUE=DURATION:PT1H
X-Robots-Tag:noindex
X-PUBLISHED-TTL:PT1H
BEGIN:VTIMEZONE
TZID:America/Detroit
BEGIN:DAYLIGHT
TZOFFSETFROM:-0500
TZOFFSETTO:-0400
TZNAME:EDT
DTSTART:20230312T070000
END:DAYLIGHT
BEGIN:STANDARD
TZOFFSETFROM:-0400
TZOFFSETTO:-0500
TZNAME:EST
DTSTART:20231105T060000
END:STANDARD
BEGIN:DAYLIGHT
TZOFFSETFROM:-0500
TZOFFSETTO:-0400
TZNAME:EDT
DTSTART:20240310T070000
END:DAYLIGHT
BEGIN:STANDARD
TZOFFSETFROM:-0400
TZOFFSETTO:-0500
TZNAME:EST
DTSTART:20241103T060000
END:STANDARD
BEGIN:DAYLIGHT
TZOFFSETFROM:-0500
TZOFFSETTO:-0400
TZNAME:EDT
DTSTART:20250309T070000
END:DAYLIGHT
BEGIN:STANDARD
TZOFFSETFROM:-0400
TZOFFSETTO:-0500
TZNAME:EST
DTSTART:20251102T060000
END:STANDARD
END:VTIMEZONE
BEGIN:VEVENT
DTSTART;TZID=America/Detroit:20241106T083000
DTEND;TZID=America/Detroit:20241107T123000
DTSTAMP:20260419T145524
CREATED:20240823T171610Z
LAST-MODIFIED:20240823T171610Z
UID:5693-1730881800-1730982600@miwicevents.com
SUMMARY:Clerical Training – November 6-7\, 2024
DESCRIPTION:
URL:https://miwicevents.com/event/clerical-training-november-6-7-2024/
LOCATION:Virtual
END:VEVENT
BEGIN:VEVENT
DTSTART;TZID=America/Detroit:20241107T090000
DTEND;TZID=America/Detroit:20241107T150000
DTSTAMP:20260419T145524
CREATED:20240823T184715Z
LAST-MODIFIED:20240823T184715Z
UID:5761-1730970000-1730991600@miwicevents.com
SUMMARY:Regional Peer Counselor Training (Northern) – November 7\, 2024
DESCRIPTION:
URL:https://miwicevents.com/event/regional-peer-counselor-training-northern-november-7-2024/
LOCATION:Gaylord\, MI
END:VEVENT
BEGIN:VEVENT
DTSTART;TZID=America/Detroit:20241107T093000
DTEND;TZID=America/Detroit:20241107T110000
DTSTAMP:20260419T145524
CREATED:20240904T174021Z
LAST-MODIFIED:20240904T174021Z
UID:5831-1730971800-1730977200@miwicevents.com
SUMMARY:MI-WIC Release 9.9 – November 7\, 2024
DESCRIPTION:
URL:https://miwicevents.com/event/mi-wic-release-9-9-november-7-2024/
LOCATION:Webcast
END:VEVENT
BEGIN:VEVENT
DTSTART;TZID=America/Detroit:20241108T090000
DTEND;TZID=America/Detroit:20241108T150000
DTSTAMP:20260419T145524
CREATED:20240823T184801Z
LAST-MODIFIED:20240823T184801Z
UID:5762-1731056400-1731078000@miwicevents.com
SUMMARY:Regional Peer Counselor Training (South Central) – November 8\, 2024
DESCRIPTION:
URL:https://miwicevents.com/event/regional-peer-counselor-training-south-central-november-8-2024/
LOCATION:Lansing\, MI
END:VEVENT
BEGIN:VEVENT
DTSTART;TZID=America/Detroit:20241112T083000
DTEND;TZID=America/Detroit:20241113T123000
DTSTAMP:20260419T145524
CREATED:20240816T193824Z
LAST-MODIFIED:20240816T193824Z
UID:5639-1731400200-1731501000@miwicevents.com
SUMMARY:Breastfeeding Basics for Clerical and Tech Staff – November 12-13\, 2024
DESCRIPTION:
URL:https://miwicevents.com/event/breastfeeding-basics-for-clerical-and-tech-staff-november-12-13-2024/
LOCATION:Virtual
END:VEVENT
BEGIN:VEVENT
DTSTART;TZID=America/Detroit:20241112T083000
DTEND;TZID=America/Detroit:20241114T123000
DTSTAMP:20260419T145524
CREATED:20240816T193927Z
LAST-MODIFIED:20240816T193927Z
UID:5640-1731400200-1731587400@miwicevents.com
SUMMARY:Breastfeeding Basics for PC/CPA/Other – November 12-14\, 2024
DESCRIPTION:
URL:https://miwicevents.com/event/breastfeeding-basics-for-pc-cpa-other-november-12-14-2024/
LOCATION:Virtual
END:VEVENT
BEGIN:VEVENT
DTSTART;TZID=America/Detroit:20241114T090000
DTEND;TZID=America/Detroit:20241114T150000
DTSTAMP:20260419T145524
CREATED:20240823T184847Z
LAST-MODIFIED:20240823T184847Z
UID:5763-1731574800-1731596400@miwicevents.com
SUMMARY:Regional Peer Counselor Training (Southwest) – November 14\, 2024
DESCRIPTION:
URL:https://miwicevents.com/event/regional-peer-counselor-training-southwest-november-14-2024/
LOCATION:Hastings\, MI
END:VEVENT
BEGIN:VEVENT
DTSTART;TZID=America/Detroit:20241114T100000
DTEND;TZID=America/Detroit:20241114T150000
DTSTAMP:20260419T145524
CREATED:20240823T180414Z
LAST-MODIFIED:20240823T180414Z
UID:5738-1731578400-1731596400@miwicevents.com
SUMMARY:Mentors Among Us: The Advanced CPA – November 14\, 2024
DESCRIPTION:
URL:https://miwicevents.com/event/mentors-among-us-the-advanced-cpa-november-14-2024/
LOCATION:Virtual
END:VEVENT
END:VCALENDAR