BEGIN:VCALENDAR
VERSION:2.0
PRODID:-//MI WIC Events - ECPv6.15.15//NONSGML v1.0//EN
CALSCALE:GREGORIAN
METHOD:PUBLISH
X-WR-CALNAME:MI WIC Events
X-ORIGINAL-URL:https://miwicevents.com
X-WR-CALDESC:Events for MI WIC Events
REFRESH-INTERVAL;VALUE=DURATION:PT1H
X-Robots-Tag:noindex
X-PUBLISHED-TTL:PT1H
BEGIN:VTIMEZONE
TZID:America/Detroit
BEGIN:DAYLIGHT
TZOFFSETFROM:-0500
TZOFFSETTO:-0400
TZNAME:EDT
DTSTART:20230312T070000
END:DAYLIGHT
BEGIN:STANDARD
TZOFFSETFROM:-0400
TZOFFSETTO:-0500
TZNAME:EST
DTSTART:20231105T060000
END:STANDARD
BEGIN:DAYLIGHT
TZOFFSETFROM:-0500
TZOFFSETTO:-0400
TZNAME:EDT
DTSTART:20240310T070000
END:DAYLIGHT
BEGIN:STANDARD
TZOFFSETFROM:-0400
TZOFFSETTO:-0500
TZNAME:EST
DTSTART:20241103T060000
END:STANDARD
BEGIN:DAYLIGHT
TZOFFSETFROM:-0500
TZOFFSETTO:-0400
TZNAME:EDT
DTSTART:20250309T070000
END:DAYLIGHT
BEGIN:STANDARD
TZOFFSETFROM:-0400
TZOFFSETTO:-0500
TZNAME:EST
DTSTART:20251102T060000
END:STANDARD
END:VTIMEZONE
BEGIN:VEVENT
DTSTART;TZID=America/Detroit:20240604T100000
DTEND;TZID=America/Detroit:20240604T110000
DTSTAMP:20260420T001332
CREATED:20230830T180101Z
LAST-MODIFIED:20230830T180101Z
UID:4977-1717495200-1717498800@miwicevents.com
SUMMARY:WIC Connect Platform Training – June 4\, 2024
DESCRIPTION:
URL:https://miwicevents.com/event/wic-connect-platform-training-june-4-2024/
LOCATION:Virtual
END:VEVENT
BEGIN:VEVENT
DTSTART;TZID=America/Detroit:20240604T130000
DTEND;TZID=America/Detroit:20240604T140000
DTSTAMP:20260420T001332
CREATED:20230830T180138Z
LAST-MODIFIED:20230830T180138Z
UID:4978-1717506000-1717509600@miwicevents.com
SUMMARY:WIC Connect Platform Training – June 4\, 2024
DESCRIPTION:
URL:https://miwicevents.com/event/wic-connect-platform-training-june-4-2024-2/
LOCATION:Virtual
END:VEVENT
BEGIN:VEVENT
DTSTART;TZID=America/Detroit:20240611T083000
DTEND;TZID=America/Detroit:20240612T123000
DTSTAMP:20260420T001332
CREATED:20230809T192854Z
LAST-MODIFIED:20230814T135423Z
UID:4780-1718094600-1718195400@miwicevents.com
SUMMARY:Breastfeeding Basics for Clerical and Tech Staff – June 11-12\, 2024
DESCRIPTION:
URL:https://miwicevents.com/event/breastfeeding-basics-for-clerical-and-tech-staff-june-11-12-2024/
LOCATION:Virtual
END:VEVENT
BEGIN:VEVENT
DTSTART;TZID=America/Detroit:20240611T083000
DTEND;TZID=America/Detroit:20240613T123000
DTSTAMP:20260420T001332
CREATED:20230809T193011Z
LAST-MODIFIED:20230814T135442Z
UID:4782-1718094600-1718281800@miwicevents.com
SUMMARY:Breastfeeding Basics for PC/CPA/Other – June 11-13\, 2024
DESCRIPTION:
URL:https://miwicevents.com/event/breastfeeding-basics-for-pc-cpa-other-june-11-13-2024/
LOCATION:Virtual
END:VEVENT
BEGIN:VEVENT
DTSTART;TZID=America/Detroit:20240613T100000
DTEND;TZID=America/Detroit:20240613T120000
DTSTAMP:20260420T001332
CREATED:20230810T174056Z
LAST-MODIFIED:20230810T174056Z
UID:4866-1718272800-1718280000@miwicevents.com
SUMMARY:Nutrition Education Workgroup – June 13\, 2024
DESCRIPTION:
URL:https://miwicevents.com/event/nutrition-education-workgroup-june-13-2024/
LOCATION:Virtual
END:VEVENT
BEGIN:VEVENT
DTSTART;TZID=America/Detroit:20240617T083000
DTEND;TZID=America/Detroit:20240617T123000
DTSTAMP:20260420T001332
CREATED:20230809T175759Z
LAST-MODIFIED:20230809T175759Z
UID:4770-1718613000-1718627400@miwicevents.com
SUMMARY:Anthropometric Training – June 17\, 2024
DESCRIPTION:
URL:https://miwicevents.com/event/anthropometric-training-june-17-2024/
LOCATION:Virtual
END:VEVENT
BEGIN:VEVENT
DTSTART;TZID=America/Detroit:20240618T083000
DTEND;TZID=America/Detroit:20240618T123000
DTSTAMP:20260420T001332
CREATED:20230818T133651Z
LAST-MODIFIED:20230818T133651Z
UID:4935-1718699400-1718713800@miwicevents.com
SUMMARY:Laboratory Training – June 18\, 2024
DESCRIPTION:
URL:https://miwicevents.com/event/laboratory-training-june-18-2024/
LOCATION:Virtual
END:VEVENT
END:VCALENDAR