BEGIN:VCALENDAR
VERSION:2.0
PRODID:-//MI WIC Events - ECPv6.15.15//NONSGML v1.0//EN
CALSCALE:GREGORIAN
METHOD:PUBLISH
X-ORIGINAL-URL:https://miwicevents.com
X-WR-CALDESC:Events for MI WIC Events
REFRESH-INTERVAL;VALUE=DURATION:PT1H
X-Robots-Tag:noindex
X-PUBLISHED-TTL:PT1H
BEGIN:VTIMEZONE
TZID:America/Detroit
BEGIN:DAYLIGHT
TZOFFSETFROM:-0500
TZOFFSETTO:-0400
TZNAME:EDT
DTSTART:20230312T070000
END:DAYLIGHT
BEGIN:STANDARD
TZOFFSETFROM:-0400
TZOFFSETTO:-0500
TZNAME:EST
DTSTART:20231105T060000
END:STANDARD
BEGIN:DAYLIGHT
TZOFFSETFROM:-0500
TZOFFSETTO:-0400
TZNAME:EDT
DTSTART:20240310T070000
END:DAYLIGHT
BEGIN:STANDARD
TZOFFSETFROM:-0400
TZOFFSETTO:-0500
TZNAME:EST
DTSTART:20241103T060000
END:STANDARD
BEGIN:DAYLIGHT
TZOFFSETFROM:-0500
TZOFFSETTO:-0400
TZNAME:EDT
DTSTART:20250309T070000
END:DAYLIGHT
BEGIN:STANDARD
TZOFFSETFROM:-0400
TZOFFSETTO:-0500
TZNAME:EST
DTSTART:20251102T060000
END:STANDARD
END:VTIMEZONE
BEGIN:VEVENT
DTSTART;TZID=America/Detroit:20240409T083000
DTEND;TZID=America/Detroit:20240409T123000
DTSTAMP:20260420T035941
CREATED:20230809T194449Z
LAST-MODIFIED:20230809T194449Z
UID:4800-1712651400-1712665800@miwicevents.com
SUMMARY:Breastfeeding Coordinator Training - April 9\, 2024
DESCRIPTION:
URL:https://miwicevents.com/event/breastfeeding-coordinator-training-april-9-2024/
LOCATION:TBD
END:VEVENT
BEGIN:VEVENT
DTSTART;TZID=America/Detroit:20240410T083000
DTEND;TZID=America/Detroit:20240410T120000
DTSTAMP:20260420T035941
CREATED:20230810T131128Z
LAST-MODIFIED:20240320T124412Z
UID:4809-1712737800-1712750400@miwicevents.com
SUMMARY:Peer Counselor Manager Training – April 10\, 2024
DESCRIPTION:
URL:https://miwicevents.com/event/peer-counselor-manager-training-april-10-2024/
LOCATION:Virtual
END:VEVENT
BEGIN:VEVENT
DTSTART;TZID=America/Detroit:20240411T093000
DTEND;TZID=America/Detroit:20240411T110000
DTSTAMP:20260420T035941
CREATED:20240201T191228Z
LAST-MODIFIED:20240201T191228Z
UID:5278-1712827800-1712833200@miwicevents.com
SUMMARY:Exploring the Bengali Culture – April 11\, 2024
DESCRIPTION:
URL:https://miwicevents.com/event/exploring-the-bengali-culture-april-11-2024/
LOCATION:Webcast
END:VEVENT
BEGIN:VEVENT
DTSTART;TZID=America/Detroit:20240416T090000
DTEND;TZID=America/Detroit:20240416T160000
DTSTAMP:20260420T035941
CREATED:20230817T190142Z
LAST-MODIFIED:20230817T190142Z
UID:4925-1713258000-1713283200@miwicevents.com
SUMMARY:Clerical Training – April 16\, 2024
DESCRIPTION:
URL:https://miwicevents.com/event/clerical-training-april-16-2024/
LOCATION:Lansing\, MI
END:VEVENT
BEGIN:VEVENT
DTSTART;TZID=America/Detroit:20240417T100000
DTEND;TZID=America/Detroit:20240417T150000
DTSTAMP:20260420T035941
CREATED:20230810T173320Z
LAST-MODIFIED:20230810T173320Z
UID:4858-1713348000-1713366000@miwicevents.com
SUMMARY:Mentors Among Us: The Advanced CPA – April 17\, 2024
DESCRIPTION:
URL:https://miwicevents.com/event/mentors-among-us-the-advanced-cpa-april-17-2024/
LOCATION:Virtual
END:VEVENT
BEGIN:VEVENT
DTSTART;TZID=America/Detroit:20240418T140000
DTEND;TZID=America/Detroit:20240418T150000
DTSTAMP:20260420T035941
CREATED:20230810T151246Z
LAST-MODIFIED:20230810T151246Z
UID:4831-1713448800-1713452400@miwicevents.com
SUMMARY:Clerk/Tech Workgroup – April 18\, 2024
DESCRIPTION:
URL:https://miwicevents.com/event/clerk-tech-workgroup-april-18-2024/
LOCATION:Virtual
END:VEVENT
BEGIN:VEVENT
DTSTART;TZID=America/Detroit:20240419T080000
DTEND;TZID=America/Detroit:20240419T120000
DTSTAMP:20260420T035941
CREATED:20230810T132120Z
LAST-MODIFIED:20230810T132120Z
UID:4814-1713513600-1713528000@miwicevents.com
SUMMARY:Breastfeeding Workgroup – April 19\, 2024
DESCRIPTION:
URL:https://miwicevents.com/event/breastfeeding-workgroup-april-19-2024/
LOCATION:Virtual
END:VEVENT
BEGIN:VEVENT
DTSTART;TZID=America/Detroit:20240423T080000
DTEND;TZID=America/Detroit:20240423T113000
DTSTAMP:20260420T035941
CREATED:20230810T130046Z
LAST-MODIFIED:20230810T130047Z
UID:4802-1713859200-1713871800@miwicevents.com
SUMMARY:Milk Expression – April 23\, 2024
DESCRIPTION:
URL:https://miwicevents.com/event/milk-expression-april-23-2024/
LOCATION:TBD
END:VEVENT
BEGIN:VEVENT
DTSTART;TZID=America/Detroit:20240425T093000
DTEND;TZID=America/Detroit:20240425T110000
DTSTAMP:20260420T035941
CREATED:20240320T131429Z
LAST-MODIFIED:20240320T131429Z
UID:5379-1714037400-1714042800@miwicevents.com
SUMMARY:Corrective Action Plan for MEs – April 25\, 2024
DESCRIPTION:
URL:https://miwicevents.com/event/corrective-action-plan-for-mes-april-25-2024/
LOCATION:Webcast
END:VEVENT
BEGIN:VEVENT
DTSTART;TZID=America/Detroit:20240430T083000
DTEND;TZID=America/Detroit:20240501T123000
DTSTAMP:20260420T035941
CREATED:20230810T154131Z
LAST-MODIFIED:20230810T154131Z
UID:4845-1714465800-1714566600@miwicevents.com
SUMMARY:CPA Training – April 30-May 1\, 2024
DESCRIPTION:
URL:https://miwicevents.com/event/cpa-training-april-30-may-1-2024/
LOCATION:Virtual
END:VEVENT
END:VCALENDAR