BEGIN:VCALENDAR
VERSION:2.0
PRODID:-//MI WIC Events - ECPv6.15.15//NONSGML v1.0//EN
CALSCALE:GREGORIAN
METHOD:PUBLISH
X-WR-CALNAME:MI WIC Events
X-ORIGINAL-URL:https://miwicevents.com
X-WR-CALDESC:Events for MI WIC Events
REFRESH-INTERVAL;VALUE=DURATION:PT1H
X-Robots-Tag:noindex
X-PUBLISHED-TTL:PT1H
BEGIN:VTIMEZONE
TZID:America/Detroit
BEGIN:DAYLIGHT
TZOFFSETFROM:-0500
TZOFFSETTO:-0400
TZNAME:EDT
DTSTART:20230312T070000
END:DAYLIGHT
BEGIN:STANDARD
TZOFFSETFROM:-0400
TZOFFSETTO:-0500
TZNAME:EST
DTSTART:20231105T060000
END:STANDARD
BEGIN:DAYLIGHT
TZOFFSETFROM:-0500
TZOFFSETTO:-0400
TZNAME:EDT
DTSTART:20240310T070000
END:DAYLIGHT
BEGIN:STANDARD
TZOFFSETFROM:-0400
TZOFFSETTO:-0500
TZNAME:EST
DTSTART:20241103T060000
END:STANDARD
BEGIN:DAYLIGHT
TZOFFSETFROM:-0500
TZOFFSETTO:-0400
TZNAME:EDT
DTSTART:20250309T070000
END:DAYLIGHT
BEGIN:STANDARD
TZOFFSETFROM:-0400
TZOFFSETTO:-0500
TZNAME:EST
DTSTART:20251102T060000
END:STANDARD
END:VTIMEZONE
BEGIN:VEVENT
DTSTART;TZID=America/Detroit:20240131T083000
DTEND;TZID=America/Detroit:20240201T123000
DTSTAMP:20260420T073601
CREATED:20230810T153848Z
LAST-MODIFIED:20230810T153848Z
UID:4844-1706689800-1706790600@miwicevents.com
SUMMARY:CPA Training – January 31-February 1\, 2024
DESCRIPTION:
URL:https://miwicevents.com/event/cpa-training-january-31-february-1-2024/
LOCATION:Virtual
END:VEVENT
BEGIN:VEVENT
DTSTART;TZID=America/Detroit:20240207T083000
DTEND;TZID=America/Detroit:20240208T123000
DTSTAMP:20260420T073601
CREATED:20230817T185733Z
LAST-MODIFIED:20230817T185733Z
UID:4922-1707294600-1707395400@miwicevents.com
SUMMARY:Clerical Training – February 7-8\, 2024
DESCRIPTION:
URL:https://miwicevents.com/event/clerical-training-february-7-8-2024/
LOCATION:Virtual
END:VEVENT
BEGIN:VEVENT
DTSTART;TZID=America/Detroit:20240208T093000
DTEND;TZID=America/Detroit:20240208T110000
DTSTAMP:20260420T073601
CREATED:20231212T143057Z
LAST-MODIFIED:20240129T194316Z
UID:5191-1707384600-1707390000@miwicevents.com
SUMMARY:2024 Management Evaluation Webcast – February 8\, 2024
DESCRIPTION:
URL:https://miwicevents.com/event/2024-management-evaluation-webcast-february-8-2024/
LOCATION:Webcast
END:VEVENT
BEGIN:VEVENT
DTSTART;TZID=America/Detroit:20240221T100000
DTEND;TZID=America/Detroit:20240221T150000
DTSTAMP:20260420T073601
CREATED:20230810T173242Z
LAST-MODIFIED:20230810T173242Z
UID:4857-1708509600-1708527600@miwicevents.com
SUMMARY:Mentors Among Us: The Advanced CPA – February 21\, 2024
DESCRIPTION:
URL:https://miwicevents.com/event/mentors-among-us-the-advanced-cpa-february-21-2024/
LOCATION:Virtual
END:VEVENT
BEGIN:VEVENT
DTSTART;TZID=America/Detroit:20240229T093000
DTEND;TZID=America/Detroit:20240229T110000
DTSTAMP:20260420T073601
CREATED:20240201T191116Z
LAST-MODIFIED:20240201T191116Z
UID:5279-1709199000-1709204400@miwicevents.com
SUMMARY:wichealth 2024: Updates and New Features – February 29\, 2024
DESCRIPTION:
URL:https://miwicevents.com/event/wichealth-2024-updates-and-new-features-february-29-2024/
LOCATION:Webcast
END:VEVENT
END:VCALENDAR