BEGIN:VCALENDAR
VERSION:2.0
PRODID:-//MI WIC Events - ECPv6.15.15//NONSGML v1.0//EN
CALSCALE:GREGORIAN
METHOD:PUBLISH
X-WR-CALNAME:MI WIC Events
X-ORIGINAL-URL:https://miwicevents.com
X-WR-CALDESC:Events for MI WIC Events
REFRESH-INTERVAL;VALUE=DURATION:PT1H
X-Robots-Tag:noindex
X-PUBLISHED-TTL:PT1H
BEGIN:VTIMEZONE
TZID:America/Detroit
BEGIN:DAYLIGHT
TZOFFSETFROM:-0500
TZOFFSETTO:-0400
TZNAME:EDT
DTSTART:20220313T070000
END:DAYLIGHT
BEGIN:STANDARD
TZOFFSETFROM:-0400
TZOFFSETTO:-0500
TZNAME:EST
DTSTART:20221106T060000
END:STANDARD
BEGIN:DAYLIGHT
TZOFFSETFROM:-0500
TZOFFSETTO:-0400
TZNAME:EDT
DTSTART:20230312T070000
END:DAYLIGHT
BEGIN:STANDARD
TZOFFSETFROM:-0400
TZOFFSETTO:-0500
TZNAME:EST
DTSTART:20231105T060000
END:STANDARD
BEGIN:DAYLIGHT
TZOFFSETFROM:-0500
TZOFFSETTO:-0400
TZNAME:EDT
DTSTART:20240310T070000
END:DAYLIGHT
BEGIN:STANDARD
TZOFFSETFROM:-0400
TZOFFSETTO:-0500
TZNAME:EST
DTSTART:20241103T060000
END:STANDARD
END:VTIMEZONE
BEGIN:VEVENT
DTSTART;TZID=America/Detroit:20230509T080000
DTEND;TZID=America/Detroit:20230510T170000
DTSTAMP:20260422T190721
CREATED:20220720T191046Z
LAST-MODIFIED:20230223T165600Z
UID:3821-1683619200-1683738000@miwicevents.com
SUMMARY:CPA Training – May 9-10\, 2023
DESCRIPTION:
URL:https://miwicevents.com/event/cpa-training-may-9-10-2023/
LOCATION:Hilton Garden Inn Lansing West
END:VEVENT
BEGIN:VEVENT
DTSTART;VALUE=DATE:20230523
DTEND;VALUE=DATE:20230525
DTSTAMP:20260422T190721
CREATED:20221130T183403Z
LAST-MODIFIED:20221130T183403Z
UID:4094-1684800000-1684972799@miwicevents.com
SUMMARY:WIC Training & Educational Conference – May 23-24\, 2023
DESCRIPTION:
URL:https://miwicevents.com/event/wic-training-educational-conference-may-23-24-2023/
LOCATION:Grand Rapids\, MI
END:VEVENT
END:VCALENDAR