BEGIN:VCALENDAR
VERSION:2.0
PRODID:-//MI WIC Events - ECPv6.15.15//NONSGML v1.0//EN
CALSCALE:GREGORIAN
METHOD:PUBLISH
X-ORIGINAL-URL:https://miwicevents.com
X-WR-CALDESC:Events for MI WIC Events
REFRESH-INTERVAL;VALUE=DURATION:PT1H
X-Robots-Tag:noindex
X-PUBLISHED-TTL:PT1H
BEGIN:VTIMEZONE
TZID:America/Detroit
BEGIN:DAYLIGHT
TZOFFSETFROM:-0500
TZOFFSETTO:-0400
TZNAME:EDT
DTSTART:20210314T070000
END:DAYLIGHT
BEGIN:STANDARD
TZOFFSETFROM:-0400
TZOFFSETTO:-0500
TZNAME:EST
DTSTART:20211107T060000
END:STANDARD
BEGIN:DAYLIGHT
TZOFFSETFROM:-0500
TZOFFSETTO:-0400
TZNAME:EDT
DTSTART:20220313T070000
END:DAYLIGHT
BEGIN:STANDARD
TZOFFSETFROM:-0400
TZOFFSETTO:-0500
TZNAME:EST
DTSTART:20221106T060000
END:STANDARD
BEGIN:DAYLIGHT
TZOFFSETFROM:-0500
TZOFFSETTO:-0400
TZNAME:EDT
DTSTART:20230312T070000
END:DAYLIGHT
BEGIN:STANDARD
TZOFFSETFROM:-0400
TZOFFSETTO:-0500
TZNAME:EST
DTSTART:20231105T060000
END:STANDARD
END:VTIMEZONE
BEGIN:VEVENT
DTSTART;TZID=America/Detroit:20220803T083000
DTEND;TZID=America/Detroit:20220804T123000
DTSTAMP:20260422T184430
CREATED:20210810T131337Z
LAST-MODIFIED:20210823T155715Z
UID:2142-1659515400-1659616200@miwicevents.com
SUMMARY:Clerical Training – August 3-4\, 2022
DESCRIPTION:
URL:https://miwicevents.com/event/clerical-training-august-3-4-2022/
LOCATION:TBD
END:VEVENT
BEGIN:VEVENT
DTSTART;TZID=America/Detroit:20220809T083000
DTEND;TZID=America/Detroit:20220809T163000
DTSTAMP:20260422T184430
CREATED:20210810T134038Z
LAST-MODIFIED:20220516T131337Z
UID:2162-1660033800-1660062600@miwicevents.com
SUMMARY:Laboratory Training – August 9\, 2022
DESCRIPTION:
URL:https://miwicevents.com/event/laboratory-training-august-9-2022/
LOCATION:Weber Hotel – Ann Arbor
END:VEVENT
BEGIN:VEVENT
DTSTART;TZID=America/Detroit:20220810T083000
DTEND;TZID=America/Detroit:20220810T160000
DTSTAMP:20260422T184430
CREATED:20210806T200213Z
LAST-MODIFIED:20220516T131820Z
UID:2132-1660120200-1660147200@miwicevents.com
SUMMARY:Anthropometric Training – August 10\, 2022
DESCRIPTION:
URL:https://miwicevents.com/event/anthropometric-training-august-10-2022/
LOCATION:Weber Hotel – Ann Arbor
END:VEVENT
BEGIN:VEVENT
DTSTART;TZID=America/Detroit:20220817T083000
DTEND;TZID=America/Detroit:20220818T123000
DTSTAMP:20260422T184430
CREATED:20210810T133028Z
LAST-MODIFIED:20210823T155950Z
UID:2153-1660725000-1660825800@miwicevents.com
SUMMARY:CPA Training – August 17-18\, 2022
DESCRIPTION:
URL:https://miwicevents.com/event/cpa-training-august-17-18-2022/
LOCATION:TBD
END:VEVENT
BEGIN:VEVENT
DTSTART;TZID=America/Detroit:20220824T093000
DTEND;TZID=America/Detroit:20220824T120000
DTSTAMP:20260422T184430
CREATED:20220622T193942Z
LAST-MODIFIED:20220720T175903Z
UID:3717-1661333400-1661342400@miwicevents.com
SUMMARY:MI WIC Release Webcast - Certification Enhancement Project Q&A – August 24\, 2022
DESCRIPTION:
URL:https://miwicevents.com/event/mi-wic-release-webcast-certification-enhancement-project-qa-august-24-2022/
LOCATION:Webcast
END:VEVENT
BEGIN:VEVENT
DTSTART;TZID=America/Detroit:20220829T140000
DTEND;TZID=America/Detroit:20220829T153000
DTSTAMP:20260422T184430
CREATED:20220427T144747Z
LAST-MODIFIED:20220427T150125Z
UID:3604-1661781600-1661787000@miwicevents.com
SUMMARY:2022 WIC Black Breastfeeding Week Celebration: Let's Talk About Black Breastfeeding in Michigan – August 29\, 2022
DESCRIPTION:
URL:https://miwicevents.com/event/2022-wic-black-breastfeeding-week-celebration-august-29-2022/
LOCATION:Webcast
END:VEVENT
END:VCALENDAR