BEGIN:VCALENDAR
VERSION:2.0
PRODID:-//MI WIC Events - ECPv6.15.15//NONSGML v1.0//EN
CALSCALE:GREGORIAN
METHOD:PUBLISH
X-ORIGINAL-URL:https://miwicevents.com
X-WR-CALDESC:Events for MI WIC Events
REFRESH-INTERVAL;VALUE=DURATION:PT1H
X-Robots-Tag:noindex
X-PUBLISHED-TTL:PT1H
BEGIN:VTIMEZONE
TZID:America/Detroit
BEGIN:DAYLIGHT
TZOFFSETFROM:-0500
TZOFFSETTO:-0400
TZNAME:EDT
DTSTART:20210314T070000
END:DAYLIGHT
BEGIN:STANDARD
TZOFFSETFROM:-0400
TZOFFSETTO:-0500
TZNAME:EST
DTSTART:20211107T060000
END:STANDARD
BEGIN:DAYLIGHT
TZOFFSETFROM:-0500
TZOFFSETTO:-0400
TZNAME:EDT
DTSTART:20220313T070000
END:DAYLIGHT
BEGIN:STANDARD
TZOFFSETFROM:-0400
TZOFFSETTO:-0500
TZNAME:EST
DTSTART:20221106T060000
END:STANDARD
BEGIN:DAYLIGHT
TZOFFSETFROM:-0500
TZOFFSETTO:-0400
TZNAME:EDT
DTSTART:20230312T070000
END:DAYLIGHT
BEGIN:STANDARD
TZOFFSETFROM:-0400
TZOFFSETTO:-0500
TZNAME:EST
DTSTART:20231105T060000
END:STANDARD
END:VTIMEZONE
BEGIN:VEVENT
DTSTART;TZID=America/Detroit:20220721T093000
DTEND;TZID=America/Detroit:20220721T120000
DTSTAMP:20260422T170249
CREATED:20220616T135951Z
LAST-MODIFIED:20220616T135951Z
UID:3713-1658395800-1658404800@miwicevents.com
SUMMARY:New WIC Coordinator Orientation and Training – July 21\, 2022
DESCRIPTION:
URL:https://miwicevents.com/event/new-wic-coordinator-orientation-and-training-july-21-2022/
LOCATION:Webcast
END:VEVENT
BEGIN:VEVENT
DTSTART;TZID=America/Detroit:20220726T090000
DTEND;TZID=America/Detroit:20220726T100000
DTSTAMP:20260422T170249
CREATED:20220523T180707Z
LAST-MODIFIED:20220523T183036Z
UID:3659-1658826000-1658829600@miwicevents.com
SUMMARY:What's New with WIC Client Connect? – July 26\, 2022
DESCRIPTION:
URL:https://miwicevents.com/event/whats-new-with-wic-client-connect-july-26-2022-am/
LOCATION:Webcast
END:VEVENT
BEGIN:VEVENT
DTSTART;TZID=America/Detroit:20220726T130000
DTEND;TZID=America/Detroit:20220726T140000
DTSTAMP:20260422T170249
CREATED:20220523T182958Z
LAST-MODIFIED:20220523T183050Z
UID:3664-1658840400-1658844000@miwicevents.com
SUMMARY:What's New with WIC Client Connect? – July 26\, 2022
DESCRIPTION:
URL:https://miwicevents.com/event/whats-new-with-wic-client-connect-july-26-2022-pm/
LOCATION:Webcast
END:VEVENT
BEGIN:VEVENT
DTSTART;TZID=America/Detroit:20220727T090000
DTEND;TZID=America/Detroit:20220727T100000
DTSTAMP:20260422T170249
CREATED:20220523T183156Z
LAST-MODIFIED:20220523T183211Z
UID:3668-1658912400-1658916000@miwicevents.com
SUMMARY:What's New with WIC Client Connect? – July 27\, 2022
DESCRIPTION:
URL:https://miwicevents.com/event/whats-new-with-wic-client-connect-july-27-2022-am/
LOCATION:Webcast
END:VEVENT
BEGIN:VEVENT
DTSTART;TZID=America/Detroit:20220727T130000
DTEND;TZID=America/Detroit:20220727T140000
DTSTAMP:20260422T170249
CREATED:20220523T183251Z
LAST-MODIFIED:20220523T183430Z
UID:3667-1658926800-1658930400@miwicevents.com
SUMMARY:What's New with WIC Client Connect? – July 27\, 2022
DESCRIPTION:
URL:https://miwicevents.com/event/whats-new-with-wic-client-connect-july-27-2022-pm/
LOCATION:Webcast
END:VEVENT
BEGIN:VEVENT
DTSTART;TZID=America/Detroit:20220728T090000
DTEND;TZID=America/Detroit:20220728T100000
DTSTAMP:20260422T170249
CREATED:20220523T183508Z
LAST-MODIFIED:20220523T183523Z
UID:3666-1658998800-1659002400@miwicevents.com
SUMMARY:What's New with WIC Client Connect? – July 28\, 2022
DESCRIPTION:
URL:https://miwicevents.com/event/whats-new-with-wic-client-connect-july-28-2022-am/
LOCATION:Webcast
END:VEVENT
BEGIN:VEVENT
DTSTART;TZID=America/Detroit:20220728T130000
DTEND;TZID=America/Detroit:20220728T140000
DTSTAMP:20260422T170249
CREATED:20220523T183602Z
LAST-MODIFIED:20220523T183615Z
UID:3665-1659013200-1659016800@miwicevents.com
SUMMARY:What's New with WIC Client Connect? – July 28\, 2022
DESCRIPTION:
URL:https://miwicevents.com/event/whats-new-with-wic-client-connect-july-28-2022-pm/
LOCATION:Webcast
END:VEVENT
END:VCALENDAR