BEGIN:VCALENDAR
VERSION:2.0
PRODID:-//MI WIC Events - ECPv6.15.15//NONSGML v1.0//EN
CALSCALE:GREGORIAN
METHOD:PUBLISH
X-ORIGINAL-URL:https://miwicevents.com
X-WR-CALDESC:Events for MI WIC Events
REFRESH-INTERVAL;VALUE=DURATION:PT1H
X-Robots-Tag:noindex
X-PUBLISHED-TTL:PT1H
BEGIN:VTIMEZONE
TZID:America/Detroit
BEGIN:DAYLIGHT
TZOFFSETFROM:-0500
TZOFFSETTO:-0400
TZNAME:EDT
DTSTART:20210314T070000
END:DAYLIGHT
BEGIN:STANDARD
TZOFFSETFROM:-0400
TZOFFSETTO:-0500
TZNAME:EST
DTSTART:20211107T060000
END:STANDARD
BEGIN:DAYLIGHT
TZOFFSETFROM:-0500
TZOFFSETTO:-0400
TZNAME:EDT
DTSTART:20220313T070000
END:DAYLIGHT
BEGIN:STANDARD
TZOFFSETFROM:-0400
TZOFFSETTO:-0500
TZNAME:EST
DTSTART:20221106T060000
END:STANDARD
BEGIN:DAYLIGHT
TZOFFSETFROM:-0500
TZOFFSETTO:-0400
TZNAME:EDT
DTSTART:20230312T070000
END:DAYLIGHT
BEGIN:STANDARD
TZOFFSETFROM:-0400
TZOFFSETTO:-0500
TZNAME:EST
DTSTART:20231105T060000
END:STANDARD
END:VTIMEZONE
BEGIN:VEVENT
DTSTART;TZID=America/Detroit:20220606T140000
DTEND;TZID=America/Detroit:20220606T150000
DTSTAMP:20260422T151741
CREATED:20220523T171659Z
LAST-MODIFIED:20220523T174207Z
UID:3653-1654524000-1654527600@miwicevents.com
SUMMARY:Vendor Training Webcast - June 6\, 2022
DESCRIPTION:
URL:https://miwicevents.com/event/vendor-training-webcast-june-6-2022/
LOCATION:Webcast
END:VEVENT
BEGIN:VEVENT
DTSTART;TZID=America/Detroit:20220614T083000
DTEND;TZID=America/Detroit:20220614T123000
DTSTAMP:20260422T151741
CREATED:20210810T133951Z
LAST-MODIFIED:20211012T133448Z
UID:2160-1655195400-1655209800@miwicevents.com
SUMMARY:Laboratory Training – June 14\, 2022
DESCRIPTION:
URL:https://miwicevents.com/event/laboratory-training-june-14-2022/
LOCATION:Virtual
END:VEVENT
BEGIN:VEVENT
DTSTART;TZID=America/Detroit:20220615T083000
DTEND;TZID=America/Detroit:20220615T123000
DTSTAMP:20260422T151741
CREATED:20210806T200125Z
LAST-MODIFIED:20211012T132932Z
UID:2130-1655281800-1655296200@miwicevents.com
SUMMARY:Anthropometric Training – June 15\, 2022
DESCRIPTION:
URL:https://miwicevents.com/event/anthropometric-training-june-15-2022/
LOCATION:Virtual
END:VEVENT
BEGIN:VEVENT
DTSTART;TZID=America/Detroit:20220621T083000
DTEND;TZID=America/Detroit:20220622T123000
DTSTAMP:20260422T151741
CREATED:20210810T142501Z
LAST-MODIFIED:20211012T133740Z
UID:2172-1655800200-1655901000@miwicevents.com
SUMMARY:Breastfeeding Basics for Clerical and Tech Staff – June 21-22\, 2022
DESCRIPTION:
URL:https://miwicevents.com/event/breastfeeding-basics-for-clerical-and-tech-staff-june-21-22-2022/
LOCATION:Virtual
END:VEVENT
BEGIN:VEVENT
DTSTART;TZID=America/Detroit:20220621T083000
DTEND;TZID=America/Detroit:20220623T123000
DTSTAMP:20260422T151741
CREATED:20210810T143219Z
LAST-MODIFIED:20211012T133719Z
UID:2182-1655800200-1655987400@miwicevents.com
SUMMARY:Breastfeeding Basics for PC/CPA/Other – June 21-23\, 2022
DESCRIPTION:
URL:https://miwicevents.com/event/breastfeeding-basics-for-pc-cpa-other-june-21-23-2022/
LOCATION:Virtual
END:VEVENT
BEGIN:VEVENT
DTSTART;TZID=America/Detroit:20220629T100000
DTEND;TZID=America/Detroit:20220629T150000
DTSTAMP:20260422T151741
CREATED:20210806T193027Z
LAST-MODIFIED:20210915T154719Z
UID:2116-1656496800-1656514800@miwicevents.com
SUMMARY:Mentors Among Us: The Advanced CPA – June 29\, 2022
DESCRIPTION:
URL:https://miwicevents.com/event/mentors-among-us-the-advanced-cpa-june-29-2022/
LOCATION:Virtual
END:VEVENT
END:VCALENDAR