BEGIN:VCALENDAR
VERSION:2.0
PRODID:-//MI WIC Events - ECPv6.15.15//NONSGML v1.0//EN
CALSCALE:GREGORIAN
METHOD:PUBLISH
X-WR-CALNAME:MI WIC Events
X-ORIGINAL-URL:https://miwicevents.com
X-WR-CALDESC:Events for MI WIC Events
REFRESH-INTERVAL;VALUE=DURATION:PT1H
X-Robots-Tag:noindex
X-PUBLISHED-TTL:PT1H
BEGIN:VTIMEZONE
TZID:America/Detroit
BEGIN:DAYLIGHT
TZOFFSETFROM:-0500
TZOFFSETTO:-0400
TZNAME:EDT
DTSTART:20210314T070000
END:DAYLIGHT
BEGIN:STANDARD
TZOFFSETFROM:-0400
TZOFFSETTO:-0500
TZNAME:EST
DTSTART:20211107T060000
END:STANDARD
BEGIN:DAYLIGHT
TZOFFSETFROM:-0500
TZOFFSETTO:-0400
TZNAME:EDT
DTSTART:20220313T070000
END:DAYLIGHT
BEGIN:STANDARD
TZOFFSETFROM:-0400
TZOFFSETTO:-0500
TZNAME:EST
DTSTART:20221106T060000
END:STANDARD
BEGIN:DAYLIGHT
TZOFFSETFROM:-0500
TZOFFSETTO:-0400
TZNAME:EDT
DTSTART:20230312T070000
END:DAYLIGHT
BEGIN:STANDARD
TZOFFSETFROM:-0400
TZOFFSETTO:-0500
TZNAME:EST
DTSTART:20231105T060000
END:STANDARD
END:VTIMEZONE
BEGIN:VEVENT
DTSTART;TZID=America/Detroit:20220504T083000
DTEND;TZID=America/Detroit:20220505T163000
DTSTAMP:20260422T133712
CREATED:20211108T202746Z
LAST-MODIFIED:20211108T202909Z
UID:2423-1651653000-1651768200@miwicevents.com
SUMMARY:WIC Training and Educational Conference – May 4-5\, 2022
DESCRIPTION:
URL:https://miwicevents.com/event/wic-training-and-educational-conference-may-4-5-2022/
LOCATION:Virtual
END:VEVENT
BEGIN:VEVENT
DTSTART;TZID=America/Detroit:20220518T083000
DTEND;TZID=America/Detroit:20220519T123000
DTSTAMP:20260422T133712
CREATED:20210810T131241Z
LAST-MODIFIED:20211012T133118Z
UID:2140-1652862600-1652963400@miwicevents.com
SUMMARY:Clerical Training – May 18-19\, 2022
DESCRIPTION:
URL:https://miwicevents.com/event/clerical-training-may-18-19-2022/
LOCATION:Virtual
END:VEVENT
BEGIN:VEVENT
DTSTART;TZID=America/Detroit:20220524T083000
DTEND;TZID=America/Detroit:20220525T123000
DTSTAMP:20260422T133712
CREATED:20210810T132933Z
LAST-MODIFIED:20211012T133306Z
UID:2151-1653381000-1653481800@miwicevents.com
SUMMARY:CPA Training – May 24-25\, 2022
DESCRIPTION:
URL:https://miwicevents.com/event/cpa-training-may-24-25-2022/
LOCATION:Virtual
END:VEVENT
END:VCALENDAR