BEGIN:VCALENDAR
VERSION:2.0
PRODID:-//MI WIC Events - ECPv6.15.15//NONSGML v1.0//EN
CALSCALE:GREGORIAN
METHOD:PUBLISH
X-ORIGINAL-URL:https://miwicevents.com
X-WR-CALDESC:Events for MI WIC Events
REFRESH-INTERVAL;VALUE=DURATION:PT1H
X-Robots-Tag:noindex
X-PUBLISHED-TTL:PT1H
BEGIN:VTIMEZONE
TZID:America/Detroit
BEGIN:DAYLIGHT
TZOFFSETFROM:-0500
TZOFFSETTO:-0400
TZNAME:EDT
DTSTART:20200308T070000
END:DAYLIGHT
BEGIN:STANDARD
TZOFFSETFROM:-0400
TZOFFSETTO:-0500
TZNAME:EST
DTSTART:20201101T060000
END:STANDARD
BEGIN:DAYLIGHT
TZOFFSETFROM:-0500
TZOFFSETTO:-0400
TZNAME:EDT
DTSTART:20210314T070000
END:DAYLIGHT
BEGIN:STANDARD
TZOFFSETFROM:-0400
TZOFFSETTO:-0500
TZNAME:EST
DTSTART:20211107T060000
END:STANDARD
BEGIN:DAYLIGHT
TZOFFSETFROM:-0500
TZOFFSETTO:-0400
TZNAME:EDT
DTSTART:20220313T070000
END:DAYLIGHT
BEGIN:STANDARD
TZOFFSETFROM:-0400
TZOFFSETTO:-0500
TZNAME:EST
DTSTART:20221106T060000
END:STANDARD
END:VTIMEZONE
BEGIN:VEVENT
DTSTART;TZID=America/Detroit:20211007T093000
DTEND;TZID=America/Detroit:20211007T120000
DTSTAMP:20260420T054823
CREATED:20210810T152334Z
LAST-MODIFIED:20210810T152334Z
UID:2210-1633599000-1633608000@miwicevents.com
SUMMARY:WIC Customer Service Webcast - October 7\, 2021
DESCRIPTION:
URL:https://miwicevents.com/event/wic-customer-service-webcast-october-7-2021/
LOCATION:Webcast
END:VEVENT
BEGIN:VEVENT
DTSTART;TZID=America/Detroit:20211012T084500
DTEND;TZID=America/Detroit:20211012T130000
DTSTAMP:20260420T054823
CREATED:20210810T143751Z
LAST-MODIFIED:20210810T143751Z
UID:2187-1634028300-1634043600@miwicevents.com
SUMMARY:Breastfeeding Coordinator Training - October 12\, 2021
DESCRIPTION:
URL:https://miwicevents.com/event/breastfeeding-coordinator-training-october-12-2021/
LOCATION:Virtual
END:VEVENT
BEGIN:VEVENT
DTSTART;TZID=America/Detroit:20211013T084500
DTEND;TZID=America/Detroit:20211013T120000
DTSTAMP:20260420T054823
CREATED:20210810T144339Z
LAST-MODIFIED:20210810T144339Z
UID:2191-1634114700-1634126400@miwicevents.com
SUMMARY:Peer Counselor Manager Training – October 13\, 2021
DESCRIPTION:
URL:https://miwicevents.com/event/peer-counselor-manager-training-october-13-2021/
LOCATION:Virtual
END:VEVENT
BEGIN:VEVENT
DTSTART;TZID=America/Detroit:20211019T083000
DTEND;TZID=America/Detroit:20211019T123000
DTSTAMP:20260420T054823
CREATED:20210810T133757Z
LAST-MODIFIED:20210823T155350Z
UID:2156-1634632200-1634646600@miwicevents.com
SUMMARY:Laboratory Training – October 19\, 2021
DESCRIPTION:
URL:https://miwicevents.com/event/laboratory-training-october-19-2021/
LOCATION:Virtual
END:VEVENT
BEGIN:VEVENT
DTSTART;TZID=America/Detroit:20211020T083000
DTEND;TZID=America/Detroit:20211020T123000
DTSTAMP:20260420T054823
CREATED:20210806T195656Z
LAST-MODIFIED:20210823T155258Z
UID:2123-1634718600-1634733000@miwicevents.com
SUMMARY:Anthropometric Training – October 20\, 2021
DESCRIPTION:
URL:https://miwicevents.com/event/anthropometric-training-october-20-2021/
LOCATION:Virtual
END:VEVENT
BEGIN:VEVENT
DTSTART;TZID=America/Detroit:20211022T080000
DTEND;TZID=America/Detroit:20211022T120000
DTSTAMP:20260420T054823
CREATED:20210810T150040Z
LAST-MODIFIED:20211021T124850Z
UID:2204-1634889600-1634904000@miwicevents.com
SUMMARY:Milk Expression – October 22\, 2021
DESCRIPTION:
URL:https://miwicevents.com/event/milk-expression-october-22-2021/
LOCATION:Virtual
END:VEVENT
BEGIN:VEVENT
DTSTART;TZID=America/Detroit:20211025T083000
DTEND;TZID=America/Detroit:20211025T123000
DTSTAMP:20260420T054823
CREATED:20210629T200728Z
LAST-MODIFIED:20210823T155411Z
UID:2030-1635150600-1635165000@miwicevents.com
SUMMARY:Record Review Training – October 25\, 2021
DESCRIPTION:
URL:https://miwicevents.com/event/record-review-training-october-25-2021/
LOCATION:Virtual
END:VEVENT
BEGIN:VEVENT
DTSTART;TZID=America/Detroit:20211026T090000
DTEND;TZID=America/Detroit:20211027T150000
DTSTAMP:20260420T054823
CREATED:20210629T200055Z
LAST-MODIFIED:20210629T200507Z
UID:2028-1635238800-1635346800@miwicevents.com
SUMMARY:WIC Coordinator Summit – October 26-27\, 2021
DESCRIPTION:
URL:https://miwicevents.com/event/wic-coordinator-summit-october-26-27-2021/
LOCATION:Virtual
END:VEVENT
END:VCALENDAR