BEGIN:VCALENDAR
VERSION:2.0
PRODID:-//MI WIC Events - ECPv6.15.15//NONSGML v1.0//EN
CALSCALE:GREGORIAN
METHOD:PUBLISH
X-WR-CALNAME:MI WIC Events
X-ORIGINAL-URL:https://miwicevents.com
X-WR-CALDESC:Events for MI WIC Events
REFRESH-INTERVAL;VALUE=DURATION:PT1H
X-Robots-Tag:noindex
X-PUBLISHED-TTL:PT1H
BEGIN:VTIMEZONE
TZID:America/Detroit
BEGIN:DAYLIGHT
TZOFFSETFROM:-0500
TZOFFSETTO:-0400
TZNAME:EDT
DTSTART:20200308T070000
END:DAYLIGHT
BEGIN:STANDARD
TZOFFSETFROM:-0400
TZOFFSETTO:-0500
TZNAME:EST
DTSTART:20201101T060000
END:STANDARD
BEGIN:DAYLIGHT
TZOFFSETFROM:-0500
TZOFFSETTO:-0400
TZNAME:EDT
DTSTART:20210314T070000
END:DAYLIGHT
BEGIN:STANDARD
TZOFFSETFROM:-0400
TZOFFSETTO:-0500
TZNAME:EST
DTSTART:20211107T060000
END:STANDARD
BEGIN:DAYLIGHT
TZOFFSETFROM:-0500
TZOFFSETTO:-0400
TZNAME:EDT
DTSTART:20220313T070000
END:DAYLIGHT
BEGIN:STANDARD
TZOFFSETFROM:-0400
TZOFFSETTO:-0500
TZNAME:EST
DTSTART:20221106T060000
END:STANDARD
END:VTIMEZONE
BEGIN:VEVENT
DTSTART;TZID=America/Detroit:20210907T140000
DTEND;TZID=America/Detroit:20210907T160000
DTSTAMP:20260420T034005
CREATED:20200807T183448Z
LAST-MODIFIED:20200807T183448Z
UID:896-1631023200-1631030400@miwicevents.com
SUMMARY:Vendor Webcast – September 7\, 2021
DESCRIPTION:
URL:https://miwicevents.com/event/vendor-webcast-september-7-2021/
LOCATION:Webcast
END:VEVENT
BEGIN:VEVENT
DTSTART;TZID=America/Detroit:20210914T083000
DTEND;TZID=America/Detroit:20210915T123000
DTSTAMP:20260420T034005
CREATED:20200807T195811Z
LAST-MODIFIED:20210121T193929Z
UID:916-1631608200-1631709000@miwicevents.com
SUMMARY:Breastfeeding Basics for Clerical and Tech Staff – September 14-15\, 2021
DESCRIPTION:
URL:https://miwicevents.com/event/breastfeeding-basics-for-clerical-and-tech-staff-september-14-2021/
LOCATION:Virtual
END:VEVENT
BEGIN:VEVENT
DTSTART;TZID=America/Detroit:20210914T083000
DTEND;TZID=America/Detroit:20210916T123000
DTSTAMP:20260420T034005
CREATED:20200807T195330Z
LAST-MODIFIED:20210121T194330Z
UID:910-1631608200-1631795400@miwicevents.com
SUMMARY:Breastfeeding Basics for PC/CPA/Other – September 14-16\, 2021
DESCRIPTION:
URL:https://miwicevents.com/event/breastfeeding-basics-for-pc-cpa-other-september-14-16-2021/
LOCATION:Virtual
END:VEVENT
BEGIN:VEVENT
DTSTART;TZID=America/Detroit:20210914T140000
DTEND;TZID=America/Detroit:20210914T160000
DTSTAMP:20260420T034005
CREATED:20200807T183257Z
LAST-MODIFIED:20200807T185902Z
UID:894-1631628000-1631635200@miwicevents.com
SUMMARY:Pharmacy Webcast - September 14\, 2021
DESCRIPTION:
URL:https://miwicevents.com/event/pharmacy-webcast-september-14-2021/
LOCATION:Webcast
END:VEVENT
BEGIN:VEVENT
DTSTART;TZID=America/Detroit:20210921T090000
DTEND;TZID=America/Detroit:20210921T140000
DTSTAMP:20260420T034005
CREATED:20210810T145007Z
LAST-MODIFIED:20210810T145007Z
UID:2198-1632214800-1632232800@miwicevents.com
SUMMARY:Breastfeeding Peer Update - September 21\, 2021
DESCRIPTION:
URL:https://miwicevents.com/event/breastfeeding-peer-update-september-21-2021/
LOCATION:Virtual
END:VEVENT
BEGIN:VEVENT
DTSTART;TZID=America/Detroit:20210923T093000
DTEND;TZID=America/Detroit:20210923T120000
DTSTAMP:20260420T034005
CREATED:20200929T171102Z
LAST-MODIFIED:20200929T171102Z
UID:1236-1632389400-1632398400@miwicevents.com
SUMMARY:WIC Income Webcast - September 23\, 2021
DESCRIPTION:
URL:https://miwicevents.com/event/wic-income-webcast-september-23-2021/
LOCATION:Webcast
END:VEVENT
BEGIN:VEVENT
DTSTART;TZID=America/Detroit:20210928T100000
DTEND;TZID=America/Detroit:20210929T150000
DTSTAMP:20260420T034005
CREATED:20200807T151521Z
LAST-MODIFIED:20201201T151001Z
UID:853-1632823200-1632927600@miwicevents.com
SUMMARY:CPA Training – September 28-29\, 2021
DESCRIPTION:
URL:https://miwicevents.com/event/cpa-training-september-28-29-2021/
LOCATION:Virtual
END:VEVENT
END:VCALENDAR