BEGIN:VCALENDAR
VERSION:2.0
PRODID:-//MI WIC Events - ECPv6.15.15//NONSGML v1.0//EN
CALSCALE:GREGORIAN
METHOD:PUBLISH
X-WR-CALNAME:MI WIC Events
X-ORIGINAL-URL:https://miwicevents.com
X-WR-CALDESC:Events for MI WIC Events
REFRESH-INTERVAL;VALUE=DURATION:PT1H
X-Robots-Tag:noindex
X-PUBLISHED-TTL:PT1H
BEGIN:VTIMEZONE
TZID:America/Detroit
BEGIN:DAYLIGHT
TZOFFSETFROM:-0500
TZOFFSETTO:-0400
TZNAME:EDT
DTSTART:20200308T070000
END:DAYLIGHT
BEGIN:STANDARD
TZOFFSETFROM:-0400
TZOFFSETTO:-0500
TZNAME:EST
DTSTART:20201101T060000
END:STANDARD
BEGIN:DAYLIGHT
TZOFFSETFROM:-0500
TZOFFSETTO:-0400
TZNAME:EDT
DTSTART:20210314T070000
END:DAYLIGHT
BEGIN:STANDARD
TZOFFSETFROM:-0400
TZOFFSETTO:-0500
TZNAME:EST
DTSTART:20211107T060000
END:STANDARD
BEGIN:DAYLIGHT
TZOFFSETFROM:-0500
TZOFFSETTO:-0400
TZNAME:EDT
DTSTART:20220313T070000
END:DAYLIGHT
BEGIN:STANDARD
TZOFFSETFROM:-0400
TZOFFSETTO:-0500
TZNAME:EST
DTSTART:20221106T060000
END:STANDARD
END:VTIMEZONE
BEGIN:VEVENT
DTSTART;TZID=America/Detroit:20210721T100000
DTEND;TZID=America/Detroit:20210721T150000
DTSTAMP:20260419T235835
CREATED:20200807T135737Z
LAST-MODIFIED:20210111T191213Z
UID:809-1626861600-1626879600@miwicevents.com
SUMMARY:Advanced CPA – July 21\, 2021
DESCRIPTION:
URL:https://miwicevents.com/event/advanced-cpa-july-21-2021/
LOCATION:Virtual
END:VEVENT
BEGIN:VEVENT
DTSTART;TZID=America/Detroit:20210727T100000
DTEND;TZID=America/Detroit:20210728T150000
DTSTAMP:20260419T235835
CREATED:20200807T151412Z
LAST-MODIFIED:20201201T150935Z
UID:851-1627380000-1627484400@miwicevents.com
SUMMARY:CPA Training – July 27-28\, 2021
DESCRIPTION:
URL:https://miwicevents.com/event/cpa-training-july-27-28-2021/
LOCATION:Virtual
END:VEVENT
END:VCALENDAR