BEGIN:VCALENDAR
VERSION:2.0
PRODID:-//MI WIC Events - ECPv6.15.15//NONSGML v1.0//EN
CALSCALE:GREGORIAN
METHOD:PUBLISH
X-ORIGINAL-URL:https://miwicevents.com
X-WR-CALDESC:Events for MI WIC Events
REFRESH-INTERVAL;VALUE=DURATION:PT1H
X-Robots-Tag:noindex
X-PUBLISHED-TTL:PT1H
BEGIN:VTIMEZONE
TZID:America/Detroit
BEGIN:DAYLIGHT
TZOFFSETFROM:-0500
TZOFFSETTO:-0400
TZNAME:EDT
DTSTART:20200308T070000
END:DAYLIGHT
BEGIN:STANDARD
TZOFFSETFROM:-0400
TZOFFSETTO:-0500
TZNAME:EST
DTSTART:20201101T060000
END:STANDARD
BEGIN:DAYLIGHT
TZOFFSETFROM:-0500
TZOFFSETTO:-0400
TZNAME:EDT
DTSTART:20210314T070000
END:DAYLIGHT
BEGIN:STANDARD
TZOFFSETFROM:-0400
TZOFFSETTO:-0500
TZNAME:EST
DTSTART:20211107T060000
END:STANDARD
BEGIN:DAYLIGHT
TZOFFSETFROM:-0500
TZOFFSETTO:-0400
TZNAME:EDT
DTSTART:20220313T070000
END:DAYLIGHT
BEGIN:STANDARD
TZOFFSETFROM:-0400
TZOFFSETTO:-0500
TZNAME:EST
DTSTART:20221106T060000
END:STANDARD
END:VTIMEZONE
BEGIN:VEVENT
DTSTART;TZID=America/Detroit:20210602T083000
DTEND;TZID=America/Detroit:20210603T163000
DTSTAMP:20260419T221439
CREATED:20210601T154211Z
LAST-MODIFIED:20210602T121400Z
UID:1995-1622622600-1622737800@miwicevents.com
SUMMARY:WIC Conference – June 2-3\, 2021
DESCRIPTION:
URL:https://miwicevents.com/event/wic-conference-june-2-3-2021/
LOCATION:Virtual
END:VEVENT
BEGIN:VEVENT
DTSTART;TZID=America/Detroit:20210608T140000
DTEND;TZID=America/Detroit:20210608T160000
DTSTAMP:20260419T221439
CREATED:20200807T182746Z
LAST-MODIFIED:20200807T182746Z
UID:887-1623160800-1623168000@miwicevents.com
SUMMARY:Vendor Webcast – June 8\, 2021
DESCRIPTION:
URL:https://miwicevents.com/event/vendor-webcast-june-8-2021/
LOCATION:Webcast
END:VEVENT
BEGIN:VEVENT
DTSTART;TZID=America/Detroit:20210615T140000
DTEND;TZID=America/Detroit:20210615T160000
DTSTAMP:20260419T221439
CREATED:20200807T182955Z
LAST-MODIFIED:20200807T185911Z
UID:890-1623765600-1623772800@miwicevents.com
SUMMARY:Pharmacy Webcast - June 15\, 2021
DESCRIPTION:
URL:https://miwicevents.com/event/pharmacy-webcast-june-15-2021/
LOCATION:Webcast
END:VEVENT
BEGIN:VEVENT
DTSTART;TZID=America/Detroit:20210622T100000
DTEND;TZID=America/Detroit:20210622T150000
DTSTAMP:20260419T221439
CREATED:20200807T145723Z
LAST-MODIFIED:20210111T191820Z
UID:826-1624356000-1624374000@miwicevents.com
SUMMARY:Laboratory Training – June 22\, 2021
DESCRIPTION:
URL:https://miwicevents.com/event/laboratory-training-june-22-2021/
LOCATION:Virtual
END:VEVENT
BEGIN:VEVENT
DTSTART;TZID=America/Detroit:20210623T100000
DTEND;TZID=America/Detroit:20210623T150000
DTSTAMP:20260419T221439
CREATED:20200807T145309Z
LAST-MODIFIED:20201201T150237Z
UID:817-1624442400-1624460400@miwicevents.com
SUMMARY:Anthropometric Training – June 23\, 2021
DESCRIPTION:
URL:https://miwicevents.com/event/anthropometric-training-june-23-2021/
LOCATION:Virtual
END:VEVENT
BEGIN:VEVENT
DTSTART;TZID=America/Detroit:20210623T130000
DTEND;TZID=America/Detroit:20210623T150000
DTSTAMP:20260419T221439
CREATED:20200820T193401Z
LAST-MODIFIED:20210402T122858Z
UID:1059-1624453200-1624460400@miwicevents.com
SUMMARY:Regional Vendor Forum (SE Michigan) – June 23\, 2021
DESCRIPTION:
URL:https://miwicevents.com/event/regional-vendor-forum-se-michigan-june-23-2021/
LOCATION:Virtual
END:VEVENT
BEGIN:VEVENT
DTSTART;TZID=America/Detroit:20210630T100000
DTEND;TZID=America/Detroit:20210630T150000
DTSTAMP:20260419T221439
CREATED:20200807T135642Z
LAST-MODIFIED:20210111T191158Z
UID:807-1625047200-1625065200@miwicevents.com
SUMMARY:Advanced CPA – June 30\, 2021
DESCRIPTION:
URL:https://miwicevents.com/event/advanced-cpa-june-30-2021/
LOCATION:Virtual
END:VEVENT
END:VCALENDAR