BEGIN:VCALENDAR
VERSION:2.0
PRODID:-//MI WIC Events - ECPv6.15.15//NONSGML v1.0//EN
CALSCALE:GREGORIAN
METHOD:PUBLISH
X-WR-CALNAME:MI WIC Events
X-ORIGINAL-URL:https://miwicevents.com
X-WR-CALDESC:Events for MI WIC Events
REFRESH-INTERVAL;VALUE=DURATION:PT1H
X-Robots-Tag:noindex
X-PUBLISHED-TTL:PT1H
BEGIN:VTIMEZONE
TZID:America/Detroit
BEGIN:DAYLIGHT
TZOFFSETFROM:-0500
TZOFFSETTO:-0400
TZNAME:EDT
DTSTART:20220313T070000
END:DAYLIGHT
BEGIN:STANDARD
TZOFFSETFROM:-0400
TZOFFSETTO:-0500
TZNAME:EST
DTSTART:20221106T060000
END:STANDARD
BEGIN:DAYLIGHT
TZOFFSETFROM:-0500
TZOFFSETTO:-0400
TZNAME:EDT
DTSTART:20230312T070000
END:DAYLIGHT
BEGIN:STANDARD
TZOFFSETFROM:-0400
TZOFFSETTO:-0500
TZNAME:EST
DTSTART:20231105T060000
END:STANDARD
BEGIN:DAYLIGHT
TZOFFSETFROM:-0500
TZOFFSETTO:-0400
TZNAME:EDT
DTSTART:20240310T070000
END:DAYLIGHT
BEGIN:STANDARD
TZOFFSETFROM:-0400
TZOFFSETTO:-0500
TZNAME:EST
DTSTART:20241103T060000
END:STANDARD
END:VTIMEZONE
BEGIN:VEVENT
DTSTART;TZID=America/Detroit:20231030T100000
DTEND;TZID=America/Detroit:20231030T113000
DTSTAMP:20260420T075820
CREATED:20230914T122320Z
LAST-MODIFIED:20230914T122320Z
UID:5028-1698660000-1698665400@miwicevents.com
SUMMARY:Get your Questions Answered: CCS SI Discussion – October 30\, 2023
DESCRIPTION:
URL:https://miwicevents.com/event/get-your-questions-answered-ccs-si-discussion-october-30-2023/
LOCATION:Webcast
END:VEVENT
BEGIN:VEVENT
DTSTART;TZID=America/Detroit:20231026T130000
DTEND;TZID=America/Detroit:20231026T150000
DTSTAMP:20260420T075820
CREATED:20230620T194633Z
LAST-MODIFIED:20230620T194633Z
UID:4655-1698325200-1698332400@miwicevents.com
SUMMARY:MI-WIC Modernization Listening Sessions: CPA/RD Certification – October 26\, 2023
DESCRIPTION:
URL:https://miwicevents.com/event/mi-wic-modernization-listening-sessions-cpa-rd-certification-october-26-2023/
LOCATION:Virtual
END:VEVENT
BEGIN:VEVENT
DTSTART;VALUE=DATE:20231024
DTEND;VALUE=DATE:20231026
DTSTAMP:20260420T075820
CREATED:20230810T151756Z
LAST-MODIFIED:20230810T151756Z
UID:4840-1698105600-1698278399@miwicevents.com
SUMMARY:WIC Coordinator Summit – October 24-25\, 2023
DESCRIPTION:
URL:https://miwicevents.com/event/wic-coordinator-summit-october-24-25-2023/
LOCATION:DoubleTree by Hilton Hotel Bay City – Riverfront\, 1 Wenonah Park Place\, Bay City\, MI\, 48708\, United States
END:VEVENT
BEGIN:VEVENT
DTSTART;TZID=America/Detroit:20231019T140000
DTEND;TZID=America/Detroit:20231019T150000
DTSTAMP:20260420T075820
CREATED:20230810T151120Z
LAST-MODIFIED:20230810T151120Z
UID:4829-1697724000-1697727600@miwicevents.com
SUMMARY:Clerk/Tech Workgroup – October 19\, 2023
DESCRIPTION:
URL:https://miwicevents.com/event/clerk-tech-workgroup-october-19-2023/
LOCATION:Virtual
END:VEVENT
BEGIN:VEVENT
DTSTART;TZID=America/Detroit:20231019T100000
DTEND;TZID=America/Detroit:20231019T150000
DTSTAMP:20260420T075820
CREATED:20230807T140907Z
LAST-MODIFIED:20230807T140907Z
UID:4737-1697709600-1697727600@miwicevents.com
SUMMARY:Regional Peer Counselor Training (Northern) – October 19\, 2023
DESCRIPTION:
URL:https://miwicevents.com/event/regional-peer-counselor-training-northern-october-19-2023/
LOCATION:Gaylord\, MI
END:VEVENT
BEGIN:VEVENT
DTSTART;TZID=America/Detroit:20231019T100000
DTEND;TZID=America/Detroit:20231019T150000
DTSTAMP:20260420T075820
CREATED:20230807T140814Z
LAST-MODIFIED:20230807T140814Z
UID:4736-1697709600-1697727600@miwicevents.com
SUMMARY:Regional Peer Counselor Training (Metro Detroit) – October 19\, 2023
DESCRIPTION:
URL:https://miwicevents.com/event/regional-peer-counselor-training-metro-detroit-october-19-2023/
LOCATION:Taylor\, MI
END:VEVENT
BEGIN:VEVENT
DTSTART;TZID=America/Detroit:20231019T100000
DTEND;TZID=America/Detroit:20231019T120000
DTSTAMP:20260420T075820
CREATED:20230620T194535Z
LAST-MODIFIED:20230620T194535Z
UID:4654-1697709600-1697716800@miwicevents.com
SUMMARY:MI-WIC Modernization Listening Sessions: Caseload Management/Finance/Redemption – October 19\, 2023
DESCRIPTION:
URL:https://miwicevents.com/event/mi-wic-modernization-listening-sessions-caseload-management-finance-redemption-october-19-2023/
LOCATION:Virtual
END:VEVENT
BEGIN:VEVENT
DTSTART;TZID=America/Detroit:20231017T100000
DTEND;TZID=America/Detroit:20231017T150000
DTSTAMP:20260420T075820
CREATED:20230807T140557Z
LAST-MODIFIED:20230807T140557Z
UID:4735-1697536800-1697554800@miwicevents.com
SUMMARY:Regional Peer Counselor Training (Upper Peninsula) – October 17\, 2023
DESCRIPTION:
URL:https://miwicevents.com/event/regional-peer-counselor-training-upper-peninsula-october-17-2023/
LOCATION:Negaunee\, MI
END:VEVENT
BEGIN:VEVENT
DTSTART;TZID=America/Detroit:20231017T093000
DTEND;TZID=America/Detroit:20231017T110000
DTSTAMP:20260420T075820
CREATED:20230908T131423Z
LAST-MODIFIED:20230908T131423Z
UID:5005-1697535000-1697540400@miwicevents.com
SUMMARY:Worth the Wait: Client Centered Services System Integration Release – October 17\, 2023
DESCRIPTION:
URL:https://miwicevents.com/event/worth-the-wait-client-centered-services-system-integration-release-october-17-2023/
LOCATION:Webcast
END:VEVENT
BEGIN:VEVENT
DTSTART;TZID=America/Detroit:20231013T080000
DTEND;TZID=America/Detroit:20231013T120000
DTSTAMP:20260420T075820
CREATED:20230810T131911Z
LAST-MODIFIED:20230810T131911Z
UID:4812-1697184000-1697198400@miwicevents.com
SUMMARY:Breastfeeding Workgroup – October 13\, 2023
DESCRIPTION:
URL:https://miwicevents.com/event/breastfeeding-workgroup-october-13-2023/
LOCATION:Virtual
END:VEVENT
BEGIN:VEVENT
DTSTART;TZID=America/Detroit:20231012T130000
DTEND;TZID=America/Detroit:20231012T150000
DTSTAMP:20260420T075820
CREATED:20230620T194453Z
LAST-MODIFIED:20230620T194453Z
UID:4653-1697115600-1697122800@miwicevents.com
SUMMARY:MI-WIC Modernization Listening Sessions: Caseload Management/Finance/Redemption – October 12\, 2023
DESCRIPTION:
URL:https://miwicevents.com/event/mi-wic-modernization-listening-sessions-caseload-management-finance-redemption-october-12-2023/
LOCATION:Virtual
END:VEVENT
BEGIN:VEVENT
DTSTART;TZID=America/Detroit:20231012T093000
DTEND;TZID=America/Detroit:20231012T110000
DTSTAMP:20260420T075820
CREATED:20230627T145520Z
LAST-MODIFIED:20230627T145520Z
UID:4679-1697103000-1697108400@miwicevents.com
SUMMARY:Exploring the Indigenous Culture – October 12\, 2023
DESCRIPTION:
URL:https://miwicevents.com/event/exploring-the-indigenous-culture-october-12-2023/
LOCATION:Webcast
END:VEVENT
BEGIN:VEVENT
DTSTART;TZID=America/Detroit:20231005T100000
DTEND;TZID=America/Detroit:20231005T120000
DTSTAMP:20260420T075820
CREATED:20230620T194132Z
LAST-MODIFIED:20230620T194132Z
UID:4648-1696500000-1696507200@miwicevents.com
SUMMARY:MI-WIC Modernization Listening Sessions: Breastfeeding Staff\, Peer Counselors and IBCLC – October 5\, 2023
DESCRIPTION:
URL:https://miwicevents.com/event/mi-wic-modernization-listening-sessions-breastfeeding-staff-peer-counselors-and-ibclc-october-5-2023/
LOCATION:Virtual
END:VEVENT
BEGIN:VEVENT
DTSTART;TZID=America/Detroit:20231004T083000
DTEND;TZID=America/Detroit:20231004T160000
DTSTAMP:20260420T075820
CREATED:20230817T174746Z
LAST-MODIFIED:20230907T142321Z
UID:4916-1696408200-1696435200@miwicevents.com
SUMMARY:Laboratory Training – October 4\, 2023
DESCRIPTION:
URL:https://miwicevents.com/event/laboratory-training-october-4-2023/
LOCATION:DoubleTree by Hilton Hotel Bay City – Riverfront\, 1 Wenonah Park Place\, Bay City\, MI\, 48708\, United States
END:VEVENT
BEGIN:VEVENT
DTSTART;TZID=America/Detroit:20231004T083000
DTEND;TZID=America/Detroit:20231004T123000
DTSTAMP:20260420T075820
CREATED:20230501T185704Z
LAST-MODIFIED:20230824T173023Z
UID:4521-1696408200-1696422600@miwicevents.com
SUMMARY:Peer Counselor Manager Training – October 4\, 2023
DESCRIPTION:
URL:https://miwicevents.com/event/peer-counselor-manager-training-october-4-2023/
LOCATION:Virtual
END:VEVENT
BEGIN:VEVENT
DTSTART;TZID=America/Detroit:20231003T084500
DTEND;TZID=America/Detroit:20231003T130000
DTSTAMP:20260420T075820
CREATED:20230501T185523Z
LAST-MODIFIED:20230501T185523Z
UID:4519-1696322700-1696338000@miwicevents.com
SUMMARY:Breastfeeding Coordinator Training - October 3\, 2023
DESCRIPTION:
URL:https://miwicevents.com/event/breastfeeding-coordinator-training-october-3-2023/
LOCATION:Virtual
END:VEVENT
BEGIN:VEVENT
DTSTART;TZID=America/Detroit:20231003T083000
DTEND;TZID=America/Detroit:20231003T160000
DTSTAMP:20260420T075820
CREATED:20230809T175546Z
LAST-MODIFIED:20230907T142337Z
UID:4768-1696321800-1696348800@miwicevents.com
SUMMARY:Anthropometric Training – October 3\, 2023
DESCRIPTION:
URL:https://miwicevents.com/event/anthropometric-training-october-3-2023/
LOCATION:DoubleTree by Hilton Hotel Bay City – Riverfront\, 1 Wenonah Park Place\, Bay City\, MI\, 48708\, United States
END:VEVENT
BEGIN:VEVENT
DTSTART;TZID=America/Detroit:20230928T130000
DTEND;TZID=America/Detroit:20230928T150000
DTSTAMP:20260420T075820
CREATED:20230620T194050Z
LAST-MODIFIED:20230620T194050Z
UID:4647-1695906000-1695913200@miwicevents.com
SUMMARY:MI-WIC Modernization Listening Sessions: Breastfeeding Staff\, Peer Counselors and IBCLC – September 28\, 2023
DESCRIPTION:
URL:https://miwicevents.com/event/mi-wic-modernization-listening-sessions-breastfeeding-staff-peer-counselors-and-ibclc-september-28-2023/
LOCATION:Virtual
END:VEVENT
BEGIN:VEVENT
DTSTART;TZID=America/Detroit:20230926T083000
DTEND;TZID=America/Detroit:20230927T123000
DTSTAMP:20260420T075820
CREATED:20220720T191123Z
LAST-MODIFIED:20220720T191123Z
UID:3822-1695717000-1695817800@miwicevents.com
SUMMARY:CPA Training – September 26-27\, 2023
DESCRIPTION:
URL:https://miwicevents.com/event/cpa-training-september-26-27-2023/
LOCATION:Virtual
END:VEVENT
BEGIN:VEVENT
DTSTART;TZID=America/Detroit:20230921T100000
DTEND;TZID=America/Detroit:20230921T120000
DTSTAMP:20260420T075820
CREATED:20230620T193740Z
LAST-MODIFIED:20230620T193740Z
UID:4643-1695290400-1695297600@miwicevents.com
SUMMARY:MI-WIC Modernization Listening Sessions: Admin Session (Schedule\, Staff Info\, Demographics) – September 21\, 2023
DESCRIPTION:
URL:https://miwicevents.com/event/mi-wic-modernization-listening-sessions-admin-session-schedule-staff-info-demographics-september-21-2023/
LOCATION:Virtual
END:VEVENT
BEGIN:VEVENT
DTSTART;TZID=America/Detroit:20230920T083000
DTEND;TZID=America/Detroit:20230921T160000
DTSTAMP:20260420T075820
CREATED:20220721T132020Z
LAST-MODIFIED:20230501T183828Z
UID:3853-1695198600-1695312000@miwicevents.com
SUMMARY:Breastfeeding Basics for PC/CPA/Other – September 20-21\, 2023
DESCRIPTION:
URL:https://miwicevents.com/event/breastfeeding-basics-for-pc-cpa-other-september-20-21-2023/
LOCATION:Treetops Resort\, Gaylord MI
END:VEVENT
BEGIN:VEVENT
DTSTART;TZID=America/Detroit:20230920T083000
DTEND;TZID=America/Detroit:20230920T160000
DTSTAMP:20260420T075820
CREATED:20220720T195020Z
LAST-MODIFIED:20230501T183835Z
UID:3842-1695198600-1695225600@miwicevents.com
SUMMARY:Breastfeeding Basics for Clerical and Tech Staff – September 20\, 2023
DESCRIPTION:
URL:https://miwicevents.com/event/breastfeeding-basics-for-clerical-and-tech-staff-september-19-2023/
LOCATION:Treetops Resort\, Gaylord MI
END:VEVENT
BEGIN:VEVENT
DTSTART;TZID=America/Detroit:20230915T090000
DTEND;TZID=America/Detroit:20230915T120000
DTSTAMP:20260420T075820
CREATED:20230810T190057Z
LAST-MODIFIED:20230810T190057Z
UID:4875-1694768400-1694779200@miwicevents.com
SUMMARY:Promotion and Retention Workgroup – September 15\, 2023
DESCRIPTION:
URL:https://miwicevents.com/event/promotion-and-retention-workgroup-september-15-2023/
LOCATION:Virtual
END:VEVENT
BEGIN:VEVENT
DTSTART;TZID=America/Detroit:20230914T130000
DTEND;TZID=America/Detroit:20230914T150000
DTSTAMP:20260420T075820
CREATED:20230620T193700Z
LAST-MODIFIED:20230620T193846Z
UID:4642-1694696400-1694703600@miwicevents.com
SUMMARY:MI-WIC Modernization Listening Sessions: Admin Session (Schedule\, Staff Info\, Demographics) – September 14\, 2023
DESCRIPTION:
URL:https://miwicevents.com/event/mi-wic-modernization-listening-sessions-admin-session-schedule-staff-info-demographics-september-14-2023/
LOCATION:Virtual
END:VEVENT
BEGIN:VEVENT
DTSTART;TZID=America/Detroit:20230914T100000
DTEND;TZID=America/Detroit:20230914T120000
DTSTAMP:20260420T075820
CREATED:20230810T173900Z
LAST-MODIFIED:20230810T173900Z
UID:4865-1694685600-1694692800@miwicevents.com
SUMMARY:Nutrition Education Workgroup – September 14\, 2023
DESCRIPTION:
URL:https://miwicevents.com/event/nutrition-education-workgroup-september-14-2023/
LOCATION:Virtual
END:VEVENT
BEGIN:VEVENT
DTSTART;TZID=America/Detroit:20230912T090000
DTEND;TZID=America/Detroit:20230912T140000
DTSTAMP:20260420T075820
CREATED:20220721T134428Z
LAST-MODIFIED:20230419T142746Z
UID:3870-1694509200-1694527200@miwicevents.com
SUMMARY:Breastfeeding Peer Update - September 12\, 2023
DESCRIPTION:
URL:https://miwicevents.com/event/breastfeeding-peer-update-september-12-2023/
LOCATION:Prince Conference Center and Hotel – Grand Rapids\, MI
END:VEVENT
BEGIN:VEVENT
DTSTART;TZID=America/Detroit:20230907T100000
DTEND;TZID=America/Detroit:20230907T120000
DTSTAMP:20260420T075820
CREATED:20230620T193457Z
LAST-MODIFIED:20230620T193457Z
UID:4639-1694080800-1694088000@miwicevents.com
SUMMARY:MI-WIC Modernization Listening Sessions: Coordinator/Management – September 7\, 2023
DESCRIPTION:
URL:https://miwicevents.com/event/mi-wic-modernization-listening-sessions-coordinator-management-september-7-2023/
LOCATION:Virtual
END:VEVENT
BEGIN:VEVENT
DTSTART;TZID=America/Detroit:20230831T130000
DTEND;TZID=America/Detroit:20230831T150000
DTSTAMP:20260420T075820
CREATED:20230620T193421Z
LAST-MODIFIED:20230620T193421Z
UID:4638-1693486800-1693494000@miwicevents.com
SUMMARY:MI-WIC Modernization Listening Sessions: Coordinator/Management – August 31\, 2023
DESCRIPTION:
URL:https://miwicevents.com/event/mi-wic-modernization-listening-sessions-coordinator-management-august-31-2023/
LOCATION:Virtual
END:VEVENT
BEGIN:VEVENT
DTSTART;TZID=America/Detroit:20230824T100000
DTEND;TZID=America/Detroit:20230824T120000
DTSTAMP:20260420T075820
CREATED:20230620T193214Z
LAST-MODIFIED:20230620T193214Z
UID:4632-1692871200-1692878400@miwicevents.com
SUMMARY:MI-WIC Modernization Listening Sessions: Call Center/Scheduling – August 24\, 2023
DESCRIPTION:
URL:https://miwicevents.com/event/mi-wic-modernization-listening-sessions-call-center-scheduling-august-24-2023/
LOCATION:Virtual
END:VEVENT
BEGIN:VEVENT
DTSTART;TZID=America/Detroit:20230817T140000
DTEND;TZID=America/Detroit:20230817T150000
DTSTAMP:20260420T075820
CREATED:20230810T151046Z
LAST-MODIFIED:20230810T151046Z
UID:4834-1692280800-1692284400@miwicevents.com
SUMMARY:Clerk/Tech Workgroup – August 17\, 2023
DESCRIPTION:
URL:https://miwicevents.com/event/clerk-tech-workgroup-august-17-2023/
LOCATION:Virtual
END:VEVENT
END:VCALENDAR