BEGIN:VCALENDAR
VERSION:2.0
PRODID:-//MI WIC Events - ECPv6.15.15//NONSGML v1.0//EN
CALSCALE:GREGORIAN
METHOD:PUBLISH
X-WR-CALNAME:MI WIC Events
X-ORIGINAL-URL:https://miwicevents.com
X-WR-CALDESC:Events for MI WIC Events
REFRESH-INTERVAL;VALUE=DURATION:PT1H
X-Robots-Tag:noindex
X-PUBLISHED-TTL:PT1H
BEGIN:VTIMEZONE
TZID:America/Detroit
BEGIN:DAYLIGHT
TZOFFSETFROM:-0500
TZOFFSETTO:-0400
TZNAME:EDT
DTSTART:20240310T070000
END:DAYLIGHT
BEGIN:STANDARD
TZOFFSETFROM:-0400
TZOFFSETTO:-0500
TZNAME:EST
DTSTART:20241103T060000
END:STANDARD
BEGIN:DAYLIGHT
TZOFFSETFROM:-0500
TZOFFSETTO:-0400
TZNAME:EDT
DTSTART:20250309T070000
END:DAYLIGHT
BEGIN:STANDARD
TZOFFSETFROM:-0400
TZOFFSETTO:-0500
TZNAME:EST
DTSTART:20251102T060000
END:STANDARD
BEGIN:DAYLIGHT
TZOFFSETFROM:-0500
TZOFFSETTO:-0400
TZNAME:EDT
DTSTART:20260308T070000
END:DAYLIGHT
BEGIN:STANDARD
TZOFFSETFROM:-0400
TZOFFSETTO:-0500
TZNAME:EST
DTSTART:20261101T060000
END:STANDARD
BEGIN:DAYLIGHT
TZOFFSETFROM:-0500
TZOFFSETTO:-0400
TZNAME:EDT
DTSTART:20270314T070000
END:DAYLIGHT
BEGIN:STANDARD
TZOFFSETFROM:-0400
TZOFFSETTO:-0500
TZNAME:EST
DTSTART:20271107T060000
END:STANDARD
END:VTIMEZONE
BEGIN:VEVENT
DTSTART;TZID=America/Detroit:20251015T083000
DTEND;TZID=America/Detroit:20251015T123000
DTSTAMP:20260420T020227
CREATED:20250723T134946Z
LAST-MODIFIED:20250723T134946Z
UID:6529-1760517000-1760531400@miwicevents.com
SUMMARY:Laboratory Training – October 15\, 2025
DESCRIPTION:
URL:https://miwicevents.com/event/laboratory-training-october-15-2025/
LOCATION:Virtual
END:VEVENT
BEGIN:VEVENT
DTSTART;TZID=America/Detroit:20251017T083000
DTEND;TZID=America/Detroit:20251017T123000
DTSTAMP:20260420T020227
CREATED:20241028T173533Z
LAST-MODIFIED:20241028T173533Z
UID:5969-1760689800-1760704200@miwicevents.com
SUMMARY:Breastfeeding Workgroup – October 17\, 2025
DESCRIPTION:
URL:https://miwicevents.com/event/breastfeeding-workgroup-october-17-2025/
LOCATION:Virtual
END:VEVENT
BEGIN:VEVENT
DTSTART;TZID=America/Detroit:20251021T083000
DTEND;TZID=America/Detroit:20251022T123000
DTSTAMP:20260420T020227
CREATED:20250722T193520Z
LAST-MODIFIED:20250722T193520Z
UID:6442-1761035400-1761136200@miwicevents.com
SUMMARY:Clerical Training – October 21-22\, 2025
DESCRIPTION:
URL:https://miwicevents.com/event/clerical-training-october-21-22-2025/
LOCATION:Virtual
END:VEVENT
BEGIN:VEVENT
DTSTART;TZID=America/Detroit:20251023T100000
DTEND;TZID=America/Detroit:20251023T150000
DTSTAMP:20260420T020227
CREATED:20250723T132618Z
LAST-MODIFIED:20250723T132618Z
UID:6519-1761213600-1761231600@miwicevents.com
SUMMARY:Regional Peer Counselor Training (Southeast/Metro Detroit) – October 23\, 2025
DESCRIPTION:
URL:https://miwicevents.com/event/regional-peer-counselor-training-southeast-metro-detroit-october-23-2025/
LOCATION:Southfield\, MI
END:VEVENT
BEGIN:VEVENT
DTSTART;TZID=America/Detroit:20251027T100000
DTEND;TZID=America/Detroit:20251027T150000
DTSTAMP:20260420T020227
CREATED:20250723T132221Z
LAST-MODIFIED:20250723T132221Z
UID:6514-1761559200-1761577200@miwicevents.com
SUMMARY:Regional Peer Counselor Training (Mid-Central) – October 27\, 2025
DESCRIPTION:
URL:https://miwicevents.com/event/regional-peer-counselor-training-mid-central-october-27-2025/
LOCATION:Big Rapids\, MI
END:VEVENT
BEGIN:VEVENT
DTSTART;TZID=America/Detroit:20251027T100000
DTEND;TZID=America/Detroit:20251027T170000
DTSTAMP:20260420T020227
CREATED:20250721T133657Z
LAST-MODIFIED:20250721T133657Z
UID:6381-1761559200-1761584400@miwicevents.com
SUMMARY:Record Review Training – October 27\, 2025
DESCRIPTION:
URL:https://miwicevents.com/event/record-review-training-october-27-2025/
LOCATION:Mt. Pleasant\, MI
END:VEVENT
BEGIN:VEVENT
DTSTART;VALUE=DATE:20251028
DTEND;VALUE=DATE:20251030
DTSTAMP:20260420T020227
CREATED:20250721T133834Z
LAST-MODIFIED:20250721T133847Z
UID:6383-1761609600-1761782399@miwicevents.com
SUMMARY:WIC Coordinator Summit – October 28-29\, 2025
DESCRIPTION:
URL:https://miwicevents.com/event/wic-coordinator-summit-october-28-29-2025/
LOCATION:Mt. Pleasant\, MI
END:VEVENT
BEGIN:VEVENT
DTSTART;TZID=America/Detroit:20251029T100000
DTEND;TZID=America/Detroit:20251029T150000
DTSTAMP:20260420T020227
CREATED:20250723T131823Z
LAST-MODIFIED:20250723T131823Z
UID:6512-1761732000-1761750000@miwicevents.com
SUMMARY:Regional Peer Counselor Training (Southwest) – October 29\, 2025
DESCRIPTION:
URL:https://miwicevents.com/event/regional-peer-counselor-training-southwest-october-29-2025/
LOCATION:Hastings\, MI
END:VEVENT
BEGIN:VEVENT
DTSTART;TZID=America/Detroit:20251104T083000
DTEND;TZID=America/Detroit:20251104T123000
DTSTAMP:20260420T020227
CREATED:20250723T125559Z
LAST-MODIFIED:20250916T152727Z
UID:6494-1762245000-1762259400@miwicevents.com
SUMMARY:Peer Counselor Manager Training – November 4\, 2025
DESCRIPTION:
URL:https://miwicevents.com/event/peer-counselor-manager-training-october-1-2025/
LOCATION:Virtual
END:VEVENT
BEGIN:VEVENT
DTSTART;TZID=America/Detroit:20251105T100000
DTEND;TZID=America/Detroit:20251105T150000
DTSTAMP:20260420T020227
CREATED:20250723T132347Z
LAST-MODIFIED:20250723T132347Z
UID:6516-1762336800-1762354800@miwicevents.com
SUMMARY:Regional Peer Counselor Training (Northern) – November 5\, 2025
DESCRIPTION:
URL:https://miwicevents.com/event/regional-peer-counselor-training-northern-november-5-2025/
LOCATION:Gaylord\, MI
END:VEVENT
BEGIN:VEVENT
DTSTART;TZID=America/Detroit:20251107T100000
DTEND;TZID=America/Detroit:20251107T150000
DTSTAMP:20260420T020227
CREATED:20250723T131658Z
LAST-MODIFIED:20250723T131658Z
UID:6510-1762509600-1762527600@miwicevents.com
SUMMARY:Regional Peer Counselor Training (South Central) – November 7\, 2025
DESCRIPTION:
URL:https://miwicevents.com/event/regional-peer-counselor-training-south-central-november-7-2025/
LOCATION:Saginaw\, MI
END:VEVENT
BEGIN:VEVENT
DTSTART;TZID=America/Detroit:20251113T083000
DTEND;TZID=America/Detroit:20251113T123000
DTSTAMP:20260420T020227
CREATED:20250722T154528Z
LAST-MODIFIED:20250922T191715Z
UID:6403-1763022600-1763037000@miwicevents.com
SUMMARY:Breastfeeding Coordinator Training - November 13\, 2025
DESCRIPTION:
URL:https://miwicevents.com/event/breastfeeding-coordinator-training-november-6-2025/
LOCATION:Virtual
END:VEVENT
BEGIN:VEVENT
DTSTART;TZID=America/Detroit:20251113T100000
DTEND;TZID=America/Detroit:20251113T150000
DTSTAMP:20260420T020227
CREATED:20250723T132758Z
LAST-MODIFIED:20250929T182416Z
UID:6522-1763028000-1763046000@miwicevents.com
SUMMARY:Regional Peer Counselor Training (Upper Peninsula) – November 13\, 2025
DESCRIPTION:
URL:https://miwicevents.com/event/regional-peer-counselor-training-upper-peninsula-october-16-2025/
LOCATION:Negaunee\, MI
END:VEVENT
BEGIN:VEVENT
DTSTART;TZID=America/Detroit:20251118T083000
DTEND;TZID=America/Detroit:20251119T123000
DTSTAMP:20260420T020227
CREATED:20250722T190849Z
LAST-MODIFIED:20250722T190849Z
UID:6421-1763454600-1763555400@miwicevents.com
SUMMARY:Breastfeeding Basics for Clerical and Tech Staff – November 18-19\, 2025
DESCRIPTION:
URL:https://miwicevents.com/event/breastfeeding-basics-for-clerical-and-tech-staff-november-18-19-2025/
LOCATION:Virtual
END:VEVENT
BEGIN:VEVENT
DTSTART;TZID=America/Detroit:20251118T083000
DTEND;TZID=America/Detroit:20251120T123000
DTSTAMP:20260420T020227
CREATED:20250722T190928Z
LAST-MODIFIED:20250722T190928Z
UID:6422-1763454600-1763641800@miwicevents.com
SUMMARY:Breastfeeding Basics for PC/CPA/Other – November 18-20\, 2025
DESCRIPTION:
URL:https://miwicevents.com/event/breastfeeding-basics-for-pc-cpa-other-november-18-20-2025/
LOCATION:Virtual
END:VEVENT
BEGIN:VEVENT
DTSTART;TZID=America/Detroit:20251202T100000
DTEND;TZID=America/Detroit:20251202T110000
DTSTAMP:20260420T020227
CREATED:20250620T135004Z
LAST-MODIFIED:20250620T135345Z
UID:6323-1764669600-1764673200@miwicevents.com
SUMMARY:WIC Connect Platform Training (10 am) – December 2\, 2025
DESCRIPTION:
URL:https://miwicevents.com/event/wic-connect-platform-training-10-am-december-2-2025/
LOCATION:Virtual
END:VEVENT
BEGIN:VEVENT
DTSTART;TZID=America/Detroit:20251202T130000
DTEND;TZID=America/Detroit:20251202T140000
DTSTAMP:20260420T020227
CREATED:20250620T135253Z
LAST-MODIFIED:20250620T135253Z
UID:6327-1764680400-1764684000@miwicevents.com
SUMMARY:WIC Connect Platform Training (1 pm) – December 2\, 2025
DESCRIPTION:
URL:https://miwicevents.com/event/wic-connect-platform-training-1-pm-december-2-2025/
LOCATION:Virtual
END:VEVENT
BEGIN:VEVENT
DTSTART;TZID=America/Detroit:20251204T093000
DTEND;TZID=America/Detroit:20251204T110000
DTSTAMP:20260420T020227
CREATED:20251112T181345Z
LAST-MODIFIED:20251112T181345Z
UID:6715-1764840600-1764846000@miwicevents.com
SUMMARY:New Food Packages – December 4\, 2025
DESCRIPTION:
URL:https://miwicevents.com/event/new-food-packages-december-4-2025/
LOCATION:Webcast
END:VEVENT
BEGIN:VEVENT
DTSTART;TZID=America/Detroit:20251218T140000
DTEND;TZID=America/Detroit:20251218T150000
DTSTAMP:20260420T020227
CREATED:20250722T194111Z
LAST-MODIFIED:20250722T194111Z
UID:6452-1766066400-1766070000@miwicevents.com
SUMMARY:Clerk/Tech Workgroup – December 18\, 2025
DESCRIPTION:
URL:https://miwicevents.com/event/clerk-tech-workgroup-december-18-2025/
LOCATION:Virtual
END:VEVENT
BEGIN:VEVENT
DTSTART;TZID=America/Detroit:20260109T083000
DTEND;TZID=America/Detroit:20260109T123000
DTSTAMP:20260420T020227
CREATED:20250722T185154Z
LAST-MODIFIED:20250722T185154Z
UID:6417-1767947400-1767961800@miwicevents.com
SUMMARY:Breastfeeding Workgroup – January 9\, 2026
DESCRIPTION:
URL:https://miwicevents.com/event/breastfeeding-workgroup-january-9-2026/
LOCATION:Virtual
END:VEVENT
BEGIN:VEVENT
DTSTART;TZID=America/Detroit:20260116T090000
DTEND;TZID=America/Detroit:20260116T120000
DTSTAMP:20260420T020227
CREATED:20250723T130908Z
LAST-MODIFIED:20250723T130908Z
UID:6504-1768554000-1768564800@miwicevents.com
SUMMARY:Promotion and Retention Workgroup – January 16\, 2026
DESCRIPTION:
URL:https://miwicevents.com/event/promotion-and-retention-workgroup-january-16-2026/
LOCATION:Virtual
END:VEVENT
BEGIN:VEVENT
DTSTART;TZID=America/Detroit:20260120T083000
DTEND;TZID=America/Detroit:20260121T123000
DTSTAMP:20260420T020227
CREATED:20250722T190951Z
LAST-MODIFIED:20250722T190951Z
UID:6423-1768897800-1768998600@miwicevents.com
SUMMARY:Breastfeeding Basics for Clerical and Tech Staff – January 20-21\, 2026
DESCRIPTION:
URL:https://miwicevents.com/event/breastfeeding-basics-for-clerical-and-tech-staff-january-20-21-2026/
LOCATION:Virtual
END:VEVENT
BEGIN:VEVENT
DTSTART;TZID=America/Detroit:20260120T083000
DTEND;TZID=America/Detroit:20260122T123000
DTSTAMP:20260420T020227
CREATED:20250722T191004Z
LAST-MODIFIED:20250722T191004Z
UID:6424-1768897800-1769085000@miwicevents.com
SUMMARY:Breastfeeding Basics for PC/CPA/Other – January 20-22\, 2026
DESCRIPTION:
URL:https://miwicevents.com/event/breastfeeding-basics-for-pc-cpa-other-january-20-22-2026/
LOCATION:Virtual
END:VEVENT
BEGIN:VEVENT
DTSTART;TZID=America/Detroit:20260127T083000
DTEND;TZID=America/Detroit:20260128T123000
DTSTAMP:20260420T020227
CREATED:20250722T195056Z
LAST-MODIFIED:20250722T195056Z
UID:6462-1769502600-1769603400@miwicevents.com
SUMMARY:CPA Training – January 27-28\, 2026
DESCRIPTION:
URL:https://miwicevents.com/event/cpa-training-january-27-28-2026/
LOCATION:Virtual
END:VEVENT
BEGIN:VEVENT
DTSTART;TZID=America/Detroit:20260129T093000
DTEND;TZID=America/Detroit:20260129T110000
DTSTAMP:20260420T020227
CREATED:20251114T135317Z
LAST-MODIFIED:20251114T135317Z
UID:6724-1769679000-1769684400@miwicevents.com
SUMMARY:2026 Management Evaluation – January 29\, 2026
DESCRIPTION:
URL:https://miwicevents.com/event/2026-management-evaluation-january-29-2026/
LOCATION:Webcast
END:VEVENT
BEGIN:VEVENT
DTSTART;TZID=America/Detroit:20260204T083000
DTEND;TZID=America/Detroit:20260205T123000
DTSTAMP:20260420T020227
CREATED:20250722T193538Z
LAST-MODIFIED:20250722T193538Z
UID:6443-1770193800-1770294600@miwicevents.com
SUMMARY:Clerical Training – February 4-5\, 2026
DESCRIPTION:
URL:https://miwicevents.com/event/clerical-training-february-4-5-2026/
LOCATION:Virtual
END:VEVENT
BEGIN:VEVENT
DTSTART;VALUE=DATE:20260205
DTEND;VALUE=DATE:20260206
DTSTAMP:20260420T020227
CREATED:20260202T144209Z
LAST-MODIFIED:20260202T144755Z
UID:6855-1770249600-1770335999@miwicevents.com
SUMMARY:Removing Barriers Collectively (prerecording) – February 5\, 2026
DESCRIPTION:
URL:https://miwicevents.com/event/removing-barriers-collectively-prerecording-february-5-2026/
LOCATION:Webcast
END:VEVENT
BEGIN:VEVENT
DTSTART;TZID=America/Detroit:20260205T093000
DTEND;TZID=America/Detroit:20260205T110000
DTSTAMP:20260420T020227
CREATED:20250620T125710Z
LAST-MODIFIED:20251112T181229Z
UID:6319-1770283800-1770289200@miwicevents.com
SUMMARY:Pediatric Food Allergies – February 5\, 2026
DESCRIPTION:
URL:https://miwicevents.com/event/pediatric-food-allergies-october-2-2025/
LOCATION:Webcast
END:VEVENT
BEGIN:VEVENT
DTSTART;TZID=America/Detroit:20260212T093000
DTEND;TZID=America/Detroit:20260212T103000
DTSTAMP:20260420T020227
CREATED:20250723T125847Z
LAST-MODIFIED:20260202T143853Z
UID:6498-1770888600-1770892200@miwicevents.com
SUMMARY:Removing Barriers Collectively Q and A – February 12\, 2026
DESCRIPTION:
URL:https://miwicevents.com/event/removing-barriers-collectively-q-and-a-february-12-2026/
LOCATION:Webcast
END:VEVENT
BEGIN:VEVENT
DTSTART;TZID=America/Detroit:20260219T083000
DTEND;TZID=America/Detroit:20260219T123000
DTSTAMP:20260420T020227
CREATED:20250722T195933Z
LAST-MODIFIED:20250722T195933Z
UID:6475-1771489800-1771504200@miwicevents.com
SUMMARY:Mentors Among Us: The Advanced CPA – February 19\, 2026
DESCRIPTION:
URL:https://miwicevents.com/event/mentors-among-us-the-advanced-cpa-february-19-2026/
LOCATION:Virtual
END:VEVENT
END:VCALENDAR