BEGIN:VCALENDAR
VERSION:2.0
PRODID:-//MI WIC Events - ECPv6.15.15//NONSGML v1.0//EN
CALSCALE:GREGORIAN
METHOD:PUBLISH
X-WR-CALNAME:MI WIC Events
X-ORIGINAL-URL:https://miwicevents.com
X-WR-CALDESC:Events for MI WIC Events
REFRESH-INTERVAL;VALUE=DURATION:PT1H
X-Robots-Tag:noindex
X-PUBLISHED-TTL:PT1H
BEGIN:VTIMEZONE
TZID:America/Detroit
BEGIN:DAYLIGHT
TZOFFSETFROM:-0500
TZOFFSETTO:-0400
TZNAME:EDT
DTSTART:20200308T070000
END:DAYLIGHT
BEGIN:STANDARD
TZOFFSETFROM:-0400
TZOFFSETTO:-0500
TZNAME:EST
DTSTART:20201101T060000
END:STANDARD
BEGIN:DAYLIGHT
TZOFFSETFROM:-0500
TZOFFSETTO:-0400
TZNAME:EDT
DTSTART:20210314T070000
END:DAYLIGHT
BEGIN:STANDARD
TZOFFSETFROM:-0400
TZOFFSETTO:-0500
TZNAME:EST
DTSTART:20211107T060000
END:STANDARD
BEGIN:DAYLIGHT
TZOFFSETFROM:-0500
TZOFFSETTO:-0400
TZNAME:EDT
DTSTART:20220313T070000
END:DAYLIGHT
BEGIN:STANDARD
TZOFFSETFROM:-0400
TZOFFSETTO:-0500
TZNAME:EST
DTSTART:20221106T060000
END:STANDARD
BEGIN:DAYLIGHT
TZOFFSETFROM:-0500
TZOFFSETTO:-0400
TZNAME:EDT
DTSTART:20230312T070000
END:DAYLIGHT
BEGIN:STANDARD
TZOFFSETFROM:-0400
TZOFFSETTO:-0500
TZNAME:EST
DTSTART:20231105T060000
END:STANDARD
END:VTIMEZONE
BEGIN:VEVENT
DTSTART;TZID=America/Detroit:20210928T100000
DTEND;TZID=America/Detroit:20210929T150000
DTSTAMP:20260419T221731
CREATED:20200807T151521Z
LAST-MODIFIED:20201201T151001Z
UID:853-1632823200-1632927600@miwicevents.com
SUMMARY:CPA Training – September 28-29\, 2021
DESCRIPTION:
URL:https://miwicevents.com/event/cpa-training-september-28-29-2021/
LOCATION:Virtual
END:VEVENT
BEGIN:VEVENT
DTSTART;TZID=America/Detroit:20211007T093000
DTEND;TZID=America/Detroit:20211007T120000
DTSTAMP:20260419T221731
CREATED:20210810T152334Z
LAST-MODIFIED:20210810T152334Z
UID:2210-1633599000-1633608000@miwicevents.com
SUMMARY:WIC Customer Service Webcast - October 7\, 2021
DESCRIPTION:
URL:https://miwicevents.com/event/wic-customer-service-webcast-october-7-2021/
LOCATION:Webcast
END:VEVENT
BEGIN:VEVENT
DTSTART;TZID=America/Detroit:20211012T084500
DTEND;TZID=America/Detroit:20211012T130000
DTSTAMP:20260419T221731
CREATED:20210810T143751Z
LAST-MODIFIED:20210810T143751Z
UID:2187-1634028300-1634043600@miwicevents.com
SUMMARY:Breastfeeding Coordinator Training - October 12\, 2021
DESCRIPTION:
URL:https://miwicevents.com/event/breastfeeding-coordinator-training-october-12-2021/
LOCATION:Virtual
END:VEVENT
BEGIN:VEVENT
DTSTART;TZID=America/Detroit:20211013T084500
DTEND;TZID=America/Detroit:20211013T120000
DTSTAMP:20260419T221731
CREATED:20210810T144339Z
LAST-MODIFIED:20210810T144339Z
UID:2191-1634114700-1634126400@miwicevents.com
SUMMARY:Peer Counselor Manager Training – October 13\, 2021
DESCRIPTION:
URL:https://miwicevents.com/event/peer-counselor-manager-training-october-13-2021/
LOCATION:Virtual
END:VEVENT
BEGIN:VEVENT
DTSTART;TZID=America/Detroit:20211019T083000
DTEND;TZID=America/Detroit:20211019T123000
DTSTAMP:20260419T221731
CREATED:20210810T133757Z
LAST-MODIFIED:20210823T155350Z
UID:2156-1634632200-1634646600@miwicevents.com
SUMMARY:Laboratory Training – October 19\, 2021
DESCRIPTION:
URL:https://miwicevents.com/event/laboratory-training-october-19-2021/
LOCATION:Virtual
END:VEVENT
BEGIN:VEVENT
DTSTART;TZID=America/Detroit:20211020T083000
DTEND;TZID=America/Detroit:20211020T123000
DTSTAMP:20260419T221731
CREATED:20210806T195656Z
LAST-MODIFIED:20210823T155258Z
UID:2123-1634718600-1634733000@miwicevents.com
SUMMARY:Anthropometric Training – October 20\, 2021
DESCRIPTION:
URL:https://miwicevents.com/event/anthropometric-training-october-20-2021/
LOCATION:Virtual
END:VEVENT
BEGIN:VEVENT
DTSTART;TZID=America/Detroit:20211022T080000
DTEND;TZID=America/Detroit:20211022T120000
DTSTAMP:20260419T221731
CREATED:20210810T150040Z
LAST-MODIFIED:20211021T124850Z
UID:2204-1634889600-1634904000@miwicevents.com
SUMMARY:Milk Expression – October 22\, 2021
DESCRIPTION:
URL:https://miwicevents.com/event/milk-expression-october-22-2021/
LOCATION:Virtual
END:VEVENT
BEGIN:VEVENT
DTSTART;TZID=America/Detroit:20211025T083000
DTEND;TZID=America/Detroit:20211025T123000
DTSTAMP:20260419T221731
CREATED:20210629T200728Z
LAST-MODIFIED:20210823T155411Z
UID:2030-1635150600-1635165000@miwicevents.com
SUMMARY:Record Review Training – October 25\, 2021
DESCRIPTION:
URL:https://miwicevents.com/event/record-review-training-october-25-2021/
LOCATION:Virtual
END:VEVENT
BEGIN:VEVENT
DTSTART;TZID=America/Detroit:20211026T090000
DTEND;TZID=America/Detroit:20211027T150000
DTSTAMP:20260419T221731
CREATED:20210629T200055Z
LAST-MODIFIED:20210629T200507Z
UID:2028-1635238800-1635346800@miwicevents.com
SUMMARY:WIC Coordinator Summit – October 26-27\, 2021
DESCRIPTION:
URL:https://miwicevents.com/event/wic-coordinator-summit-october-26-27-2021/
LOCATION:Virtual
END:VEVENT
BEGIN:VEVENT
DTSTART;TZID=America/Detroit:20211103T083000
DTEND;TZID=America/Detroit:20211104T123000
DTSTAMP:20260419T221731
CREATED:20210809T181551Z
LAST-MODIFIED:20210823T155322Z
UID:2134-1635928200-1636029000@miwicevents.com
SUMMARY:Clerical Training – November 3-4\, 2021
DESCRIPTION:
URL:https://miwicevents.com/event/clerical-training-november-3-4-2021/
LOCATION:Virtual
END:VEVENT
BEGIN:VEVENT
DTSTART;TZID=America/Detroit:20211104T093000
DTEND;TZID=America/Detroit:20211104T120000
DTSTAMP:20260419T221731
CREATED:20210908T124652Z
LAST-MODIFIED:20210908T124652Z
UID:2293-1636018200-1636027200@miwicevents.com
SUMMARY:WIC Nutrition Webcast - November 4\, 2021
DESCRIPTION:
URL:https://miwicevents.com/event/wic-nutrition-webcast-november-4-2021/
LOCATION:Webcast
END:VEVENT
BEGIN:VEVENT
DTSTART;TZID=America/Detroit:20211110T100000
DTEND;TZID=America/Detroit:20211110T150000
DTSTAMP:20260419T221731
CREATED:20210810T145213Z
LAST-MODIFIED:20210810T145312Z
UID:2200-1636538400-1636556400@miwicevents.com
SUMMARY:Regional Peer Counselor Training – November 10\, 2021
DESCRIPTION:
URL:https://miwicevents.com/event/regional-peer-counselor-training-november-10-2021/
LOCATION:Virtual
END:VEVENT
BEGIN:VEVENT
DTSTART;TZID=America/Detroit:20211116T083000
DTEND;TZID=America/Detroit:20211117T123000
DTSTAMP:20260419T221731
CREATED:20210810T140614Z
LAST-MODIFIED:20210810T140614Z
UID:2166-1637051400-1637152200@miwicevents.com
SUMMARY:Breastfeeding Basics for Clerical and Tech Staff – November 16-17\, 2021
DESCRIPTION:
URL:https://miwicevents.com/event/breastfeeding-basics-for-clerical-and-tech-staff-november-16-17-2021/
LOCATION:Virtual
END:VEVENT
BEGIN:VEVENT
DTSTART;TZID=America/Detroit:20211116T083000
DTEND;TZID=America/Detroit:20211118T123000
DTSTAMP:20260419T221731
CREATED:20210810T142931Z
LAST-MODIFIED:20210810T142931Z
UID:2176-1637051400-1637238600@miwicevents.com
SUMMARY:Breastfeeding Basics for PC/CPA/Other – November 16-18\, 2021
DESCRIPTION:
URL:https://miwicevents.com/event/breastfeeding-basics-for-pc-cpa-other-november-16-18-2021/
LOCATION:Virtual
END:VEVENT
BEGIN:VEVENT
DTSTART;TZID=America/Detroit:20211130T083000
DTEND;TZID=America/Detroit:20211201T123000
DTSTAMP:20260419T221731
CREATED:20210810T132423Z
LAST-MODIFIED:20210823T155916Z
UID:2145-1638261000-1638361800@miwicevents.com
SUMMARY:CPA Training – November 30-December 1\, 2021
DESCRIPTION:
URL:https://miwicevents.com/event/cpa-training-november-30-december-1-2021/
LOCATION:Virtual
END:VEVENT
BEGIN:VEVENT
DTSTART;TZID=America/Detroit:20220111T083000
DTEND;TZID=America/Detroit:20220112T123000
DTSTAMP:20260419T221731
CREATED:20210810T142254Z
LAST-MODIFIED:20210810T142254Z
UID:2168-1641889800-1641990600@miwicevents.com
SUMMARY:Breastfeeding Basics for Clerical and Tech Staff – January 11-12\, 2022
DESCRIPTION:
URL:https://miwicevents.com/event/breastfeeding-basics-for-clerical-and-tech-staff-january-11-12-2022/
LOCATION:Virtual
END:VEVENT
BEGIN:VEVENT
DTSTART;TZID=America/Detroit:20220111T083000
DTEND;TZID=America/Detroit:20220113T123000
DTSTAMP:20260419T221731
CREATED:20210810T143038Z
LAST-MODIFIED:20210810T143038Z
UID:2178-1641889800-1642077000@miwicevents.com
SUMMARY:Breastfeeding Basics for PC/CPA/Other – January 11-13\, 2022
DESCRIPTION:
URL:https://miwicevents.com/event/breastfeeding-basics-for-pc-cpa-other-january-11-13-2022/
LOCATION:Virtual
END:VEVENT
BEGIN:VEVENT
DTSTART;TZID=America/Detroit:20220111T140000
DTEND;TZID=America/Detroit:20220111T160000
DTSTAMP:20260419T221731
CREATED:20210810T153022Z
LAST-MODIFIED:20210810T153022Z
UID:2215-1641909600-1641916800@miwicevents.com
SUMMARY:Vendor Grocer Webcast - January 11\, 2022
DESCRIPTION:
URL:https://miwicevents.com/event/vendor-grocer-webcast-january-11-2022/
LOCATION:Webcast
END:VEVENT
BEGIN:VEVENT
DTSTART;TZID=America/Detroit:20220113T093000
DTEND;TZID=America/Detroit:20220113T110000
DTSTAMP:20260419T221731
CREATED:20211201T150322Z
LAST-MODIFIED:20211214T181209Z
UID:2442-1642066200-1642071600@miwicevents.com
SUMMARY:Delivering Effective Nutrition Counseling - January 13\, 2022
DESCRIPTION:
URL:https://miwicevents.com/event/delivering-effective-nutrition-counseling-january-13-2022/
LOCATION:Webcast
END:VEVENT
BEGIN:VEVENT
DTSTART;TZID=America/Detroit:20220125T140000
DTEND;TZID=America/Detroit:20220125T160000
DTSTAMP:20260419T221731
CREATED:20210810T153301Z
LAST-MODIFIED:20210915T194915Z
UID:2220-1643119200-1643126400@miwicevents.com
SUMMARY:Vendor Pharmacy Webcast - January 25\, 2022
DESCRIPTION:
URL:https://miwicevents.com/event/vendor-pharmacy-webcast-january-25-2022/
LOCATION:Webcast
END:VEVENT
BEGIN:VEVENT
DTSTART;TZID=America/Detroit:20220127T093000
DTEND;TZID=America/Detroit:20220127T120000
DTSTAMP:20260419T221731
CREATED:20210810T152519Z
LAST-MODIFIED:20210810T152519Z
UID:2213-1643275800-1643284800@miwicevents.com
SUMMARY:WIC Management Evaluation Webcast - January 27\, 2022
DESCRIPTION:
URL:https://miwicevents.com/event/wic-management-evaluation-webcast-january-27-2022/
LOCATION:Webcast
END:VEVENT
BEGIN:VEVENT
DTSTART;TZID=America/Detroit:20220201T083000
DTEND;TZID=America/Detroit:20220202T123000
DTSTAMP:20260419T221731
CREATED:20210810T132746Z
LAST-MODIFIED:20210823T155923Z
UID:2147-1643704200-1643805000@miwicevents.com
SUMMARY:CPA Training – February 1-2\, 2022
DESCRIPTION:
URL:https://miwicevents.com/event/cpa-training-february-1-2-2022/
LOCATION:Virtual
END:VEVENT
BEGIN:VEVENT
DTSTART;TZID=America/Detroit:20220215T083000
DTEND;TZID=America/Detroit:20220215T123000
DTSTAMP:20260419T221731
CREATED:20210810T133904Z
LAST-MODIFIED:20210823T155752Z
UID:2158-1644913800-1644928200@miwicevents.com
SUMMARY:Laboratory Training – February 15\, 2022
DESCRIPTION:
URL:https://miwicevents.com/event/laboratory-training-february-15-2022/
LOCATION:Virtual
END:VEVENT
BEGIN:VEVENT
DTSTART;TZID=America/Detroit:20220216T083000
DTEND;TZID=America/Detroit:20220216T123000
DTSTAMP:20260419T221731
CREATED:20210806T200016Z
LAST-MODIFIED:20210823T155550Z
UID:2128-1645000200-1645014600@miwicevents.com
SUMMARY:Anthropometric Training – February 16\, 2022
DESCRIPTION:
URL:https://miwicevents.com/event/anthropometric-training-february-16-2022/
LOCATION:Virtual
END:VEVENT
BEGIN:VEVENT
DTSTART;TZID=America/Detroit:20220315T083000
DTEND;TZID=America/Detroit:20220316T123000
DTSTAMP:20260419T221731
CREATED:20210810T142403Z
LAST-MODIFIED:20210810T142403Z
UID:2170-1647333000-1647433800@miwicevents.com
SUMMARY:Breastfeeding Basics for Clerical and Tech Staff – March 15-16\, 2022
DESCRIPTION:
URL:https://miwicevents.com/event/breastfeeding-basics-for-clerical-and-tech-staff-march-15-16-2022/
LOCATION:Virtual
END:VEVENT
BEGIN:VEVENT
DTSTART;TZID=America/Detroit:20220315T083000
DTEND;TZID=America/Detroit:20220317T123000
DTSTAMP:20260419T221731
CREATED:20210810T143128Z
LAST-MODIFIED:20210810T143128Z
UID:2180-1647333000-1647520200@miwicevents.com
SUMMARY:Breastfeeding Basics for PC/CPA/Other – March 15-17\, 2022
DESCRIPTION:
URL:https://miwicevents.com/event/breastfeeding-basics-for-pc-cpa-other-march-15-17-2022/
LOCATION:Virtual
END:VEVENT
BEGIN:VEVENT
DTSTART;TZID=America/Detroit:20220317T093000
DTEND;TZID=America/Detroit:20220317T110000
DTSTAMP:20260419T221731
CREATED:20220217T205443Z
LAST-MODIFIED:20220217T205443Z
UID:3158-1647509400-1647514800@miwicevents.com
SUMMARY:Addressing Burnout – COVID Related Distress – March 17\, 2022
DESCRIPTION:
URL:https://miwicevents.com/event/addressing-burnout-covid-related-distress-march-17-2022/
LOCATION:Webcast
END:VEVENT
BEGIN:VEVENT
DTSTART;TZID=America/Detroit:20220322T083000
DTEND;TZID=America/Detroit:20220323T123000
DTSTAMP:20260419T221731
CREATED:20210810T132844Z
LAST-MODIFIED:20210823T155932Z
UID:2149-1647937800-1648038600@miwicevents.com
SUMMARY:CPA Training – March 22-23\, 2022
DESCRIPTION:
URL:https://miwicevents.com/event/cpa-training-march-22-23-2022/
LOCATION:Virtual
END:VEVENT
BEGIN:VEVENT
DTSTART;TZID=America/Detroit:20220330T100000
DTEND;TZID=America/Detroit:20220330T150000
DTSTAMP:20260419T221731
CREATED:20210806T191424Z
LAST-MODIFIED:20210806T191424Z
UID:2114-1648634400-1648652400@miwicevents.com
SUMMARY:Mentors Among Us: The Advanced CPA – March 30\, 2022
DESCRIPTION:
URL:https://miwicevents.com/event/mentors-among-us-the-advanced-cpa-march-30-2022/
LOCATION:Virtual
END:VEVENT
BEGIN:VEVENT
DTSTART;TZID=America/Detroit:20220404T143000
DTEND;TZID=America/Detroit:20220404T153000
DTSTAMP:20260419T221731
CREATED:20220317T192019Z
LAST-MODIFIED:20220317T192331Z
UID:3551-1649082600-1649086200@miwicevents.com
SUMMARY:Vendor Quarterly Call – April 4\, 2022
DESCRIPTION:
URL:https://miwicevents.com/event/vendor-quarterly-call-april-4-2022/
LOCATION:Virtual
END:VEVENT
END:VCALENDAR