BEGIN:VCALENDAR
VERSION:2.0
PRODID:-//MI WIC Events - ECPv6.15.15//NONSGML v1.0//EN
CALSCALE:GREGORIAN
METHOD:PUBLISH
X-ORIGINAL-URL:https://miwicevents.com
X-WR-CALDESC:Events for MI WIC Events
REFRESH-INTERVAL;VALUE=DURATION:PT1H
X-Robots-Tag:noindex
X-PUBLISHED-TTL:PT1H
BEGIN:VTIMEZONE
TZID:America/Detroit
BEGIN:DAYLIGHT
TZOFFSETFROM:-0500
TZOFFSETTO:-0400
TZNAME:EDT
DTSTART:20240310T070000
END:DAYLIGHT
BEGIN:STANDARD
TZOFFSETFROM:-0400
TZOFFSETTO:-0500
TZNAME:EST
DTSTART:20241103T060000
END:STANDARD
BEGIN:DAYLIGHT
TZOFFSETFROM:-0500
TZOFFSETTO:-0400
TZNAME:EDT
DTSTART:20250309T070000
END:DAYLIGHT
BEGIN:STANDARD
TZOFFSETFROM:-0400
TZOFFSETTO:-0500
TZNAME:EST
DTSTART:20251102T060000
END:STANDARD
BEGIN:DAYLIGHT
TZOFFSETFROM:-0500
TZOFFSETTO:-0400
TZNAME:EDT
DTSTART:20260308T070000
END:DAYLIGHT
BEGIN:STANDARD
TZOFFSETFROM:-0400
TZOFFSETTO:-0500
TZNAME:EST
DTSTART:20261101T060000
END:STANDARD
END:VTIMEZONE
BEGIN:VEVENT
DTSTART;TZID=America/Detroit:20250402T083000
DTEND;TZID=America/Detroit:20250402T123000
DTSTAMP:20260419T164605
CREATED:20240823T181513Z
LAST-MODIFIED:20240823T181513Z
UID:5748-1743582600-1743597000@miwicevents.com
SUMMARY:Peer Counselor Manager Training – April 2\, 2025
DESCRIPTION:
URL:https://miwicevents.com/event/peer-counselor-manager-training-april-2-2025/
LOCATION:Virtual
END:VEVENT
BEGIN:VEVENT
DTSTART;TZID=America/Detroit:20250402T083000
DTEND;TZID=America/Detroit:20250403T123000
DTSTAMP:20260419T164605
CREATED:20240823T171735Z
LAST-MODIFIED:20241204T202149Z
UID:5695-1743582600-1743683400@miwicevents.com
SUMMARY:Clerical Training – April 2-3\, 2025
DESCRIPTION:
URL:https://miwicevents.com/event/clerical-training-april-2-3-2025/
LOCATION:Virtual
END:VEVENT
BEGIN:VEVENT
DTSTART;TZID=America/Detroit:20250408T083000
DTEND;TZID=America/Detroit:20250408T123000
DTSTAMP:20260419T164605
CREATED:20240823T180827Z
LAST-MODIFIED:20240823T180827Z
UID:5745-1744101000-1744115400@miwicevents.com
SUMMARY:Milk Expression – April 8\, 2025
DESCRIPTION:
URL:https://miwicevents.com/event/milk-expression-april-8-2025/
LOCATION:Virtual
END:VEVENT
BEGIN:VEVENT
DTSTART;TZID=America/Detroit:20250411T083000
DTEND;TZID=America/Detroit:20250411T123000
DTSTAMP:20260419T164605
CREATED:20240823T155539Z
LAST-MODIFIED:20240823T155730Z
UID:5686-1744360200-1744374600@miwicevents.com
SUMMARY:Breastfeeding Workgroup – April 11\, 2025
DESCRIPTION:
URL:https://miwicevents.com/event/breastfeeding-workgroup-april-11-2025/
LOCATION:In-Person – TBD
END:VEVENT
BEGIN:VEVENT
DTSTART;TZID=America/Detroit:20250415T083000
DTEND;TZID=America/Detroit:20250416T123000
DTSTAMP:20260419T164605
CREATED:20240823T175633Z
LAST-MODIFIED:20240823T175633Z
UID:5729-1744705800-1744806600@miwicevents.com
SUMMARY:CPA Training – April 15-16\, 2025
DESCRIPTION:
URL:https://miwicevents.com/event/cpa-training-april-15-16-2025/
LOCATION:Virtual
END:VEVENT
BEGIN:VEVENT
DTSTART;TZID=America/Detroit:20250424T100000
DTEND;TZID=America/Detroit:20250424T150000
DTSTAMP:20260419T164605
CREATED:20240823T180525Z
LAST-MODIFIED:20240823T180525Z
UID:5740-1745488800-1745506800@miwicevents.com
SUMMARY:Mentors Among Us: The Advanced CPA – April 24\, 2025
DESCRIPTION:
URL:https://miwicevents.com/event/mentors-among-us-the-advanced-cpa-april-24-2025/
LOCATION:Virtual
END:VEVENT
BEGIN:VEVENT
DTSTART;TZID=America/Detroit:20250424T140000
DTEND;TZID=America/Detroit:20250424T150000
DTSTAMP:20260419T164605
CREATED:20240823T172941Z
LAST-MODIFIED:20240823T172941Z
UID:5704-1745503200-1745506800@miwicevents.com
SUMMARY:Clerk/Tech Workgroup – April 24\, 2025
DESCRIPTION:
URL:https://miwicevents.com/event/clerk-tech-workgroup-april-24-2025/
LOCATION:Virtual
END:VEVENT
BEGIN:VEVENT
DTSTART;VALUE=DATE:20250508
DTEND;VALUE=DATE:20250510
DTSTAMP:20260419T164605
CREATED:20240904T172140Z
LAST-MODIFIED:20240904T172140Z
UID:5825-1746662400-1746835199@miwicevents.com
SUMMARY:WIC Training & Educational Conference – May 8-9\, 2025
DESCRIPTION:
URL:https://miwicevents.com/event/wic-training-educational-conference-may-8-9-2025/
LOCATION:Grand Traverse Resort\, Acme\, MI
END:VEVENT
BEGIN:VEVENT
DTSTART;TZID=America/Detroit:20250516T090000
DTEND;TZID=America/Detroit:20250516T120000
DTSTAMP:20260419T164605
CREATED:20240823T173928Z
LAST-MODIFIED:20240823T173928Z
UID:5717-1747386000-1747396800@miwicevents.com
SUMMARY:Promotion and Retention Workgroup – May 16\, 2025
DESCRIPTION:
URL:https://miwicevents.com/event/promotion-and-retention-workgroup-may-16-2025/
LOCATION:Virtual
END:VEVENT
BEGIN:VEVENT
DTSTART;TZID=America/Detroit:20250522T093000
DTEND;TZID=America/Detroit:20250522T110000
DTSTAMP:20260419T164605
CREATED:20250212T143137Z
LAST-MODIFIED:20250313T131345Z
UID:6089-1747906200-1747911600@miwicevents.com
SUMMARY:Michigan Universal Lead Testing – May 22\, 2024
DESCRIPTION:
URL:https://miwicevents.com/event/michigan-universal-lead-testing-april-10-2024/
LOCATION:Webcast
END:VEVENT
BEGIN:VEVENT
DTSTART;TZID=America/Detroit:20250529T093000
DTEND;TZID=America/Detroit:20250529T110000
DTSTAMP:20260419T164605
CREATED:20250227T132200Z
LAST-MODIFIED:20250227T132200Z
UID:6117-1748511000-1748516400@miwicevents.com
SUMMARY:Exploring the Culture of Afghanistan – May 29\, 2025
DESCRIPTION:
URL:https://miwicevents.com/event/exploring-the-culture-of-afghanistan-may-29-2025/
LOCATION:Webcast
END:VEVENT
BEGIN:VEVENT
DTSTART;TZID=America/Detroit:20250603T100000
DTEND;TZID=America/Detroit:20250603T110000
DTSTAMP:20260419T164605
CREATED:20250620T134859Z
LAST-MODIFIED:20250620T135424Z
UID:6322-1748944800-1748948400@miwicevents.com
SUMMARY:WIC Connect Platform Training (10 am) – June 3\, 2025
DESCRIPTION:
URL:https://miwicevents.com/event/wic-connect-platform-training-10-am-june-3-2025/
LOCATION:Virtual
END:VEVENT
BEGIN:VEVENT
DTSTART;TZID=America/Detroit:20250603T130000
DTEND;TZID=America/Detroit:20250603T140000
DTSTAMP:20260419T164605
CREATED:20250620T135144Z
LAST-MODIFIED:20250620T135144Z
UID:6328-1748955600-1748959200@miwicevents.com
SUMMARY:WIC Connect Platform Training (1 pm) – June 3\, 2025
DESCRIPTION:
URL:https://miwicevents.com/event/wic-connect-platform-training-1-pm-june-3-2025/
LOCATION:Virtual
END:VEVENT
BEGIN:VEVENT
DTSTART;TZID=America/Detroit:20250610T083000
DTEND;TZID=America/Detroit:20250611T123000
DTSTAMP:20260419T164605
CREATED:20240816T194258Z
LAST-MODIFIED:20240816T194258Z
UID:5645-1749544200-1749645000@miwicevents.com
SUMMARY:Breastfeeding Basics for Clerical and Tech Staff – June 10-11\, 2025
DESCRIPTION:
URL:https://miwicevents.com/event/breastfeeding-basics-for-clerical-and-tech-staff-june-10-11-2025/
LOCATION:Virtual
END:VEVENT
BEGIN:VEVENT
DTSTART;TZID=America/Detroit:20250610T083000
DTEND;TZID=America/Detroit:20250612T123000
DTSTAMP:20260419T164605
CREATED:20240816T194333Z
LAST-MODIFIED:20240816T194333Z
UID:5646-1749544200-1749731400@miwicevents.com
SUMMARY:Breastfeeding Basics for PC/CPA/Other – June 10-12\, 2025
DESCRIPTION:
URL:https://miwicevents.com/event/breastfeeding-basics-for-pc-cpa-other-june-10-12-2025/
LOCATION:Virtual
END:VEVENT
BEGIN:VEVENT
DTSTART;TZID=America/Detroit:20250612T100000
DTEND;TZID=America/Detroit:20250612T120000
DTSTAMP:20260419T164605
CREATED:20240823T173508Z
LAST-MODIFIED:20240823T173508Z
UID:5711-1749722400-1749729600@miwicevents.com
SUMMARY:Nutrition Education Workgroup – June 12\, 2025
DESCRIPTION:
URL:https://miwicevents.com/event/nutrition-education-workgroup-june-12-2025/
LOCATION:Virtual
END:VEVENT
BEGIN:VEVENT
DTSTART;TZID=America/Detroit:20250617T083000
DTEND;TZID=America/Detroit:20250617T123000
DTSTAMP:20260419T164605
CREATED:20240823T192156Z
LAST-MODIFIED:20240823T192156Z
UID:5791-1750149000-1750163400@miwicevents.com
SUMMARY:Anthropometric Training – June 17\, 2025
DESCRIPTION:
URL:https://miwicevents.com/event/anthropometric-training-june-17-2025/
LOCATION:Virtual
END:VEVENT
BEGIN:VEVENT
DTSTART;TZID=America/Detroit:20250618T083000
DTEND;TZID=America/Detroit:20250618T123000
DTSTAMP:20260419T164605
CREATED:20240823T193310Z
LAST-MODIFIED:20240823T193310Z
UID:5803-1750235400-1750249800@miwicevents.com
SUMMARY:Laboratory Training – June 18\, 2025
DESCRIPTION:
URL:https://miwicevents.com/event/laboratory-training-june-18-2025/
LOCATION:Virtual
END:VEVENT
BEGIN:VEVENT
DTSTART;TZID=America/Detroit:20250711T083000
DTEND;TZID=America/Detroit:20250711T123000
DTSTAMP:20260419T164605
CREATED:20240823T155614Z
LAST-MODIFIED:20240823T155614Z
UID:5687-1752222600-1752237000@miwicevents.com
SUMMARY:Breastfeeding Workgroup – July 11\, 2025
DESCRIPTION:
URL:https://miwicevents.com/event/breastfeeding-workgroup-july-11-2025/
LOCATION:Virtual
END:VEVENT
BEGIN:VEVENT
DTSTART;TZID=America/Detroit:20250715T083000
DTEND;TZID=America/Detroit:20250716T160000
DTSTAMP:20260419T164605
CREATED:20240823T175731Z
LAST-MODIFIED:20240904T171452Z
UID:5730-1752568200-1752681600@miwicevents.com
SUMMARY:CPA Training – July 15-16\, 2025
DESCRIPTION:
URL:https://miwicevents.com/event/cpa-training-july-15-16-2025/
LOCATION:Virtual
END:VEVENT
BEGIN:VEVENT
DTSTART;TZID=America/Detroit:20250807T090000
DTEND;TZID=America/Detroit:20250807T160000
DTSTAMP:20260419T164605
CREATED:20240823T171810Z
LAST-MODIFIED:20240823T171810Z
UID:5696-1754557200-1754582400@miwicevents.com
SUMMARY:Clerical Training – August 7\, 2025
DESCRIPTION:
URL:https://miwicevents.com/event/clerical-training-august-7-2025/
LOCATION:In-Person – TBD
END:VEVENT
BEGIN:VEVENT
DTSTART;TZID=America/Detroit:20250813T083000
DTEND;TZID=America/Detroit:20250813T114500
DTSTAMP:20260419T164605
CREATED:20240823T192300Z
LAST-MODIFIED:20240823T192300Z
UID:5792-1755073800-1755085500@miwicevents.com
SUMMARY:Anthropometric Training – August 13\, 2025
DESCRIPTION:
URL:https://miwicevents.com/event/anthropometric-training-august-13-2025/
LOCATION:In-Person – Southeast MI
END:VEVENT
BEGIN:VEVENT
DTSTART;TZID=America/Detroit:20250813T124500
DTEND;TZID=America/Detroit:20250813T160000
DTSTAMP:20260419T164605
CREATED:20240823T193354Z
LAST-MODIFIED:20240823T193354Z
UID:5804-1755089100-1755100800@miwicevents.com
SUMMARY:Laboratory Training – August 13\, 2025
DESCRIPTION:
URL:https://miwicevents.com/event/laboratory-training-august-13-2025/
LOCATION:In-Person – Southeast MI
END:VEVENT
BEGIN:VEVENT
DTSTART;TZID=America/Detroit:20250821T140000
DTEND;TZID=America/Detroit:20250821T150000
DTSTAMP:20260419T164605
CREATED:20240823T173031Z
LAST-MODIFIED:20240823T173031Z
UID:5705-1755784800-1755788400@miwicevents.com
SUMMARY:Clerk/Tech Workgroup – August 21\, 2025
DESCRIPTION:
URL:https://miwicevents.com/event/clerk-tech-workgroup-august-21-2025/
LOCATION:Virtual
END:VEVENT
BEGIN:VEVENT
DTSTART;TZID=America/Detroit:20250911T100000
DTEND;TZID=America/Detroit:20250911T120000
DTSTAMP:20260419T164605
CREATED:20240823T173547Z
LAST-MODIFIED:20240823T173547Z
UID:5712-1757584800-1757592000@miwicevents.com
SUMMARY:Nutrition Education Workgroup – September 11\, 2025
DESCRIPTION:
URL:https://miwicevents.com/event/nutrition-education-workgroup-september-11-2025/
LOCATION:Virtual
END:VEVENT
BEGIN:VEVENT
DTSTART;TZID=America/Detroit:20250912T090000
DTEND;TZID=America/Detroit:20250912T120000
DTSTAMP:20260419T164605
CREATED:20240823T174011Z
LAST-MODIFIED:20250618T153754Z
UID:5718-1757667600-1757678400@miwicevents.com
SUMMARY:Promotion and Retention Workgroup – September 12\, 2025
DESCRIPTION:
URL:https://miwicevents.com/event/promotion-and-retention-workgroup-september-19-2025/
LOCATION:Virtual
END:VEVENT
BEGIN:VEVENT
DTSTART;TZID=America/Detroit:20250916T083000
DTEND;TZID=America/Detroit:20250917T123000
DTSTAMP:20260419T164605
CREATED:20240823T153833Z
LAST-MODIFIED:20250515T122549Z
UID:5673-1758011400-1758112200@miwicevents.com
SUMMARY:Breastfeeding Basics for Clerical and Tech Staff – September 16-17\, 2025
DESCRIPTION:
URL:https://miwicevents.com/event/breastfeeding-basics-for-clerical-and-tech-staff-september-17-2025/
LOCATION:Virtual
END:VEVENT
BEGIN:VEVENT
DTSTART;TZID=America/Detroit:20250916T083000
DTEND;TZID=America/Detroit:20250918T123000
DTSTAMP:20260419T164605
CREATED:20240823T153922Z
LAST-MODIFIED:20250515T122618Z
UID:5674-1758011400-1758198600@miwicevents.com
SUMMARY:Breastfeeding Basics for PC/CPA/Other – September 16-18\, 2025
DESCRIPTION:
URL:https://miwicevents.com/event/breastfeeding-basics-for-pc-cpa-other-september-17-18-2025/
LOCATION:Virtual
END:VEVENT
BEGIN:VEVENT
DTSTART;VALUE=DATE:20250923
DTEND;VALUE=DATE:20250924
DTSTAMP:20260419T164605
CREATED:20240823T181837Z
LAST-MODIFIED:20250723T130329Z
UID:5755-1758585600-1758671999@miwicevents.com
SUMMARY:Peer Update - September 23\, 2025
DESCRIPTION:
URL:https://miwicevents.com/event/peer-update-september-23-2025/
LOCATION:Grand Rapids\, MI
END:VEVENT
BEGIN:VEVENT
DTSTART;TZID=America/Detroit:20250924T083000
DTEND;TZID=America/Detroit:20250925T123000
DTSTAMP:20260419T164605
CREATED:20240823T175813Z
LAST-MODIFIED:20240904T171506Z
UID:5731-1758702600-1758803400@miwicevents.com
SUMMARY:CPA Training – September 24-25\, 2025
DESCRIPTION:
URL:https://miwicevents.com/event/cpa-training-september-24-25-2025/
LOCATION:In-Person – TBD
END:VEVENT
END:VCALENDAR