BEGIN:VCALENDAR
VERSION:2.0
PRODID:-//MI WIC Events - ECPv6.15.15//NONSGML v1.0//EN
CALSCALE:GREGORIAN
METHOD:PUBLISH
X-WR-CALNAME:MI WIC Events
X-ORIGINAL-URL:https://miwicevents.com
X-WR-CALDESC:Events for MI WIC Events
REFRESH-INTERVAL;VALUE=DURATION:PT1H
X-Robots-Tag:noindex
X-PUBLISHED-TTL:PT1H
BEGIN:VTIMEZONE
TZID:America/Detroit
BEGIN:DAYLIGHT
TZOFFSETFROM:-0500
TZOFFSETTO:-0400
TZNAME:EDT
DTSTART:20230312T070000
END:DAYLIGHT
BEGIN:STANDARD
TZOFFSETFROM:-0400
TZOFFSETTO:-0500
TZNAME:EST
DTSTART:20231105T060000
END:STANDARD
BEGIN:DAYLIGHT
TZOFFSETFROM:-0500
TZOFFSETTO:-0400
TZNAME:EDT
DTSTART:20240310T070000
END:DAYLIGHT
BEGIN:STANDARD
TZOFFSETFROM:-0400
TZOFFSETTO:-0500
TZNAME:EST
DTSTART:20241103T060000
END:STANDARD
BEGIN:DAYLIGHT
TZOFFSETFROM:-0500
TZOFFSETTO:-0400
TZNAME:EDT
DTSTART:20250309T070000
END:DAYLIGHT
BEGIN:STANDARD
TZOFFSETFROM:-0400
TZOFFSETTO:-0500
TZNAME:EST
DTSTART:20251102T060000
END:STANDARD
END:VTIMEZONE
BEGIN:VEVENT
DTSTART;TZID=America/Detroit:20241108T090000
DTEND;TZID=America/Detroit:20241108T150000
DTSTAMP:20260419T184449
CREATED:20240823T184801Z
LAST-MODIFIED:20240823T184801Z
UID:5762-1731056400-1731078000@miwicevents.com
SUMMARY:Regional Peer Counselor Training (South Central) – November 8\, 2024
DESCRIPTION:
URL:https://miwicevents.com/event/regional-peer-counselor-training-south-central-november-8-2024/
LOCATION:Lansing\, MI
END:VEVENT
BEGIN:VEVENT
DTSTART;TZID=America/Detroit:20241107T093000
DTEND;TZID=America/Detroit:20241107T110000
DTSTAMP:20260419T184449
CREATED:20240904T174021Z
LAST-MODIFIED:20240904T174021Z
UID:5831-1730971800-1730977200@miwicevents.com
SUMMARY:MI-WIC Release 9.9 – November 7\, 2024
DESCRIPTION:
URL:https://miwicevents.com/event/mi-wic-release-9-9-november-7-2024/
LOCATION:Webcast
END:VEVENT
BEGIN:VEVENT
DTSTART;TZID=America/Detroit:20241107T090000
DTEND;TZID=America/Detroit:20241107T150000
DTSTAMP:20260419T184449
CREATED:20240823T184715Z
LAST-MODIFIED:20240823T184715Z
UID:5761-1730970000-1730991600@miwicevents.com
SUMMARY:Regional Peer Counselor Training (Northern) – November 7\, 2024
DESCRIPTION:
URL:https://miwicevents.com/event/regional-peer-counselor-training-northern-november-7-2024/
LOCATION:Gaylord\, MI
END:VEVENT
BEGIN:VEVENT
DTSTART;TZID=America/Detroit:20241106T083000
DTEND;TZID=America/Detroit:20241107T123000
DTSTAMP:20260419T184449
CREATED:20240823T171610Z
LAST-MODIFIED:20240823T171610Z
UID:5693-1730881800-1730982600@miwicevents.com
SUMMARY:Clerical Training – November 6-7\, 2024
DESCRIPTION:
URL:https://miwicevents.com/event/clerical-training-november-6-7-2024/
LOCATION:Virtual
END:VEVENT
BEGIN:VEVENT
DTSTART;VALUE=DATE:20241029
DTEND;VALUE=DATE:20241031
DTSTAMP:20260419T184449
CREATED:20240823T174721Z
LAST-MODIFIED:20240823T174721Z
UID:5723-1730160000-1730332799@miwicevents.com
SUMMARY:WIC Coordinator Summit – October 29-30\, 2024
DESCRIPTION:
URL:https://miwicevents.com/event/wic-coordinator-summit-october-29-30-2024/
LOCATION:Mt. Pleasant\, MI
END:VEVENT
BEGIN:VEVENT
DTSTART;TZID=America/Detroit:20241024T090000
DTEND;TZID=America/Detroit:20241024T150000
DTSTAMP:20260419T184449
CREATED:20240823T184526Z
LAST-MODIFIED:20240823T184549Z
UID:5760-1729760400-1729782000@miwicevents.com
SUMMARY:Regional Peer Counselor Training (Mid-Central) – October 24\, 2024
DESCRIPTION:
URL:https://miwicevents.com/event/regional-peer-counselor-training-mid-central-october-24-2024/
LOCATION:Harrison\, MI
END:VEVENT
BEGIN:VEVENT
DTSTART;TZID=America/Detroit:20241022T090000
DTEND;TZID=America/Detroit:20241022T150000
DTSTAMP:20260419T184449
CREATED:20240823T184432Z
LAST-MODIFIED:20240823T184432Z
UID:5758-1729587600-1729609200@miwicevents.com
SUMMARY:Regional Peer Counselor Training (Metro Detroit) – October 22\, 2024
DESCRIPTION:
URL:https://miwicevents.com/event/regional-peer-counselor-training-metro-detroit-october-22-2024/
LOCATION:Taylor\, MI
END:VEVENT
BEGIN:VEVENT
DTSTART;TZID=America/Detroit:20241017T140000
DTEND;TZID=America/Detroit:20241017T150000
DTSTAMP:20260419T184449
CREATED:20240823T172809Z
LAST-MODIFIED:20240823T172809Z
UID:5702-1729173600-1729177200@miwicevents.com
SUMMARY:Clerk/Tech Workgroup – October 17\, 2024
DESCRIPTION:
URL:https://miwicevents.com/event/clerk-tech-workgroup-october-17-2024/
LOCATION:Virtual
END:VEVENT
BEGIN:VEVENT
DTSTART;TZID=America/Detroit:20241016T083000
DTEND;TZID=America/Detroit:20241016T123000
DTSTAMP:20260419T184449
CREATED:20240823T193132Z
LAST-MODIFIED:20240823T193132Z
UID:5801-1729067400-1729081800@miwicevents.com
SUMMARY:Laboratory Training – October 16\, 2024
DESCRIPTION:
URL:https://miwicevents.com/event/laboratory-training-october-16-2024/
LOCATION:Virtual
END:VEVENT
BEGIN:VEVENT
DTSTART;TZID=America/Detroit:20241015T090000
DTEND;TZID=America/Detroit:20241015T150000
DTSTAMP:20260419T184449
CREATED:20240823T184347Z
LAST-MODIFIED:20240823T184347Z
UID:5759-1728982800-1729004400@miwicevents.com
SUMMARY:Regional Peer Counselor Training (Upper Peninsula) – October 15\, 2024
DESCRIPTION:
URL:https://miwicevents.com/event/regional-peer-counselor-training-upper-peninsula-october-15-2024/
LOCATION:Negaunee\, MI
END:VEVENT
BEGIN:VEVENT
DTSTART;TZID=America/Detroit:20241015T083000
DTEND;TZID=America/Detroit:20241015T123000
DTSTAMP:20260419T184449
CREATED:20240823T191114Z
LAST-MODIFIED:20240823T191114Z
UID:5789-1728981000-1728995400@miwicevents.com
SUMMARY:Anthropometric Training – October 15\, 2024
DESCRIPTION:
URL:https://miwicevents.com/event/anthropometric-training-october-15-2024/
LOCATION:Virtual
END:VEVENT
BEGIN:VEVENT
DTSTART;TZID=America/Detroit:20241011T083000
DTEND;TZID=America/Detroit:20241011T123000
DTSTAMP:20260419T184449
CREATED:20240823T155227Z
LAST-MODIFIED:20240823T155227Z
UID:5684-1728635400-1728649800@miwicevents.com
SUMMARY:Breastfeeding Workgroup – October 11\, 2024
DESCRIPTION:
URL:https://miwicevents.com/event/breastfeeding-workgroup-october-11-2024/
LOCATION:Virtual
END:VEVENT
BEGIN:VEVENT
DTSTART;TZID=America/Detroit:20241010T093000
DTEND;TZID=America/Detroit:20241010T110000
DTSTAMP:20260419T184449
CREATED:20240710T134743Z
LAST-MODIFIED:20240822T130800Z
UID:5546-1728552600-1728558000@miwicevents.com
SUMMARY:Maternal Mental Health Support in Michigan - MC3 – October 10\, 2024
DESCRIPTION:
URL:https://miwicevents.com/event/maternal-mental-health-support-in-michigan-mc3-october-10-2024/
LOCATION:Webcast
END:VEVENT
BEGIN:VEVENT
DTSTART;TZID=America/Detroit:20241002T083000
DTEND;TZID=America/Detroit:20241002T123000
DTSTAMP:20260419T184449
CREATED:20240823T181423Z
LAST-MODIFIED:20240823T181423Z
UID:5750-1727857800-1727872200@miwicevents.com
SUMMARY:Peer Counselor Manager Training – October 2\, 2024
DESCRIPTION:
URL:https://miwicevents.com/event/peer-counselor-manager-training-october-2-2024/
LOCATION:Virtual
END:VEVENT
BEGIN:VEVENT
DTSTART;TZID=America/Detroit:20241001T083000
DTEND;TZID=America/Detroit:20241001T123000
DTSTAMP:20260419T184449
CREATED:20240823T154446Z
LAST-MODIFIED:20240823T154446Z
UID:5681-1727771400-1727785800@miwicevents.com
SUMMARY:Breastfeeding Coordinator Training - October 1\, 2024
DESCRIPTION:
URL:https://miwicevents.com/event/breastfeeding-coordinator-training-october-1-2024/
LOCATION:Virtual
END:VEVENT
BEGIN:VEVENT
DTSTART;TZID=America/Detroit:20240926T093000
DTEND;TZID=America/Detroit:20240926T110000
DTSTAMP:20260419T184449
CREATED:20240604T123921Z
LAST-MODIFIED:20240604T123921Z
UID:5513-1727343000-1727348400@miwicevents.com
SUMMARY:Exploring the Vietnamese Culture – September 26\, 2024
DESCRIPTION:
URL:https://miwicevents.com/event/exploring-the-vietnamese-culture-september-26-2024/
LOCATION:Webcast
END:VEVENT
BEGIN:VEVENT
DTSTART;TZID=America/Detroit:20240924T090000
DTEND;TZID=America/Detroit:20240924T160000
DTSTAMP:20260419T184449
CREATED:20230810T194501Z
LAST-MODIFIED:20230810T194501Z
UID:4885-1727168400-1727193600@miwicevents.com
SUMMARY:Breastfeeding Peer Update - September 24\, 2024
DESCRIPTION:
URL:https://miwicevents.com/event/breastfeeding-peer-update-september-24-2024/
LOCATION:TBD
END:VEVENT
BEGIN:VEVENT
DTSTART;TZID=America/Detroit:20240920T090000
DTEND;TZID=America/Detroit:20240920T120000
DTSTAMP:20260419T184449
CREATED:20230810T190358Z
LAST-MODIFIED:20230810T190358Z
UID:4878-1726822800-1726833600@miwicevents.com
SUMMARY:Promotion and Retention Workgroup – September 20\, 2024
DESCRIPTION:
URL:https://miwicevents.com/event/promotion-and-retention-workgroup-september-20-2024/
LOCATION:Virtual
END:VEVENT
BEGIN:VEVENT
DTSTART;TZID=America/Detroit:20240917T083000
DTEND;TZID=America/Detroit:20240919T123000
DTSTAMP:20260419T184449
CREATED:20230809T193309Z
LAST-MODIFIED:20240624T134758Z
UID:4783-1726561800-1726749000@miwicevents.com
SUMMARY:Breastfeeding Basics for PC/CPA/Other – September 17-19\, 2024
DESCRIPTION:
URL:https://miwicevents.com/event/breastfeeding-basics-for-pc-cpa-other-september-17-19-2024/
LOCATION:Virtual
END:VEVENT
BEGIN:VEVENT
DTSTART;TZID=America/Detroit:20240917T083000
DTEND;TZID=America/Detroit:20240918T123000
DTSTAMP:20260419T184449
CREATED:20230809T193225Z
LAST-MODIFIED:20240624T134803Z
UID:4784-1726561800-1726662600@miwicevents.com
SUMMARY:Breastfeeding Basics for Clerical and Tech Staff – September 17-18\, 2024
DESCRIPTION:
URL:https://miwicevents.com/event/breastfeeding-basics-for-clerical-and-tech-staff-september-17-18-2024/
LOCATION:Virtual
END:VEVENT
BEGIN:VEVENT
DTSTART;TZID=America/Detroit:20240912T100000
DTEND;TZID=America/Detroit:20240912T120000
DTSTAMP:20260419T184449
CREATED:20230810T174133Z
LAST-MODIFIED:20230810T174133Z
UID:4868-1726135200-1726142400@miwicevents.com
SUMMARY:Nutrition Education Workgroup – September 12\, 2024
DESCRIPTION:
URL:https://miwicevents.com/event/nutrition-education-workgroup-september-12-2024/
LOCATION:Virtual
END:VEVENT
BEGIN:VEVENT
DTSTART;TZID=America/Detroit:20240910T083000
DTEND;TZID=America/Detroit:20240911T123000
DTSTAMP:20260419T184449
CREATED:20230810T154254Z
LAST-MODIFIED:20230810T154254Z
UID:4847-1725957000-1726057800@miwicevents.com
SUMMARY:CPA Training – September 10-11\, 2024
DESCRIPTION:
URL:https://miwicevents.com/event/cpa-training-september-10-11-2024/
LOCATION:Virtual
END:VEVENT
BEGIN:VEVENT
DTSTART;TZID=America/Detroit:20240905T093000
DTEND;TZID=America/Detroit:20240905T110000
DTSTAMP:20260419T184449
CREATED:20240717T124333Z
LAST-MODIFIED:20240717T124333Z
UID:5564-1725528600-1725534000@miwicevents.com
SUMMARY:National Breastfeeding Month Wrap-Up – September 5\, 2024
DESCRIPTION:
URL:https://miwicevents.com/event/national-breastfeeding-month-wrap-up-september-5-2024/
LOCATION:Webcast
END:VEVENT
BEGIN:VEVENT
DTSTART;TZID=America/Detroit:20240822T140000
DTEND;TZID=America/Detroit:20240822T150000
DTSTAMP:20260419T184449
CREATED:20230810T151319Z
LAST-MODIFIED:20230810T151319Z
UID:4832-1724335200-1724338800@miwicevents.com
SUMMARY:Clerk/Tech Workgroup – August 22\, 2024
DESCRIPTION:
URL:https://miwicevents.com/event/clerk-tech-workgroup-august-22-2024/
LOCATION:Virtual
END:VEVENT
BEGIN:VEVENT
DTSTART;TZID=America/Detroit:20240822T093000
DTEND;TZID=America/Detroit:20240822T110000
DTSTAMP:20260419T184449
CREATED:20240722T132239Z
LAST-MODIFIED:20240722T132239Z
UID:5586-1724319000-1724324400@miwicevents.com
SUMMARY:MI-WIC Release 9.8 - MC3 – August 22\, 2024
DESCRIPTION:
URL:https://miwicevents.com/event/mi-wic-release-9-8-mc3-august-22-2024/
LOCATION:Webcast
END:VEVENT
BEGIN:VEVENT
DTSTART;TZID=America/Detroit:20240820T090000
DTEND;TZID=America/Detroit:20240821T160000
DTSTAMP:20260419T184449
CREATED:20230809T191527Z
LAST-MODIFIED:20240823T153050Z
UID:4777-1724144400-1724256000@miwicevents.com
SUMMARY:Advanced Clinical Lactation Skills – August 20-21\, 2024
DESCRIPTION:
URL:https://miwicevents.com/event/advanced-clinical-lactation-skills-august-20-21-2024/
LOCATION:TBD
END:VEVENT
BEGIN:VEVENT
DTSTART;TZID=America/Detroit:20240814T083000
DTEND;TZID=America/Detroit:20240815T123000
DTSTAMP:20260419T184449
CREATED:20230817T190439Z
LAST-MODIFIED:20230817T190439Z
UID:4928-1723624200-1723725000@miwicevents.com
SUMMARY:Clerical Training – August 14-15\, 2024
DESCRIPTION:
URL:https://miwicevents.com/event/clerical-training-august-14-15-2024/
LOCATION:Virtual
END:VEVENT
BEGIN:VEVENT
DTSTART;TZID=America/Detroit:20240807T124500
DTEND;TZID=America/Detroit:20240807T160000
DTSTAMP:20260419T184449
CREATED:20230818T133733Z
LAST-MODIFIED:20230818T133733Z
UID:4936-1723034700-1723046400@miwicevents.com
SUMMARY:Laboratory Training – August 7\, 2024
DESCRIPTION:
URL:https://miwicevents.com/event/laboratory-training-august-7-2024/
LOCATION:SE Michigan
END:VEVENT
BEGIN:VEVENT
DTSTART;TZID=America/Detroit:20240807T083000
DTEND;TZID=America/Detroit:20240807T114500
DTSTAMP:20260419T184449
CREATED:20230809T175848Z
LAST-MODIFIED:20230809T175848Z
UID:4771-1723019400-1723031100@miwicevents.com
SUMMARY:Anthropometric Training – August 7\, 2024
DESCRIPTION:
URL:https://miwicevents.com/event/anthropometric-training-august-7-2024/
LOCATION:SE Michigan
END:VEVENT
BEGIN:VEVENT
DTSTART;TZID=America/Detroit:20240724T083000
DTEND;TZID=America/Detroit:20240725T163000
DTSTAMP:20260419T184449
CREATED:20230810T154216Z
LAST-MODIFIED:20230810T154216Z
UID:4846-1721809800-1721925000@miwicevents.com
SUMMARY:CPA Training – July 24-25\, 2024
DESCRIPTION:
URL:https://miwicevents.com/event/cpa-training-july-24-25-2024/
LOCATION:SE Michigan
END:VEVENT
END:VCALENDAR