BEGIN:VCALENDAR
VERSION:2.0
PRODID:-//MI WIC Events - ECPv6.15.15//NONSGML v1.0//EN
CALSCALE:GREGORIAN
METHOD:PUBLISH
X-WR-CALNAME:MI WIC Events
X-ORIGINAL-URL:https://miwicevents.com
X-WR-CALDESC:Events for MI WIC Events
REFRESH-INTERVAL;VALUE=DURATION:PT1H
X-Robots-Tag:noindex
X-PUBLISHED-TTL:PT1H
BEGIN:VTIMEZONE
TZID:America/Detroit
BEGIN:DAYLIGHT
TZOFFSETFROM:-0500
TZOFFSETTO:-0400
TZNAME:EDT
DTSTART:20190310T070000
END:DAYLIGHT
BEGIN:STANDARD
TZOFFSETFROM:-0400
TZOFFSETTO:-0500
TZNAME:EST
DTSTART:20191103T060000
END:STANDARD
BEGIN:DAYLIGHT
TZOFFSETFROM:-0500
TZOFFSETTO:-0400
TZNAME:EDT
DTSTART:20200308T070000
END:DAYLIGHT
BEGIN:STANDARD
TZOFFSETFROM:-0400
TZOFFSETTO:-0500
TZNAME:EST
DTSTART:20201101T060000
END:STANDARD
BEGIN:DAYLIGHT
TZOFFSETFROM:-0500
TZOFFSETTO:-0400
TZNAME:EDT
DTSTART:20210314T070000
END:DAYLIGHT
BEGIN:STANDARD
TZOFFSETFROM:-0400
TZOFFSETTO:-0500
TZNAME:EST
DTSTART:20211107T060000
END:STANDARD
END:VTIMEZONE
BEGIN:VEVENT
DTSTART;TZID=America/Detroit:20201117T083000
DTEND;TZID=America/Detroit:20201117T123000
DTSTAMP:20260419T203521
CREATED:20200807T152547Z
LAST-MODIFIED:20200807T152637Z
UID:858-1605601800-1605616200@miwicevents.com
SUMMARY:Breastfeeding Basics for Clerical and Tech Staff – November 17\, 2020
DESCRIPTION:
URL:https://miwicevents.com/event/breastfeeding-basics-for-clerical-and-tech-staff-november-17-2020/
LOCATION:Virtual
END:VEVENT
BEGIN:VEVENT
DTSTART;TZID=America/Detroit:20201113T100000
DTEND;TZID=America/Detroit:20201113T150000
DTSTAMP:20260419T203521
CREATED:20200824T194721Z
LAST-MODIFIED:20210402T123556Z
UID:1098-1605261600-1605279600@miwicevents.com
SUMMARY:Regional Peer Counselor Training (South Central and Metro Detroit Regions) – November 13\, 2020
DESCRIPTION:
URL:https://miwicevents.com/event/regional-peer-counselor-training-south-central-region-november-13-2020/
LOCATION:Virtual
END:VEVENT
BEGIN:VEVENT
DTSTART;TZID=America/Detroit:20201112T100000
DTEND;TZID=America/Detroit:20201112T150000
DTSTAMP:20260419T203521
CREATED:20200824T194506Z
LAST-MODIFIED:20210402T123602Z
UID:1096-1605175200-1605193200@miwicevents.com
SUMMARY:Regional Peer Counselor Training (Southwest Region) – November 12\, 2020
DESCRIPTION:
URL:https://miwicevents.com/event/regional-peer-counselor-training-southwest-region-november-12-2020/
LOCATION:Virtual
END:VEVENT
BEGIN:VEVENT
DTSTART;TZID=America/Detroit:20201104T100000
DTEND;TZID=America/Detroit:20201105T150000
DTSTAMP:20260419T203521
CREATED:20200807T151052Z
LAST-MODIFIED:20200807T151052Z
UID:843-1604484000-1604588400@miwicevents.com
SUMMARY:CPA Training – November 4-5\, 2020
DESCRIPTION:
URL:https://miwicevents.com/event/cpa-training-november-4-5-2020/
LOCATION:Virtual
END:VEVENT
BEGIN:VEVENT
DTSTART;VALUE=DATE:20201027
DTEND;VALUE=DATE:20201029
DTSTAMP:20260419T203521
CREATED:20200619T143352Z
LAST-MODIFIED:20200619T143352Z
UID:590-1603756800-1603929599@miwicevents.com
SUMMARY:Coordinator Summit - October 27-28\, 2020
DESCRIPTION:
URL:https://miwicevents.com/event/coordinator-summit-october-27-28-2020/
LOCATION:Virtual
END:VEVENT
BEGIN:VEVENT
DTSTART;TZID=America/Detroit:20201026T100000
DTEND;TZID=America/Detroit:20201026T150000
DTSTAMP:20260419T203521
CREATED:20200807T151844Z
LAST-MODIFIED:20200807T151844Z
UID:855-1603706400-1603724400@miwicevents.com
SUMMARY:Record Review Training – October 26\, 2020
DESCRIPTION:
URL:https://miwicevents.com/event/record-review-training-october-26-2020/
LOCATION:Virtual
END:VEVENT
BEGIN:VEVENT
DTSTART;TZID=America/Detroit:20201022T100000
DTEND;TZID=America/Detroit:20201022T150000
DTSTAMP:20260419T203521
CREATED:20200807T145518Z
LAST-MODIFIED:20200807T145518Z
UID:822-1603360800-1603378800@miwicevents.com
SUMMARY:Laboratory Training – October 22\, 2020
DESCRIPTION:
URL:https://miwicevents.com/event/laboratory-training-october-22-2020/
LOCATION:Virtual
END:VEVENT
BEGIN:VEVENT
DTSTART;TZID=America/Detroit:20201021T100000
DTEND;TZID=America/Detroit:20201021T150000
DTSTAMP:20260419T203521
CREATED:20200807T145039Z
LAST-MODIFIED:20200807T145039Z
UID:812-1603274400-1603292400@miwicevents.com
SUMMARY:Anthropometric Training – October 21\, 2020
DESCRIPTION:
URL:https://miwicevents.com/event/anthropometric-training-october-21-2020/
LOCATION:Virtual
END:VEVENT
BEGIN:VEVENT
DTSTART;TZID=America/Detroit:20201019T080000
DTEND;TZID=America/Detroit:20201023T173000
DTSTAMP:20260419T203521
CREATED:20200619T144751Z
LAST-MODIFIED:20201014T171345Z
UID:604-1603094400-1603474200@miwicevents.com
SUMMARY:Certified Lactation Specialist (CLS) - October 19-23\, 2020
DESCRIPTION:
URL:https://miwicevents.com/event/certified-lactation-specialist-cls-october-19-23-2020/
LOCATION:Virtual
END:VEVENT
BEGIN:VEVENT
DTSTART;TZID=America/Detroit:20201014T130000
DTEND;TZID=America/Detroit:20201014T150000
DTSTAMP:20260419T203521
CREATED:20200820T192806Z
LAST-MODIFIED:20200820T192848Z
UID:1050-1602680400-1602687600@miwicevents.com
SUMMARY:Regional Vendor Forum (Upper Peninsula) – October 14\, 2020
DESCRIPTION:
URL:https://miwicevents.com/event/regional-vendor-forum-upper-peninsula-october-14-2020/
LOCATION:Virtual
END:VEVENT
BEGIN:VEVENT
DTSTART;TZID=America/Detroit:20201014T100000
DTEND;TZID=America/Detroit:20201015T150000
DTSTAMP:20260419T203521
CREATED:20200807T145926Z
LAST-MODIFIED:20200807T145926Z
UID:830-1602669600-1602774000@miwicevents.com
SUMMARY:Clerical Training – October 14-15\, 2020
DESCRIPTION:
URL:https://miwicevents.com/event/clerical-training-october-14-15-2020/
LOCATION:Virtual
END:VEVENT
BEGIN:VEVENT
DTSTART;TZID=America/Detroit:20201002T094500
DTEND;TZID=America/Detroit:20201002T130000
DTSTAMP:20260419T203521
CREATED:20200824T194211Z
LAST-MODIFIED:20210402T123359Z
UID:1094-1601631900-1601643600@miwicevents.com
SUMMARY:Peer Counselor Manager Training – October 2\, 2020
DESCRIPTION:
URL:https://miwicevents.com/event/peer-counselor-manager-training-october-2-2020/
LOCATION:Virtual
END:VEVENT
BEGIN:VEVENT
DTSTART;TZID=America/Detroit:20200929T100000
DTEND;TZID=America/Detroit:20200929T150000
DTSTAMP:20260419T203521
CREATED:20200724T145941Z
LAST-MODIFIED:20200724T145941Z
UID:773-1601373600-1601391600@miwicevents.com
SUMMARY:Advanced CPA – September 29\, 2020
DESCRIPTION:
URL:https://miwicevents.com/event/advanced-cpa-september-29-2020/
LOCATION:Virtual
END:VEVENT
BEGIN:VEVENT
DTSTART;TZID=America/Detroit:20200929T083000
DTEND;TZID=America/Detroit:20200930T123000
DTSTAMP:20260419T203521
CREATED:20200619T144218Z
LAST-MODIFIED:20200619T144218Z
UID:598-1601368200-1601469000@miwicevents.com
SUMMARY:Breastfeeding Basics - September 29-30\, 2020
DESCRIPTION:
URL:https://miwicevents.com/event/breastfeeding-basics-september-29-30-2020/
LOCATION:Virtual
END:VEVENT
BEGIN:VEVENT
DTSTART;TZID=America/Detroit:20200924T093000
DTEND;TZID=America/Detroit:20200924T120000
DTSTAMP:20260419T203521
CREATED:20200619T150058Z
LAST-MODIFIED:20200619T150058Z
UID:614-1600939800-1600948800@miwicevents.com
SUMMARY:WIC Release 8.5 Webcast - September 24\, 2020
DESCRIPTION:
URL:https://miwicevents.com/event/wic-release-8-5-webcast-september-24-2020/
LOCATION:Webcast
END:VEVENT
BEGIN:VEVENT
DTSTART;TZID=America/Detroit:20200923T100000
DTEND;TZID=America/Detroit:20200924T150000
DTSTAMP:20260419T203521
CREATED:20200619T143214Z
LAST-MODIFIED:20200619T143214Z
UID:588-1600855200-1600959600@miwicevents.com
SUMMARY:Clerical Training - September 23-24\, 2020
DESCRIPTION:
URL:https://miwicevents.com/event/clerical-training-september-23-24-2020/
LOCATION:Virtual
END:VEVENT
BEGIN:VEVENT
DTSTART;TZID=America/Detroit:20200915T090000
DTEND;TZID=America/Detroit:20200915T130000
DTSTAMP:20260419T203521
CREATED:20200619T144540Z
LAST-MODIFIED:20200713T193008Z
UID:602-1600160400-1600174800@miwicevents.com
SUMMARY:Breastfeeding Peer Update - September 15\, 2020
DESCRIPTION:
URL:https://miwicevents.com/event/breastfeeding-peer-update-september-15-2020/
LOCATION:Virtual
END:VEVENT
BEGIN:VEVENT
DTSTART;TZID=America/Detroit:20200910T093000
DTEND;TZID=America/Detroit:20200910T120000
DTSTAMP:20260419T203521
CREATED:20200619T145958Z
LAST-MODIFIED:20200619T145958Z
UID:612-1599730200-1599739200@miwicevents.com
SUMMARY:WIC Income Webcast - September 10\, 2020
DESCRIPTION:
URL:https://miwicevents.com/event/wic-income-webcast-september-10-2020/
LOCATION:Webcast
END:VEVENT
BEGIN:VEVENT
DTSTART;TZID=America/Detroit:20200909T083000
DTEND;TZID=America/Detroit:20200909T123000
DTSTAMP:20260419T203521
CREATED:20200619T144413Z
LAST-MODIFIED:20200619T144413Z
UID:600-1599640200-1599654600@miwicevents.com
SUMMARY:Breastfeeding Basics for Clerical & Tech Staff - September 9\, 2020
DESCRIPTION:
URL:https://miwicevents.com/event/breastfeeding-basics-for-clerical-tech-staff-september-9-2020/
LOCATION:Virtual
END:VEVENT
BEGIN:VEVENT
DTSTART;TZID=America/Detroit:20200827T100000
DTEND;TZID=America/Detroit:20200827T150000
DTSTAMP:20260419T203521
CREATED:20200724T145716Z
LAST-MODIFIED:20200728T195656Z
UID:771-1598522400-1598540400@miwicevents.com
SUMMARY:Advanced CPA – August 27\, 2020
DESCRIPTION:
URL:https://miwicevents.com/event/advanced-cpa-august-27-2020/
LOCATION:Virtual
END:VEVENT
BEGIN:VEVENT
DTSTART;TZID=America/Detroit:20200818T100000
DTEND;TZID=America/Detroit:20200819T150000
DTSTAMP:20260419T203521
CREATED:20200713T192743Z
LAST-MODIFIED:20200713T192743Z
UID:738-1597744800-1597849200@miwicevents.com
SUMMARY:CPA Training - August 18-19\, 2020
DESCRIPTION:
URL:https://miwicevents.com/event/cpa-training-august-18-19-2020/
LOCATION:Virtual
END:VEVENT
BEGIN:VEVENT
DTSTART;TZID=America/Detroit:20200812T080000
DTEND;TZID=America/Detroit:20200812T120000
DTSTAMP:20260419T203521
CREATED:20200619T143914Z
LAST-MODIFIED:20200619T143914Z
UID:596-1597219200-1597233600@miwicevents.com
SUMMARY:Laboratory Training - August 12\, 2020
DESCRIPTION:
URL:https://miwicevents.com/event/laboratory-training-august-12-2020/
LOCATION:Virtual
END:VEVENT
BEGIN:VEVENT
DTSTART;TZID=America/Detroit:20200811T080000
DTEND;TZID=America/Detroit:20200811T120000
DTSTAMP:20260419T203521
CREATED:20200619T142216Z
LAST-MODIFIED:20200619T142216Z
UID:584-1597132800-1597147200@miwicevents.com
SUMMARY:Anthropometric Training - August 11\, 2020
DESCRIPTION:
URL:https://miwicevents.com/event/anthropometric-training-august-11-2020/
LOCATION:Virtual
END:VEVENT
BEGIN:VEVENT
DTSTART;TZID=America/Detroit:20200805T100000
DTEND;TZID=America/Detroit:20200806T150000
DTSTAMP:20260419T203521
CREATED:20200619T142559Z
LAST-MODIFIED:20200619T142559Z
UID:586-1596621600-1596726000@miwicevents.com
SUMMARY:Clerical Training - August 5-6\, 2020
DESCRIPTION:
URL:https://miwicevents.com/event/clerical-training-august-5-6-2020/
LOCATION:Virtual
END:VEVENT
BEGIN:VEVENT
DTSTART;TZID=America/Detroit:20200730T093000
DTEND;TZID=America/Detroit:20200730T120000
DTSTAMP:20260419T203521
CREATED:20200408T185742Z
LAST-MODIFIED:20200619T145604Z
UID:398-1596101400-1596110400@miwicevents.com
SUMMARY:WIC Formula Webcast - July 30\, 2020
DESCRIPTION:
URL:https://miwicevents.com/event/wic-formula-webcast-july-30-2020/
LOCATION:Webcast
END:VEVENT
BEGIN:VEVENT
DTSTART;TZID=America/Detroit:20200729T100000
DTEND;TZID=America/Detroit:20200729T150000
DTSTAMP:20260419T203521
CREATED:20200619T141403Z
LAST-MODIFIED:20200619T141728Z
UID:578-1596016800-1596034800@miwicevents.com
SUMMARY:Advanced CPA - July 29\, 2020
DESCRIPTION:
URL:https://miwicevents.com/event/advanced-cpa-july-29-2020/
LOCATION:Virtual
END:VEVENT
BEGIN:VEVENT
DTSTART;TZID=America/Detroit:20200722T080000
DTEND;TZID=America/Detroit:20200722T120000
DTSTAMP:20260419T203521
CREATED:20200619T142118Z
LAST-MODIFIED:20200619T142118Z
UID:582-1595404800-1595419200@miwicevents.com
SUMMARY:Anthropometric Training - July 22\, 2020
DESCRIPTION:
URL:https://miwicevents.com/event/anthropometric-training-july-22-2020/
LOCATION:Virtual
END:VEVENT
BEGIN:VEVENT
DTSTART;TZID=America/Detroit:20200721T080000
DTEND;TZID=America/Detroit:20200721T120000
DTSTAMP:20260419T203521
CREATED:20200619T143809Z
LAST-MODIFIED:20200619T143809Z
UID:594-1595318400-1595332800@miwicevents.com
SUMMARY:Laboratory Training - July 21\, 2020
DESCRIPTION:
URL:https://miwicevents.com/event/laboratory-training-july-21-2020/
LOCATION:Virtual
END:VEVENT
BEGIN:VEVENT
DTSTART;TZID=America/Detroit:20200715T100000
DTEND;TZID=America/Detroit:20200716T150000
DTSTAMP:20260419T203521
CREATED:20200410T174313Z
LAST-MODIFIED:20200619T143522Z
UID:427-1594807200-1594911600@miwicevents.com
SUMMARY:CPA Training - July 15-16\, 2020
DESCRIPTION:
URL:https://miwicevents.com/event/cpa-training-july-15-16-2020/
LOCATION:Virtual
END:VEVENT
BEGIN:VEVENT
DTSTART;TZID=America/Detroit:20200715T100000
DTEND;TZID=America/Detroit:20200715T150000
DTSTAMP:20260419T203521
CREATED:20200619T141014Z
LAST-MODIFIED:20200619T141712Z
UID:576-1594807200-1594825200@miwicevents.com
SUMMARY:Advanced CPA - July 15\, 2020
DESCRIPTION:
URL:https://miwicevents.com/event/advanced-cpa-july-15-2020/
LOCATION:Virtual
END:VEVENT
END:VCALENDAR