BEGIN:VCALENDAR
VERSION:2.0
PRODID:-//MI WIC Events - ECPv6.15.15//NONSGML v1.0//EN
CALSCALE:GREGORIAN
METHOD:PUBLISH
X-WR-CALNAME:MI WIC Events
X-ORIGINAL-URL:https://miwicevents.com
X-WR-CALDESC:Events for MI WIC Events
REFRESH-INTERVAL;VALUE=DURATION:PT1H
X-Robots-Tag:noindex
X-PUBLISHED-TTL:PT1H
BEGIN:VTIMEZONE
TZID:America/Detroit
BEGIN:DAYLIGHT
TZOFFSETFROM:-0500
TZOFFSETTO:-0400
TZNAME:EDT
DTSTART:20220313T070000
END:DAYLIGHT
BEGIN:STANDARD
TZOFFSETFROM:-0400
TZOFFSETTO:-0500
TZNAME:EST
DTSTART:20221106T060000
END:STANDARD
BEGIN:DAYLIGHT
TZOFFSETFROM:-0500
TZOFFSETTO:-0400
TZNAME:EDT
DTSTART:20230312T070000
END:DAYLIGHT
BEGIN:STANDARD
TZOFFSETFROM:-0400
TZOFFSETTO:-0500
TZNAME:EST
DTSTART:20231105T060000
END:STANDARD
BEGIN:DAYLIGHT
TZOFFSETFROM:-0500
TZOFFSETTO:-0400
TZNAME:EDT
DTSTART:20240310T070000
END:DAYLIGHT
BEGIN:STANDARD
TZOFFSETFROM:-0400
TZOFFSETTO:-0500
TZNAME:EST
DTSTART:20241103T060000
END:STANDARD
END:VTIMEZONE
BEGIN:VEVENT
DTSTART;TZID=America/Detroit:20230329T083000
DTEND;TZID=America/Detroit:20230329T123000
DTSTAMP:20260420T040229
CREATED:20220720T180856Z
LAST-MODIFIED:20220720T180856Z
UID:3778-1680078600-1680093000@miwicevents.com
SUMMARY:Anthropometric Training – March 29\, 2023
DESCRIPTION:
URL:https://miwicevents.com/event/anthropometric-training-march-29-2023/
LOCATION:Virtual
END:VEVENT
BEGIN:VEVENT
DTSTART;TZID=America/Detroit:20230406T093000
DTEND;TZID=America/Detroit:20230406T110000
DTSTAMP:20260420T040229
CREATED:20230120T184255Z
LAST-MODIFIED:20230120T184255Z
UID:4251-1680773400-1680778800@miwicevents.com
SUMMARY:WIC Peer Counselor Engagement Survey Q&A Session – April 6\, 2023
DESCRIPTION:
URL:https://miwicevents.com/event/wic-peer-counselor-engagement-survey-qa-session-april-6-2023/
LOCATION:Webcast
END:VEVENT
BEGIN:VEVENT
DTSTART;TZID=America/Detroit:20230412T083000
DTEND;TZID=America/Detroit:20230413T123000
DTSTAMP:20260420T040229
CREATED:20220720T182953Z
LAST-MODIFIED:20220720T182953Z
UID:3808-1681288200-1681389000@miwicevents.com
SUMMARY:Clerical Training – April 12-13\, 2023
DESCRIPTION:
URL:https://miwicevents.com/event/clerical-training-april-12-13-2023/
LOCATION:Virtual
END:VEVENT
BEGIN:VEVENT
DTSTART;TZID=America/Detroit:20230418T080000
DTEND;TZID=America/Detroit:20230418T120000
DTSTAMP:20260420T040229
CREATED:20220721T141201Z
LAST-MODIFIED:20221207T161931Z
UID:3887-1681804800-1681819200@miwicevents.com
SUMMARY:Milk Expression – April 18\, 2023
DESCRIPTION:
URL:https://miwicevents.com/event/milk-expression-april-18-2023/
LOCATION:Virtual
END:VEVENT
BEGIN:VEVENT
DTSTART;TZID=America/Detroit:20230419T100000
DTEND;TZID=America/Detroit:20230419T150000
DTSTAMP:20260420T040229
CREATED:20220713T180331Z
LAST-MODIFIED:20220713T180331Z
UID:3771-1681898400-1681916400@miwicevents.com
SUMMARY:Mentors Among Us: The Advanced CPA – April 19\, 2023
DESCRIPTION:
URL:https://miwicevents.com/event/mentors-among-us-the-advanced-cpa-april-19-2023/
LOCATION:Virtual
END:VEVENT
BEGIN:VEVENT
DTSTART;TZID=America/Detroit:20230420T093000
DTEND;TZID=America/Detroit:20230420T110000
DTSTAMP:20260420T040229
CREATED:20230313T170816Z
LAST-MODIFIED:20230321T173448Z
UID:4371-1681983000-1681988400@miwicevents.com
SUMMARY:MI-WIC Release 9.4 – April 20\, 2023
DESCRIPTION:
URL:https://miwicevents.com/event/mi-wic-release-9-4-april-20-2023/
LOCATION:Webcast
END:VEVENT
BEGIN:VEVENT
DTSTART;TZID=America/Detroit:20230425T084500
DTEND;TZID=America/Detroit:20230425T130000
DTSTAMP:20260420T040229
CREATED:20220721T132802Z
LAST-MODIFIED:20220721T134139Z
UID:3861-1682412300-1682427600@miwicevents.com
SUMMARY:Breastfeeding Coordinator Training - April 25\, 2023
DESCRIPTION:
URL:https://miwicevents.com/event/breastfeeding-coordinator-training-april-26-2023/
LOCATION:Virtual
END:VEVENT
BEGIN:VEVENT
DTSTART;TZID=America/Detroit:20230426T084500
DTEND;TZID=America/Detroit:20230426T120000
DTSTAMP:20260420T040229
CREATED:20220721T134030Z
LAST-MODIFIED:20220721T134030Z
UID:3865-1682498700-1682510400@miwicevents.com
SUMMARY:Peer Counselor Manager Training – April 26\, 2023
DESCRIPTION:
URL:https://miwicevents.com/event/peer-counselor-manager-training-april-26-2023/
LOCATION:Virtual
END:VEVENT
BEGIN:VEVENT
DTSTART;TZID=America/Detroit:20230509T080000
DTEND;TZID=America/Detroit:20230510T170000
DTSTAMP:20260420T040229
CREATED:20220720T191046Z
LAST-MODIFIED:20230223T165600Z
UID:3821-1683619200-1683738000@miwicevents.com
SUMMARY:CPA Training – May 9-10\, 2023
DESCRIPTION:
URL:https://miwicevents.com/event/cpa-training-may-9-10-2023/
LOCATION:Hilton Garden Inn Lansing West
END:VEVENT
BEGIN:VEVENT
DTSTART;VALUE=DATE:20230523
DTEND;VALUE=DATE:20230525
DTSTAMP:20260420T040229
CREATED:20221130T183403Z
LAST-MODIFIED:20221130T183403Z
UID:4094-1684800000-1684972799@miwicevents.com
SUMMARY:WIC Training & Educational Conference – May 23-24\, 2023
DESCRIPTION:
URL:https://miwicevents.com/event/wic-training-educational-conference-may-23-24-2023/
LOCATION:Grand Rapids\, MI
END:VEVENT
BEGIN:VEVENT
DTSTART;TZID=America/Detroit:20230601T130000
DTEND;TZID=America/Detroit:20230601T150000
DTSTAMP:20260420T040229
CREATED:20230620T195051Z
LAST-MODIFIED:20230620T195121Z
UID:4666-1685624400-1685631600@miwicevents.com
SUMMARY:MI-WIC Modernization Listening Sessions: Breastfeeding Coordinator/Peer Managers – June 1\, 2023
DESCRIPTION:
URL:https://miwicevents.com/event/mi-wic-modernization-listening-sessions-breastfeeding-coordinator-peer-managers-june-1-2023/
LOCATION:Virtual
END:VEVENT
BEGIN:VEVENT
DTSTART;TZID=America/Detroit:20230606T100000
DTEND;TZID=America/Detroit:20230606T120000
DTSTAMP:20260420T040229
CREATED:20220721T144805Z
LAST-MODIFIED:20220721T145039Z
UID:3894-1686045600-1686052800@miwicevents.com
SUMMARY:WIC Connect Platform Training – June 6\, 2023
DESCRIPTION:
URL:https://miwicevents.com/event/wic-connect-platform-training-june-6-2023/
LOCATION:Virtual
END:VEVENT
BEGIN:VEVENT
DTSTART;TZID=America/Detroit:20230608T100000
DTEND;TZID=America/Detroit:20230608T120000
DTSTAMP:20260420T040229
CREATED:20230620T195207Z
LAST-MODIFIED:20230620T195207Z
UID:4668-1686218400-1686225600@miwicevents.com
SUMMARY:MI-WIC Modernization Listening Sessions: Breastfeeding Coordinator/Peer Managers – June 8\, 2023
DESCRIPTION:
URL:https://miwicevents.com/event/mi-wic-modernization-listening-sessions-breastfeeding-coordinator-peer-managers-june-8-2023/
LOCATION:Virtual
END:VEVENT
BEGIN:VEVENT
DTSTART;TZID=America/Detroit:20230613T083000
DTEND;TZID=America/Detroit:20230613T123000
DTSTAMP:20260420T040229
CREATED:20220720T195318Z
LAST-MODIFIED:20220809T152757Z
UID:3841-1686645000-1686659400@miwicevents.com
SUMMARY:Breastfeeding Basics for Clerical and Tech Staff – June 13\, 2023
DESCRIPTION:
URL:https://miwicevents.com/event/breastfeeding-basics-for-clerical-and-tech-staff-june-13-2023/
LOCATION:Virtual
END:VEVENT
BEGIN:VEVENT
DTSTART;TZID=America/Detroit:20230614T083000
DTEND;TZID=America/Detroit:20230615T123000
DTSTAMP:20260420T040229
CREATED:20220721T131943Z
LAST-MODIFIED:20220809T152721Z
UID:3854-1686731400-1686832200@miwicevents.com
SUMMARY:Breastfeeding Basics for PC/CPA/Other – June 14-15\, 2023
DESCRIPTION:
URL:https://miwicevents.com/event/breastfeeding-basics-for-pc-cpa-other-june-14-15-2023/
LOCATION:Virtual
END:VEVENT
BEGIN:VEVENT
DTSTART;TZID=America/Detroit:20230615T100000
DTEND;TZID=America/Detroit:20230615T120000
DTSTAMP:20260420T040229
CREATED:20230620T195253Z
LAST-MODIFIED:20230620T195253Z
UID:4667-1686823200-1686830400@miwicevents.com
SUMMARY:MI-WIC Modernization Listening Sessions: Tech/Lab – June 15\, 2023
DESCRIPTION:
URL:https://miwicevents.com/event/mi-wic-modernization-listening-sessions-tech-lab-june-15-2023/
LOCATION:Virtual
END:VEVENT
BEGIN:VEVENT
DTSTART;TZID=America/Detroit:20230621T083000
DTEND;TZID=America/Detroit:20230621T160000
DTSTAMP:20260420T040229
CREATED:20220720T155930Z
LAST-MODIFIED:20230223T205122Z
UID:3779-1687336200-1687363200@miwicevents.com
SUMMARY:Anthropometric Training – June 21\, 2023
DESCRIPTION:
URL:https://miwicevents.com/event/anthropometric-training-june-21-2023/
LOCATION:Treetops Resort\, Gaylord MI
END:VEVENT
BEGIN:VEVENT
DTSTART;TZID=America/Detroit:20230622T083000
DTEND;TZID=America/Detroit:20230622T163000
DTSTAMP:20260420T040229
CREATED:20220720T192840Z
LAST-MODIFIED:20230223T205141Z
UID:3832-1687422600-1687451400@miwicevents.com
SUMMARY:Laboratory Training – June 22\, 2023
DESCRIPTION:
URL:https://miwicevents.com/event/laboratory-training-june-22-2023/
LOCATION:Treetops Resort\, Gaylord MI
END:VEVENT
BEGIN:VEVENT
DTSTART;TZID=America/Detroit:20230622T130000
DTEND;TZID=America/Detroit:20230622T150000
DTSTAMP:20260420T040229
CREATED:20230620T192029Z
LAST-MODIFIED:20230620T192029Z
UID:4617-1687438800-1687446000@miwicevents.com
SUMMARY:MI-WIC Modernization Listening Sessions: E-Forms – June 22\, 2023
DESCRIPTION:
URL:https://miwicevents.com/event/mi-wic-modernization-listening-sessions-e-forms-june-22-2023/
LOCATION:Virtual
END:VEVENT
BEGIN:VEVENT
DTSTART;TZID=America/Detroit:20230629T130000
DTEND;TZID=America/Detroit:20230629T150000
DTSTAMP:20260420T040229
CREATED:20230620T195357Z
LAST-MODIFIED:20230620T195357Z
UID:4669-1688043600-1688050800@miwicevents.com
SUMMARY:MI-WIC Modernization Listening Sessions: Tech/Lab – June 29\, 2023
DESCRIPTION:
URL:https://miwicevents.com/event/mi-wic-modernization-listening-sessions-tech-lab-june-29-2023/
LOCATION:Virtual
END:VEVENT
BEGIN:VEVENT
DTSTART;TZID=America/Detroit:20230713T100000
DTEND;TZID=America/Detroit:20230713T120000
DTSTAMP:20260420T040229
CREATED:20230620T192253Z
LAST-MODIFIED:20230620T192515Z
UID:4619-1689242400-1689249600@miwicevents.com
SUMMARY:MI-WIC Modernization Listening Sessions: Clerk – July 13\, 2023
DESCRIPTION:
URL:https://miwicevents.com/event/mi-wic-modernization-listening-sessions-clerk-july-13-2023/
LOCATION:Virtual
END:VEVENT
BEGIN:VEVENT
DTSTART;TZID=America/Detroit:20230720T093000
DTEND;TZID=America/Detroit:20230720T110000
DTSTAMP:20260420T040229
CREATED:20230201T170044Z
LAST-MODIFIED:20230201T170044Z
UID:4281-1689845400-1689850800@miwicevents.com
SUMMARY:WIC 2023 Nutrition Service Plans and Implementation – July 20\, 2023
DESCRIPTION:
URL:https://miwicevents.com/event/wic-2023-nutrition-service-plans-and-implementation-july-20-2023/
LOCATION:Webcast
END:VEVENT
BEGIN:VEVENT
DTSTART;TZID=America/Detroit:20230720T130000
DTEND;TZID=America/Detroit:20230720T150000
DTSTAMP:20260420T040229
CREATED:20230620T192618Z
LAST-MODIFIED:20230620T192618Z
UID:4622-1689858000-1689865200@miwicevents.com
SUMMARY:MI-WIC Modernization Listening Sessions: Clerk – July 20\, 2023
DESCRIPTION:
URL:https://miwicevents.com/event/mi-wic-modernization-listening-sessions-clerk-july-20-2023/
LOCATION:Virtual
END:VEVENT
BEGIN:VEVENT
DTSTART;TZID=America/Detroit:20230727T093000
DTEND;TZID=America/Detroit:20230727T110000
DTSTAMP:20260420T040229
CREATED:20230606T153135Z
LAST-MODIFIED:20230606T153135Z
UID:4577-1690450200-1690455600@miwicevents.com
SUMMARY:MI-WIC Updates: Physical Presence Waivers – July 27\, 2023
DESCRIPTION:
URL:https://miwicevents.com/event/mi-wic-updates-physical-presence-waivers-july-27-2023/
LOCATION:Webcast
END:VEVENT
BEGIN:VEVENT
DTSTART;TZID=America/Detroit:20230727T130000
DTEND;TZID=America/Detroit:20230727T150000
DTSTAMP:20260420T040229
CREATED:20230620T192816Z
LAST-MODIFIED:20230620T193051Z
UID:4626-1690462800-1690470000@miwicevents.com
SUMMARY:MI-WIC Modernization Listening Sessions: Class III RD & Care Plans – July 27\, 2023
DESCRIPTION:
URL:https://miwicevents.com/event/mi-wic-modernization-listening-sessions-class-iii-rd-care-plans-july-27-2023/
LOCATION:Virtual
END:VEVENT
BEGIN:VEVENT
DTSTART;TZID=America/Detroit:20230802T080000
DTEND;TZID=America/Detroit:20230802T170000
DTSTAMP:20260420T040229
CREATED:20220720T183151Z
LAST-MODIFIED:20230223T185254Z
UID:3809-1690963200-1690995600@miwicevents.com
SUMMARY:Clerical Training – August 2\, 2023
DESCRIPTION:
URL:https://miwicevents.com/event/clerical-training-august-2-2023/
LOCATION:Crowne Plaza Lansing
END:VEVENT
BEGIN:VEVENT
DTSTART;TZID=America/Detroit:20230803T093000
DTEND;TZID=America/Detroit:20230803T110000
DTSTAMP:20260420T040229
CREATED:20230705T171750Z
LAST-MODIFIED:20230705T171750Z
UID:4689-1691055000-1691060400@miwicevents.com
SUMMARY:Milk Sharing: Making It Work – August 3\, 2023
DESCRIPTION:
URL:https://miwicevents.com/event/milk-sharing-making-it-work-august-3-2023/
LOCATION:Webcast
END:VEVENT
BEGIN:VEVENT
DTSTART;TZID=America/Detroit:20230803T100000
DTEND;TZID=America/Detroit:20230803T120000
DTSTAMP:20260420T040229
CREATED:20230620T192857Z
LAST-MODIFIED:20230620T193047Z
UID:4627-1691056800-1691064000@miwicevents.com
SUMMARY:MI-WIC Modernization Listening Sessions: Class III RD & Care Plans – August 3\, 2023
DESCRIPTION:
URL:https://miwicevents.com/event/mi-wic-modernization-listening-sessions-class-iii-rd-care-plans-august-3-2023/
LOCATION:Virtual
END:VEVENT
BEGIN:VEVENT
DTSTART;TZID=America/Detroit:20230808T083000
DTEND;TZID=America/Detroit:20230808T163000
DTSTAMP:20260420T040229
CREATED:20220720T192920Z
LAST-MODIFIED:20230406T152601Z
UID:3833-1691483400-1691512200@miwicevents.com
SUMMARY:Laboratory Training – August 8\, 2023
DESCRIPTION:
URL:https://miwicevents.com/event/laboratory-training-august-8-2023/
LOCATION:Ann Arbor\, MI
END:VEVENT
BEGIN:VEVENT
DTSTART;TZID=America/Detroit:20230809T083000
DTEND;TZID=America/Detroit:20230809T160000
DTSTAMP:20260420T040229
CREATED:20220720T155750Z
LAST-MODIFIED:20230406T152530Z
UID:3780-1691569800-1691596800@miwicevents.com
SUMMARY:Anthropometric Training – August 9\, 2023
DESCRIPTION:
URL:https://miwicevents.com/event/anthropometric-training-august-9-2023/
LOCATION:Ann Arbor\, MI
END:VEVENT
END:VCALENDAR