BEGIN:VCALENDAR
VERSION:2.0
PRODID:-//MI WIC Events - ECPv6.15.15//NONSGML v1.0//EN
CALSCALE:GREGORIAN
METHOD:PUBLISH
X-WR-CALNAME:MI WIC Events
X-ORIGINAL-URL:https://miwicevents.com
X-WR-CALDESC:Events for MI WIC Events
REFRESH-INTERVAL;VALUE=DURATION:PT1H
X-Robots-Tag:noindex
X-PUBLISHED-TTL:PT1H
BEGIN:VTIMEZONE
TZID:America/Detroit
BEGIN:DAYLIGHT
TZOFFSETFROM:-0500
TZOFFSETTO:-0400
TZNAME:EDT
DTSTART:20240310T070000
END:DAYLIGHT
BEGIN:STANDARD
TZOFFSETFROM:-0400
TZOFFSETTO:-0500
TZNAME:EST
DTSTART:20241103T060000
END:STANDARD
BEGIN:DAYLIGHT
TZOFFSETFROM:-0500
TZOFFSETTO:-0400
TZNAME:EDT
DTSTART:20250309T070000
END:DAYLIGHT
BEGIN:STANDARD
TZOFFSETFROM:-0400
TZOFFSETTO:-0500
TZNAME:EST
DTSTART:20251102T060000
END:STANDARD
BEGIN:DAYLIGHT
TZOFFSETFROM:-0500
TZOFFSETTO:-0400
TZNAME:EDT
DTSTART:20260308T070000
END:DAYLIGHT
BEGIN:STANDARD
TZOFFSETFROM:-0400
TZOFFSETTO:-0500
TZNAME:EST
DTSTART:20261101T060000
END:STANDARD
BEGIN:DAYLIGHT
TZOFFSETFROM:-0500
TZOFFSETTO:-0400
TZNAME:EDT
DTSTART:20270314T070000
END:DAYLIGHT
BEGIN:STANDARD
TZOFFSETFROM:-0400
TZOFFSETTO:-0500
TZNAME:EST
DTSTART:20271107T060000
END:STANDARD
END:VTIMEZONE
BEGIN:VEVENT
DTSTART;TZID=America/Detroit:20260430T093000
DTEND;TZID=America/Detroit:20260430T110000
DTSTAMP:20260419T190225
CREATED:20251216T134609Z
LAST-MODIFIED:20251216T134609Z
UID:6770-1777541400-1777546800@miwicevents.com
SUMMARY:Exploring the Lebanese Culture – April 30\, 2026
DESCRIPTION:
URL:https://miwicevents.com/event/exploring-the-lebanese-culture-april-30-2026/
LOCATION:Webcast
END:VEVENT
BEGIN:VEVENT
DTSTART;TZID=America/Detroit:20260424T083000
DTEND;TZID=America/Detroit:20260424T123000
DTSTAMP:20260419T190225
CREATED:20250722T155326Z
LAST-MODIFIED:20250722T155326Z
UID:6410-1777019400-1777033800@miwicevents.com
SUMMARY:Breastfeeding Workgroup – April 24\, 2026
DESCRIPTION:
URL:https://miwicevents.com/event/breastfeeding-workgroup-april-24-2026/
LOCATION:In-Person – TBD
END:VEVENT
BEGIN:VEVENT
DTSTART;TZID=America/Detroit:20260423T140000
DTEND;TZID=America/Detroit:20260423T150000
DTSTAMP:20260419T190225
CREATED:20250722T194136Z
LAST-MODIFIED:20250722T194136Z
UID:6453-1776952800-1776956400@miwicevents.com
SUMMARY:Clerk/Tech Workgroup – April 23\, 2026
DESCRIPTION:
URL:https://miwicevents.com/event/clerk-tech-workgroup-april-23-2026/
LOCATION:Virtual
END:VEVENT
BEGIN:VEVENT
DTSTART;TZID=America/Detroit:20260423T093000
DTEND;TZID=America/Detroit:20260423T103000
DTSTAMP:20260419T190225
CREATED:20260206T133700Z
LAST-MODIFIED:20260319T174108Z
UID:6882-1776936600-1776940200@miwicevents.com
SUMMARY:Online Shopping - Staff Training – April 23\, 2026
DESCRIPTION:
URL:https://miwicevents.com/event/online-shopping-staff-training-april-23-2026/
LOCATION:Webcast
END:VEVENT
BEGIN:VEVENT
DTSTART;TZID=America/Detroit:20260421T083000
DTEND;TZID=America/Detroit:20260422T123000
DTSTAMP:20260419T190225
CREATED:20250722T195111Z
LAST-MODIFIED:20250722T195111Z
UID:6463-1776760200-1776861000@miwicevents.com
SUMMARY:CPA Training – April 21-22\, 2026
DESCRIPTION:
URL:https://miwicevents.com/event/cpa-training-april-21-22-2026/
LOCATION:Virtual
END:VEVENT
BEGIN:VEVENT
DTSTART;TZID=America/Detroit:20260416T083000
DTEND;TZID=America/Detroit:20260416T123000
DTSTAMP:20260419T190225
CREATED:20250722T195949Z
LAST-MODIFIED:20250722T195949Z
UID:6476-1776328200-1776342600@miwicevents.com
SUMMARY:Mentors Among Us: The Advanced CPA – April 16\, 2026
DESCRIPTION:
URL:https://miwicevents.com/event/mentors-among-us-the-advanced-cpa-april-16-2026/
LOCATION:Virtual
END:VEVENT
BEGIN:VEVENT
DTSTART;TZID=America/Detroit:20260415T083000
DTEND;TZID=America/Detroit:20260415T123000
DTSTAMP:20260419T190225
CREATED:20250723T125625Z
LAST-MODIFIED:20250723T125625Z
UID:6493-1776241800-1776256200@miwicevents.com
SUMMARY:Peer Counselor Manager Training – April 15\, 2026
DESCRIPTION:
URL:https://miwicevents.com/event/peer-counselor-manager-training-april-15-2026/
LOCATION:Virtual
END:VEVENT
BEGIN:VEVENT
DTSTART;TZID=America/Detroit:20260414T083000
DTEND;TZID=America/Detroit:20260414T123000
DTSTAMP:20260419T190225
CREATED:20250722T154608Z
LAST-MODIFIED:20250722T154608Z
UID:6404-1776155400-1776169800@miwicevents.com
SUMMARY:Breastfeeding Coordinator Training - April 14\, 2026
DESCRIPTION:
URL:https://miwicevents.com/event/breastfeeding-coordinator-training-april-14-2026/
LOCATION:Virtual
END:VEVENT
BEGIN:VEVENT
DTSTART;TZID=America/Detroit:20260408T083000
DTEND;TZID=America/Detroit:20260409T123000
DTSTAMP:20260419T190225
CREATED:20250722T193617Z
LAST-MODIFIED:20250722T193617Z
UID:6444-1775637000-1775737800@miwicevents.com
SUMMARY:Clerical Training – April 8-9\, 2026
DESCRIPTION:
URL:https://miwicevents.com/event/clerical-training-april-8-9-2026/
LOCATION:Virtual
END:VEVENT
BEGIN:VEVENT
DTSTART;TZID=America/Detroit:20260324T124500
DTEND;TZID=America/Detroit:20260324T160000
DTSTAMP:20260419T190225
CREATED:20250723T135010Z
LAST-MODIFIED:20250723T135238Z
UID:6530-1774356300-1774368000@miwicevents.com
SUMMARY:Laboratory Training – March 24\, 2026
DESCRIPTION:
URL:https://miwicevents.com/event/laboratory-training-march-24-2026/
LOCATION:Lansing\, MI
END:VEVENT
BEGIN:VEVENT
DTSTART;TZID=America/Detroit:20260324T083000
DTEND;TZID=America/Detroit:20260324T114500
DTSTAMP:20260419T190225
CREATED:20250722T152247Z
LAST-MODIFIED:20250722T152247Z
UID:6396-1774341000-1774352700@miwicevents.com
SUMMARY:Anthropometric Training – March 24\, 2026
DESCRIPTION:
URL:https://miwicevents.com/event/anthropometric-training-march-24-2026/
LOCATION:Lansing\, MI
END:VEVENT
BEGIN:VEVENT
DTSTART;TZID=America/Detroit:20260318T083000
DTEND;TZID=America/Detroit:20260318T123000
DTSTAMP:20260419T190225
CREATED:20250723T122642Z
LAST-MODIFIED:20250723T122642Z
UID:6483-1773822600-1773837000@miwicevents.com
SUMMARY:Milk Expression – March 18\, 2026
DESCRIPTION:
URL:https://miwicevents.com/event/milk-expression-march-18-2026/
LOCATION:Virtual
END:VEVENT
BEGIN:VEVENT
DTSTART;TZID=America/Detroit:20260312T100000
DTEND;TZID=America/Detroit:20260312T120000
DTSTAMP:20260419T190225
CREATED:20250723T125023Z
LAST-MODIFIED:20250723T125023Z
UID:6486-1773309600-1773316800@miwicevents.com
SUMMARY:Nutrition Education Workgroup – March 12\, 2026
DESCRIPTION:
URL:https://miwicevents.com/event/nutrition-education-workgroup-march-12-2026/
LOCATION:Virtual
END:VEVENT
BEGIN:VEVENT
DTSTART;TZID=America/Detroit:20260310T083000
DTEND;TZID=America/Detroit:20260312T123000
DTSTAMP:20260419T190225
CREATED:20250722T191048Z
LAST-MODIFIED:20250722T191048Z
UID:6426-1773131400-1773318600@miwicevents.com
SUMMARY:Breastfeeding Basics for PC/CPA/Other – March 10-12\, 2026
DESCRIPTION:
URL:https://miwicevents.com/event/breastfeeding-basics-for-pc-cpa-other-march-10-12-2026/
LOCATION:Virtual
END:VEVENT
BEGIN:VEVENT
DTSTART;TZID=America/Detroit:20260310T083000
DTEND;TZID=America/Detroit:20260311T123000
DTSTAMP:20260419T190225
CREATED:20250722T191022Z
LAST-MODIFIED:20250722T191022Z
UID:6425-1773131400-1773232200@miwicevents.com
SUMMARY:Breastfeeding Basics for Clerical and Tech Staff – March 10-11\, 2026
DESCRIPTION:
URL:https://miwicevents.com/event/breastfeeding-basics-for-clerical-and-tech-staff-march-10-11-2026/
LOCATION:Virtual
END:VEVENT
BEGIN:VEVENT
DTSTART;TZID=America/Detroit:20260226T093000
DTEND;TZID=America/Detroit:20260226T110000
DTSTAMP:20260419T190225
CREATED:20260107T144250Z
LAST-MODIFIED:20260107T144250Z
UID:6801-1772098200-1772103600@miwicevents.com
SUMMARY:The New Food Guide – February 26\, 2026
DESCRIPTION:
URL:https://miwicevents.com/event/the-new-food-guide-february-26-2026/
LOCATION:Webcast
END:VEVENT
BEGIN:VEVENT
DTSTART;TZID=America/Detroit:20260219T083000
DTEND;TZID=America/Detroit:20260219T123000
DTSTAMP:20260419T190225
CREATED:20250722T195933Z
LAST-MODIFIED:20250722T195933Z
UID:6475-1771489800-1771504200@miwicevents.com
SUMMARY:Mentors Among Us: The Advanced CPA – February 19\, 2026
DESCRIPTION:
URL:https://miwicevents.com/event/mentors-among-us-the-advanced-cpa-february-19-2026/
LOCATION:Virtual
END:VEVENT
BEGIN:VEVENT
DTSTART;TZID=America/Detroit:20260212T093000
DTEND;TZID=America/Detroit:20260212T103000
DTSTAMP:20260419T190225
CREATED:20250723T125847Z
LAST-MODIFIED:20260202T143853Z
UID:6498-1770888600-1770892200@miwicevents.com
SUMMARY:Removing Barriers Collectively Q and A – February 12\, 2026
DESCRIPTION:
URL:https://miwicevents.com/event/removing-barriers-collectively-q-and-a-february-12-2026/
LOCATION:Webcast
END:VEVENT
BEGIN:VEVENT
DTSTART;TZID=America/Detroit:20260205T093000
DTEND;TZID=America/Detroit:20260205T110000
DTSTAMP:20260419T190225
CREATED:20250620T125710Z
LAST-MODIFIED:20251112T181229Z
UID:6319-1770283800-1770289200@miwicevents.com
SUMMARY:Pediatric Food Allergies – February 5\, 2026
DESCRIPTION:
URL:https://miwicevents.com/event/pediatric-food-allergies-october-2-2025/
LOCATION:Webcast
END:VEVENT
BEGIN:VEVENT
DTSTART;VALUE=DATE:20260205
DTEND;VALUE=DATE:20260206
DTSTAMP:20260419T190225
CREATED:20260202T144209Z
LAST-MODIFIED:20260202T144755Z
UID:6855-1770249600-1770335999@miwicevents.com
SUMMARY:Removing Barriers Collectively (prerecording) – February 5\, 2026
DESCRIPTION:
URL:https://miwicevents.com/event/removing-barriers-collectively-prerecording-february-5-2026/
LOCATION:Webcast
END:VEVENT
BEGIN:VEVENT
DTSTART;TZID=America/Detroit:20260204T083000
DTEND;TZID=America/Detroit:20260205T123000
DTSTAMP:20260419T190225
CREATED:20250722T193538Z
LAST-MODIFIED:20250722T193538Z
UID:6443-1770193800-1770294600@miwicevents.com
SUMMARY:Clerical Training – February 4-5\, 2026
DESCRIPTION:
URL:https://miwicevents.com/event/clerical-training-february-4-5-2026/
LOCATION:Virtual
END:VEVENT
BEGIN:VEVENT
DTSTART;TZID=America/Detroit:20260129T093000
DTEND;TZID=America/Detroit:20260129T110000
DTSTAMP:20260419T190225
CREATED:20251114T135317Z
LAST-MODIFIED:20251114T135317Z
UID:6724-1769679000-1769684400@miwicevents.com
SUMMARY:2026 Management Evaluation – January 29\, 2026
DESCRIPTION:
URL:https://miwicevents.com/event/2026-management-evaluation-january-29-2026/
LOCATION:Webcast
END:VEVENT
BEGIN:VEVENT
DTSTART;TZID=America/Detroit:20260127T083000
DTEND;TZID=America/Detroit:20260128T123000
DTSTAMP:20260419T190225
CREATED:20250722T195056Z
LAST-MODIFIED:20250722T195056Z
UID:6462-1769502600-1769603400@miwicevents.com
SUMMARY:CPA Training – January 27-28\, 2026
DESCRIPTION:
URL:https://miwicevents.com/event/cpa-training-january-27-28-2026/
LOCATION:Virtual
END:VEVENT
BEGIN:VEVENT
DTSTART;TZID=America/Detroit:20260120T083000
DTEND;TZID=America/Detroit:20260122T123000
DTSTAMP:20260419T190225
CREATED:20250722T191004Z
LAST-MODIFIED:20250722T191004Z
UID:6424-1768897800-1769085000@miwicevents.com
SUMMARY:Breastfeeding Basics for PC/CPA/Other – January 20-22\, 2026
DESCRIPTION:
URL:https://miwicevents.com/event/breastfeeding-basics-for-pc-cpa-other-january-20-22-2026/
LOCATION:Virtual
END:VEVENT
BEGIN:VEVENT
DTSTART;TZID=America/Detroit:20260120T083000
DTEND;TZID=America/Detroit:20260121T123000
DTSTAMP:20260419T190225
CREATED:20250722T190951Z
LAST-MODIFIED:20250722T190951Z
UID:6423-1768897800-1768998600@miwicevents.com
SUMMARY:Breastfeeding Basics for Clerical and Tech Staff – January 20-21\, 2026
DESCRIPTION:
URL:https://miwicevents.com/event/breastfeeding-basics-for-clerical-and-tech-staff-january-20-21-2026/
LOCATION:Virtual
END:VEVENT
BEGIN:VEVENT
DTSTART;TZID=America/Detroit:20260116T090000
DTEND;TZID=America/Detroit:20260116T120000
DTSTAMP:20260419T190225
CREATED:20250723T130908Z
LAST-MODIFIED:20250723T130908Z
UID:6504-1768554000-1768564800@miwicevents.com
SUMMARY:Promotion and Retention Workgroup – January 16\, 2026
DESCRIPTION:
URL:https://miwicevents.com/event/promotion-and-retention-workgroup-january-16-2026/
LOCATION:Virtual
END:VEVENT
BEGIN:VEVENT
DTSTART;TZID=America/Detroit:20260109T083000
DTEND;TZID=America/Detroit:20260109T123000
DTSTAMP:20260419T190225
CREATED:20250722T185154Z
LAST-MODIFIED:20250722T185154Z
UID:6417-1767947400-1767961800@miwicevents.com
SUMMARY:Breastfeeding Workgroup – January 9\, 2026
DESCRIPTION:
URL:https://miwicevents.com/event/breastfeeding-workgroup-january-9-2026/
LOCATION:Virtual
END:VEVENT
BEGIN:VEVENT
DTSTART;TZID=America/Detroit:20251218T140000
DTEND;TZID=America/Detroit:20251218T150000
DTSTAMP:20260419T190225
CREATED:20250722T194111Z
LAST-MODIFIED:20250722T194111Z
UID:6452-1766066400-1766070000@miwicevents.com
SUMMARY:Clerk/Tech Workgroup – December 18\, 2025
DESCRIPTION:
URL:https://miwicevents.com/event/clerk-tech-workgroup-december-18-2025/
LOCATION:Virtual
END:VEVENT
BEGIN:VEVENT
DTSTART;TZID=America/Detroit:20251204T093000
DTEND;TZID=America/Detroit:20251204T110000
DTSTAMP:20260419T190225
CREATED:20251112T181345Z
LAST-MODIFIED:20251112T181345Z
UID:6715-1764840600-1764846000@miwicevents.com
SUMMARY:New Food Packages – December 4\, 2025
DESCRIPTION:
URL:https://miwicevents.com/event/new-food-packages-december-4-2025/
LOCATION:Webcast
END:VEVENT
BEGIN:VEVENT
DTSTART;TZID=America/Detroit:20251202T130000
DTEND;TZID=America/Detroit:20251202T140000
DTSTAMP:20260419T190225
CREATED:20250620T135253Z
LAST-MODIFIED:20250620T135253Z
UID:6327-1764680400-1764684000@miwicevents.com
SUMMARY:WIC Connect Platform Training (1 pm) – December 2\, 2025
DESCRIPTION:
URL:https://miwicevents.com/event/wic-connect-platform-training-1-pm-december-2-2025/
LOCATION:Virtual
END:VEVENT
END:VCALENDAR