BEGIN:VCALENDAR
VERSION:2.0
PRODID:-//MI WIC Events - ECPv6.15.15//NONSGML v1.0//EN
CALSCALE:GREGORIAN
METHOD:PUBLISH
X-WR-CALNAME:MI WIC Events
X-ORIGINAL-URL:https://miwicevents.com
X-WR-CALDESC:Events for MI WIC Events
REFRESH-INTERVAL;VALUE=DURATION:PT1H
X-Robots-Tag:noindex
X-PUBLISHED-TTL:PT1H
BEGIN:VTIMEZONE
TZID:America/Detroit
BEGIN:DAYLIGHT
TZOFFSETFROM:-0500
TZOFFSETTO:-0400
TZNAME:EDT
DTSTART:20190310T070000
END:DAYLIGHT
BEGIN:STANDARD
TZOFFSETFROM:-0400
TZOFFSETTO:-0500
TZNAME:EST
DTSTART:20191103T060000
END:STANDARD
BEGIN:DAYLIGHT
TZOFFSETFROM:-0500
TZOFFSETTO:-0400
TZNAME:EDT
DTSTART:20200308T070000
END:DAYLIGHT
BEGIN:STANDARD
TZOFFSETFROM:-0400
TZOFFSETTO:-0500
TZNAME:EST
DTSTART:20201101T060000
END:STANDARD
BEGIN:DAYLIGHT
TZOFFSETFROM:-0500
TZOFFSETTO:-0400
TZNAME:EDT
DTSTART:20210314T070000
END:DAYLIGHT
BEGIN:STANDARD
TZOFFSETFROM:-0400
TZOFFSETTO:-0500
TZNAME:EST
DTSTART:20211107T060000
END:STANDARD
BEGIN:DAYLIGHT
TZOFFSETFROM:-0500
TZOFFSETTO:-0400
TZNAME:EDT
DTSTART:20220313T070000
END:DAYLIGHT
BEGIN:STANDARD
TZOFFSETFROM:-0400
TZOFFSETTO:-0500
TZNAME:EST
DTSTART:20221106T060000
END:STANDARD
END:VTIMEZONE
BEGIN:VEVENT
DTSTART;TZID=America/Detroit:20210225T093000
DTEND;TZID=America/Detroit:20210225T120000
DTSTAMP:20260419T203418
CREATED:20201113T192133Z
LAST-MODIFIED:20201119T150954Z
UID:1437-1614245400-1614254400@miwicevents.com
SUMMARY:WIC Hemoglobin Webcast - February 25\, 2021
DESCRIPTION:
URL:https://miwicevents.com/event/wic-hemoglobin-webcast-february-24-2021/
LOCATION:Webcast
END:VEVENT
BEGIN:VEVENT
DTSTART;TZID=America/Detroit:20210217T130000
DTEND;TZID=America/Detroit:20210217T150000
DTSTAMP:20260419T203418
CREATED:20200820T193159Z
LAST-MODIFIED:20200820T193159Z
UID:1055-1613566800-1613574000@miwicevents.com
SUMMARY:Regional Vendor Forum (Central Michigan) – October 14\, 2020
DESCRIPTION:
URL:https://miwicevents.com/event/regional-vendor-forum-central-michigan-october-14-2020/
LOCATION:Virtual
END:VEVENT
BEGIN:VEVENT
DTSTART;TZID=America/Detroit:20210217T100000
DTEND;TZID=America/Detroit:20210217T150000
DTSTAMP:20260419T203418
CREATED:20200807T145207Z
LAST-MODIFIED:20200807T145207Z
UID:815-1613556000-1613574000@miwicevents.com
SUMMARY:Anthropometric Training – February 17\, 2021
DESCRIPTION:
URL:https://miwicevents.com/event/anthropometric-training-february-17-2021/
LOCATION:Virtual
END:VEVENT
BEGIN:VEVENT
DTSTART;TZID=America/Detroit:20210216T100000
DTEND;TZID=America/Detroit:20210216T150000
DTSTAMP:20260419T203418
CREATED:20200807T145643Z
LAST-MODIFIED:20200807T145643Z
UID:824-1613469600-1613487600@miwicevents.com
SUMMARY:Laboratory Training – February 16\, 2021
DESCRIPTION:
URL:https://miwicevents.com/event/laboratory-training-february-16-2021/
LOCATION:Virtual
END:VEVENT
BEGIN:VEVENT
DTSTART;TZID=America/Detroit:20210204T093000
DTEND;TZID=America/Detroit:20210204T120000
DTSTAMP:20260419T203418
CREATED:20200929T170833Z
LAST-MODIFIED:20200929T170833Z
UID:1232-1612431000-1612440000@miwicevents.com
SUMMARY:WIC Management Evaluation Webcast - February 4\, 2021
DESCRIPTION:
URL:https://miwicevents.com/event/wic-management-evaluation-webcast-february-4-2021/
LOCATION:Webcast
END:VEVENT
BEGIN:VEVENT
DTSTART;TZID=America/Detroit:20210127T100000
DTEND;TZID=America/Detroit:20210128T150000
DTSTAMP:20260419T203418
CREATED:20200807T151148Z
LAST-MODIFIED:20200807T151148Z
UID:845-1611741600-1611846000@miwicevents.com
SUMMARY:CPA Training – January 27-28\, 2021
DESCRIPTION:
URL:https://miwicevents.com/event/cpa-training-january-27-28-2021/
LOCATION:Virtual
END:VEVENT
BEGIN:VEVENT
DTSTART;TZID=America/Detroit:20210113T083000
DTEND;TZID=America/Detroit:20210114T123000
DTSTAMP:20260419T203418
CREATED:20200807T154930Z
LAST-MODIFIED:20200807T154930Z
UID:867-1610526600-1610627400@miwicevents.com
SUMMARY:Breastfeeding Basics – January 13-14\, 2021
DESCRIPTION:
URL:https://miwicevents.com/event/breastfeeding-basics-january-13-14-2021/
LOCATION:Virtual
END:VEVENT
BEGIN:VEVENT
DTSTART;TZID=America/Detroit:20210112T083000
DTEND;TZID=America/Detroit:20210112T123000
DTSTAMP:20260419T203418
CREATED:20200807T153013Z
LAST-MODIFIED:20200807T153013Z
UID:864-1610440200-1610454600@miwicevents.com
SUMMARY:Breastfeeding Basics for Clerical and Tech Staff – January 12\, 2021
DESCRIPTION:
URL:https://miwicevents.com/event/breastfeeding-basics-for-clerical-and-tech-staff-january-12-2021/
LOCATION:Virtual
END:VEVENT
BEGIN:VEVENT
DTSTART;TZID=America/Detroit:20201215T140000
DTEND;TZID=America/Detroit:20201215T160000
DTSTAMP:20260419T203418
CREATED:20200807T174506Z
LAST-MODIFIED:20200807T185922Z
UID:876-1608040800-1608048000@miwicevents.com
SUMMARY:Pharmacy Webcast - December 15\, 2020
DESCRIPTION:
URL:https://miwicevents.com/event/pharmacy-webcast-december-15-2020/
LOCATION:Webcast
END:VEVENT
BEGIN:VEVENT
DTSTART;TZID=America/Detroit:20201211T084500
DTEND;TZID=America/Detroit:20201211T130000
DTSTAMP:20260419T203418
CREATED:20200807T184122Z
LAST-MODIFIED:20201109T192316Z
UID:900-1607676300-1607691600@miwicevents.com
SUMMARY:Breastfeeding Coordinator Training - December 11\, 2020
DESCRIPTION:
URL:https://miwicevents.com/event/breastfeeding-coordinator-training-december-11-2020/
LOCATION:Virtual
END:VEVENT
BEGIN:VEVENT
DTSTART;TZID=America/Detroit:20201209T130000
DTEND;TZID=America/Detroit:20201209T150000
DTSTAMP:20260419T203418
CREATED:20200820T193101Z
LAST-MODIFIED:20200820T193101Z
UID:1053-1607518800-1607526000@miwicevents.com
SUMMARY:Regional Vendor Forum (Northern Lower Peninsula) – December 9\, 2020
DESCRIPTION:
URL:https://miwicevents.com/event/regional-vendor-forum-northern-lower-peninsula-december-9-2020/
LOCATION:Virtual
END:VEVENT
BEGIN:VEVENT
DTSTART;TZID=America/Detroit:20201208T140000
DTEND;TZID=America/Detroit:20201208T160000
DTSTAMP:20260419T203418
CREATED:20200807T155711Z
LAST-MODIFIED:20200807T174555Z
UID:872-1607436000-1607443200@miwicevents.com
SUMMARY:Vendor Webcast - December 8\, 2020
DESCRIPTION:
URL:https://miwicevents.com/event/vendor-webcast-december-8-2020/
LOCATION:Webcast
END:VEVENT
BEGIN:VEVENT
DTSTART;TZID=America/Detroit:20201204T090000
DTEND;TZID=America/Detroit:20201204T120000
DTSTAMP:20260419T203418
CREATED:20201001T145141Z
LAST-MODIFIED:20201124T140351Z
UID:1244-1607072400-1607083200@miwicevents.com
SUMMARY:Milk Expression – December 4\, 2020
DESCRIPTION:
URL:https://miwicevents.com/event/milk-expression-december-4-2020/
LOCATION:Virtual
END:VEVENT
BEGIN:VEVENT
DTSTART;TZID=America/Detroit:20201203T100000
DTEND;TZID=America/Detroit:20201203T150000
DTSTAMP:20260419T203418
CREATED:20200825T155620Z
LAST-MODIFIED:20210402T123542Z
UID:1105-1606989600-1607007600@miwicevents.com
SUMMARY:Regional Peer Counselor Training (North Central Region) – December 3\, 2020
DESCRIPTION:
URL:https://miwicevents.com/event/regional-peer-counselor-training-north-central-region-december-3-2020/
LOCATION:Virtual
END:VEVENT
BEGIN:VEVENT
DTSTART;TZID=America/Detroit:20201201T100000
DTEND;TZID=America/Detroit:20201201T150000
DTSTAMP:20260419T203418
CREATED:20200825T155238Z
LAST-MODIFIED:20210402T123551Z
UID:1103-1606816800-1606834800@miwicevents.com
SUMMARY:Regional Peer Counselor Training (U.P./Northern Region) – December 1\, 2020
DESCRIPTION:
URL:https://miwicevents.com/event/regional-peer-counselor-training-u-p-northern-region-december-1-2020/
LOCATION:Virtual
END:VEVENT
BEGIN:VEVENT
DTSTART;TZID=America/Detroit:20201118T100000
DTEND;TZID=America/Detroit:20201119T150000
DTSTAMP:20260419T203418
CREATED:20200807T150020Z
LAST-MODIFIED:20200807T150020Z
UID:832-1605693600-1605798000@miwicevents.com
SUMMARY:Clerical Training – November 18-19\, 2020
DESCRIPTION:
URL:https://miwicevents.com/event/clerical-training-november-18-19-2020/
LOCATION:Virtual
END:VEVENT
BEGIN:VEVENT
DTSTART;TZID=America/Detroit:20201118T083000
DTEND;TZID=America/Detroit:20201119T123000
DTSTAMP:20260419T203418
CREATED:20200807T152738Z
LAST-MODIFIED:20200807T152738Z
UID:861-1605688200-1605789000@miwicevents.com
SUMMARY:Breastfeeding Basics – November 18-19\, 2020
DESCRIPTION:
URL:https://miwicevents.com/event/breastfeeding-basics-november-18-19-2020/
LOCATION:Virtual
END:VEVENT
BEGIN:VEVENT
DTSTART;TZID=America/Detroit:20201117T083000
DTEND;TZID=America/Detroit:20201117T123000
DTSTAMP:20260419T203418
CREATED:20200807T152547Z
LAST-MODIFIED:20200807T152637Z
UID:858-1605601800-1605616200@miwicevents.com
SUMMARY:Breastfeeding Basics for Clerical and Tech Staff – November 17\, 2020
DESCRIPTION:
URL:https://miwicevents.com/event/breastfeeding-basics-for-clerical-and-tech-staff-november-17-2020/
LOCATION:Virtual
END:VEVENT
BEGIN:VEVENT
DTSTART;TZID=America/Detroit:20201113T100000
DTEND;TZID=America/Detroit:20201113T150000
DTSTAMP:20260419T203418
CREATED:20200824T194721Z
LAST-MODIFIED:20210402T123556Z
UID:1098-1605261600-1605279600@miwicevents.com
SUMMARY:Regional Peer Counselor Training (South Central and Metro Detroit Regions) – November 13\, 2020
DESCRIPTION:
URL:https://miwicevents.com/event/regional-peer-counselor-training-south-central-region-november-13-2020/
LOCATION:Virtual
END:VEVENT
BEGIN:VEVENT
DTSTART;TZID=America/Detroit:20201112T100000
DTEND;TZID=America/Detroit:20201112T150000
DTSTAMP:20260419T203418
CREATED:20200824T194506Z
LAST-MODIFIED:20210402T123602Z
UID:1096-1605175200-1605193200@miwicevents.com
SUMMARY:Regional Peer Counselor Training (Southwest Region) – November 12\, 2020
DESCRIPTION:
URL:https://miwicevents.com/event/regional-peer-counselor-training-southwest-region-november-12-2020/
LOCATION:Virtual
END:VEVENT
BEGIN:VEVENT
DTSTART;TZID=America/Detroit:20201104T100000
DTEND;TZID=America/Detroit:20201105T150000
DTSTAMP:20260419T203418
CREATED:20200807T151052Z
LAST-MODIFIED:20200807T151052Z
UID:843-1604484000-1604588400@miwicevents.com
SUMMARY:CPA Training – November 4-5\, 2020
DESCRIPTION:
URL:https://miwicevents.com/event/cpa-training-november-4-5-2020/
LOCATION:Virtual
END:VEVENT
BEGIN:VEVENT
DTSTART;VALUE=DATE:20201027
DTEND;VALUE=DATE:20201029
DTSTAMP:20260419T203418
CREATED:20200619T143352Z
LAST-MODIFIED:20200619T143352Z
UID:590-1603756800-1603929599@miwicevents.com
SUMMARY:Coordinator Summit - October 27-28\, 2020
DESCRIPTION:
URL:https://miwicevents.com/event/coordinator-summit-october-27-28-2020/
LOCATION:Virtual
END:VEVENT
BEGIN:VEVENT
DTSTART;TZID=America/Detroit:20201026T100000
DTEND;TZID=America/Detroit:20201026T150000
DTSTAMP:20260419T203418
CREATED:20200807T151844Z
LAST-MODIFIED:20200807T151844Z
UID:855-1603706400-1603724400@miwicevents.com
SUMMARY:Record Review Training – October 26\, 2020
DESCRIPTION:
URL:https://miwicevents.com/event/record-review-training-october-26-2020/
LOCATION:Virtual
END:VEVENT
BEGIN:VEVENT
DTSTART;TZID=America/Detroit:20201022T100000
DTEND;TZID=America/Detroit:20201022T150000
DTSTAMP:20260419T203418
CREATED:20200807T145518Z
LAST-MODIFIED:20200807T145518Z
UID:822-1603360800-1603378800@miwicevents.com
SUMMARY:Laboratory Training – October 22\, 2020
DESCRIPTION:
URL:https://miwicevents.com/event/laboratory-training-october-22-2020/
LOCATION:Virtual
END:VEVENT
BEGIN:VEVENT
DTSTART;TZID=America/Detroit:20201021T100000
DTEND;TZID=America/Detroit:20201021T150000
DTSTAMP:20260419T203418
CREATED:20200807T145039Z
LAST-MODIFIED:20200807T145039Z
UID:812-1603274400-1603292400@miwicevents.com
SUMMARY:Anthropometric Training – October 21\, 2020
DESCRIPTION:
URL:https://miwicevents.com/event/anthropometric-training-october-21-2020/
LOCATION:Virtual
END:VEVENT
BEGIN:VEVENT
DTSTART;TZID=America/Detroit:20201019T080000
DTEND;TZID=America/Detroit:20201023T173000
DTSTAMP:20260419T203418
CREATED:20200619T144751Z
LAST-MODIFIED:20201014T171345Z
UID:604-1603094400-1603474200@miwicevents.com
SUMMARY:Certified Lactation Specialist (CLS) - October 19-23\, 2020
DESCRIPTION:
URL:https://miwicevents.com/event/certified-lactation-specialist-cls-october-19-23-2020/
LOCATION:Virtual
END:VEVENT
BEGIN:VEVENT
DTSTART;TZID=America/Detroit:20201014T130000
DTEND;TZID=America/Detroit:20201014T150000
DTSTAMP:20260419T203418
CREATED:20200820T192806Z
LAST-MODIFIED:20200820T192848Z
UID:1050-1602680400-1602687600@miwicevents.com
SUMMARY:Regional Vendor Forum (Upper Peninsula) – October 14\, 2020
DESCRIPTION:
URL:https://miwicevents.com/event/regional-vendor-forum-upper-peninsula-october-14-2020/
LOCATION:Virtual
END:VEVENT
BEGIN:VEVENT
DTSTART;TZID=America/Detroit:20201014T100000
DTEND;TZID=America/Detroit:20201015T150000
DTSTAMP:20260419T203418
CREATED:20200807T145926Z
LAST-MODIFIED:20200807T145926Z
UID:830-1602669600-1602774000@miwicevents.com
SUMMARY:Clerical Training – October 14-15\, 2020
DESCRIPTION:
URL:https://miwicevents.com/event/clerical-training-october-14-15-2020/
LOCATION:Virtual
END:VEVENT
BEGIN:VEVENT
DTSTART;TZID=America/Detroit:20201002T094500
DTEND;TZID=America/Detroit:20201002T130000
DTSTAMP:20260419T203418
CREATED:20200824T194211Z
LAST-MODIFIED:20210402T123359Z
UID:1094-1601631900-1601643600@miwicevents.com
SUMMARY:Peer Counselor Manager Training – October 2\, 2020
DESCRIPTION:
URL:https://miwicevents.com/event/peer-counselor-manager-training-october-2-2020/
LOCATION:Virtual
END:VEVENT
BEGIN:VEVENT
DTSTART;TZID=America/Detroit:20200929T100000
DTEND;TZID=America/Detroit:20200929T150000
DTSTAMP:20260419T203418
CREATED:20200724T145941Z
LAST-MODIFIED:20200724T145941Z
UID:773-1601373600-1601391600@miwicevents.com
SUMMARY:Advanced CPA – September 29\, 2020
DESCRIPTION:
URL:https://miwicevents.com/event/advanced-cpa-september-29-2020/
LOCATION:Virtual
END:VEVENT
END:VCALENDAR